Workbook
Name ISI: 'Calcs-control1'!$A$4
Name ISI: 'Calcs-control2'!$A$4
Name ISI: 'Calcs-control3'!$A$4
Name ISI: 'Calcs-control4'!$A$4
Name ISI: #REF!

Sheet Notes
A1: FBP Graph 3.0
A3: General Information
A4: - Graphs are best viewed in Full Screen mode (select View/Full Screen)
A5: - Curve shapes may give slightly misleading inflection points, asymptotes, etc. (curves are drawn using the default MS Excel
A6: smoothing function between points and are not exact curves); the issue will be negligible for most users.
A7: - Resolution and accuracy of graph outputs is assumed to be +/- 1 km/h of wind speed and 1 ISI unit.
A9: Notes - Rate of Spread (ROS) Graph:
A10: - Graphs show the head fire rate of spread (ROS) for different FBP fuel types.
A11: - The Fire Type check box, when selected, shows the position of the following points:
A12: ● | B12: - Transition point from Surface to Intermittent crown fire (defined as Crown Fraction Burned of 10%)
A13: ♦ | B13: - Mid-point of Intermittent Crown Fire (50% Crown Fraction Burned)
A14: ■ | B14: - Continuous Crown fire transition point (defined as Crown Fraction Burned of 90%)
A15: - If Fire Type box is selected but no symbols appear on the output line, a surface fire is predicted under all conditions
A16: - Fire type is always surface fire (no symbol shown) for non-conifer fuel types: D-1, D-2, O-1a/b, S-1, S-2, S-3, regardless of whether Fire Type is checked or not.
A17: - The fuel type modifier (M) drop-down box appears for certain fuel types, representing the following parameters:
B18: M-1 & M-2 | C18: → | D18: % Conifer
B19: O-1a & O-1b | C19: → | D19: % cured
B20: M-3 & M-4 | C20: → | D20: % Dead balsam fir
A21: - The modifier value disappears for other fuel types.
A23: - BUI value affects ROS for all fuel types except grass types (O-1a and O-1b); however, the BUI effect on ROS is quite small for some fuel types (e.g. D2).
A24: - If standard daily BUI is unknown or suspect, select 'Std/No ROS effect'. This calculates ROS without the influence of the BUI effect (BE = 1); and
A25: calculates HFI using the following BUI values as constants (see Taylor et al. 1997, Forestry Canada Fire Danger Group 1992):
B26: C-1: | C26: 72 | E26: C-7: | F26: 106 | I26: M-4: | J26: 50
B27: C-2: | C27: 64 | E27: D-1: | F27: 32 | I27: S-1: | J27: 38
B28: C-3: | C28: 62 | E28: D-2: | F28: 32 | I28: S-2: | J28: 63
B29: C-4: | C29: 66 | E29: M-1: | F29: 50 | I29: S-3: | J29: 31
B30: C-5: | C30: 56 | E30: M-2: | F30: 50
B31: C-6: | C31: 62 | E31: M-3: | F31: 50
A33: - For the C-6 fuel type, CBH (Crown Base Height) can be modified to change the rate of crowning; this affects ROS as well as HFI
A34: - FMC (Foliar Moisture Content, % water by weight) also affects ROS for the C-6 fuel type.
A35: - For the D-2 fuel type, ROS and Headfire intensity are both zero when BUI is below 70 (as suggested by Alexander 2010).
A37: Notes - Head Fire Intensity graph (Intensity):
A38: - BUI value affects intensity for all fuel type except grass types (O-1a and O-1b).
A39: - FMC affects intensity (very slightly) for most fuel types; the effect is much greater for C-6, as crown fire is modeled differently in this fuel type.
A40: - Grass fuel load (GFL) is the only variable (other than ISI or wind speed) in this graph that affects head fire intensity for the O-1a and O-1b fuel types.
A41: - The default GFL value suggested in the GLC-X-10 report (Wotton et al. 2009) is 3.5 t/ha, based on the original Australian fire behaviour dataset,
A42: (Cheney et al. 1993), supplemented with more recent measurements in northern Alberta, New Zealand, and elsewhere.
A43: - For the D-2 fuel type, ROS and Headfire intensity are both zero when BUI is below 70 (as suggested by Alexander 2010).
A44: - FFMC (which affects fuel consumption for the C-1 and C-7 fuel types, only slightly) is set at 91 for the purposes of intensity calculations when ISI (not wind speed) is
A45: selected; when wind speed is selected, user-selected FFMC is used.
...

Sheet About
A1: FBP Fuel Type Graphing Tool
A2: v. 3.0, February 2016
A3: by Daniel Perrakis, Ph.D., Fire Science Officer,
A4: BC Wildfire Service, Ministry of Forests, Lands, and Natural Resource Operations
A5: Contact: | B5: Daniel.Perrakis@gov.bc.ca
B6: dperrakis@gmail.com
A7: Comments, corrections, and suggestions are welcome.
A9: Citation:
A10: Perrakis, D.D.B. 2016. FBP Fuel Type Graphing Tool [software application]. Available online:
A14: Version Notes:
A15: V3.0 (beta), February 2016
A17: - v3.0 - Major changes - all calculations from ISI/Wind speed intervals of 2.5 down to intervals of 1; added Fire type check box and functionality
A18: - v2.11 - fixed error in Control2 that miscalculated moisture content using old FFMC equation
A19: - New for v2.1 - BUI effect on Rate of Spread can be 'turned off'; in the BUI drop-down, select 'Std/No ROS effect' to make the BUI effect = 1 for
A20: all fuel types (uses BUI=BUIo for ROS calculations; BUI is still used to calculate fuel consumption). Note that standard BUI values will then be used for HFI
A21: calculations, and this may be slightly misleading when comparing different fuel types. For example, when 'Std/No ROS effect' is selected, comparing HFI
A22: between C5 and C7 will show HFI for C5 at BUI=56 and HFI for C7 at BUI=106. Recall that the BUI effect on ROS has not been found to be statistically significant
A23: (Forestry Canada Fire Danger Group 1992).
... A40: Forestry Canada Fire Danger Group. 1992. Development and structure of the Canadian Forest Fire Behaviour Prediction System. Information Report
A41: ST-X-3. Science and Sustainable Development Directorate, Forestry Canada. Ottawa, ON. | J41: http://cfs.nrcan.gc.ca/pubwarehouse/pdfs/10068.pdf
A43: Taylor, S.W., R.G. Pike, and M.E. Alexander. 1997. Field Guide to the Canadian Forest Fire Behaviour Prediction System. Special Report 11. Fire
A44: Management Network, Canadian Forest Service, Northern Forestry Centre. Edmonton, AB. | J44: https://www.frames.gov/documents/catalog/taylor_pike_alexander_1997.pdf
A46: Wotton, B.M., M.E. Alexander, S.W. Taylor. 2009. Updates and revisions to the 1992 Canadian Forest Fire Behaviour Prediction System.
A47: Information Report GLC-X-10. Natural Resources Canada, Canadian Forest Service, Great Lakes Forestry Centre. Sault Ste. Marie, ON.

Sheet Graph-outputs
C1: Control 1: | D1: 6 | AK1: Control 2 | AL1: 2 | BS1: Control 3 | BT1: 13 | DA1: Control 4 | DB1: 19
J2: =D1 -> 6 | Q2: =D1 -> 6 | X2: =D1 -> 6 | AE2: =D1 -> 6 | AR2: =AL1 -> 2 | AY2: =AL1 -> 2 | BF2: =AL1 -> 2 | BM2: =AL1 -> 2 | BZ2: =BT1 -> 13 | CG2: =BT1 -> 13 | CN2: =BT1 -> 13 | CU2: =BT1 -> 13 | DH2: =DB1 -> 19 | DO2: =DB1 -> 19 | DV2: =DB1 -> 19 | EC2: =DB1 -> 19
A3: ISI/WS | B3: Index | C3: ROS output | E3: HFI output | G3: IC | H3: CFB0.5 | I3: CC | J3: ROS/ISI | K3: ISI | L3: CFB | N3: IC | O3: CFB0.5 | P3: CC | Q3: ROS/WS | R3: WS | S3: CFB | U3: IC | V3: CFB0.5 | W3: CC | X3: HFI/ISI | Y3: ISI | Z3: CFB | AB3: IC | AC3: CFB0.5 | AD3: CC | AE3: HFI/WS | AF3: WS | AG3: CFB | AJ3: ISI/WS | AK3: ROS output | AM3: HFI output | AO3: IC | AP3: CFB0.5 | AQ3: CC | AR3: ROS/ISI | AS3: ISI | AT3: CFB | AV3: IC | AW3: CFB0.5 | AX3: CC | AY3: ROS/WS | AZ3: WS | BA3: CFB | BC3: IC | BD3: CFB0.5 | BE3: CC | BF3: HFI/ISI | BG3: ISI | BH3: CFB | BJ3: IC | BK3: CFB0.5 | BL3: CC | BM3: HFI/WS | BN3: WS | BO3: CFB | BR3: ISI/WS | BS3: ROS output | BU3: HFI output | BW3: IC | BX3: CFB0.5 | BY3: CC | BZ3: ROS/ISI | CA3: ISI | CB3: CFB | CD3: IC | CE3: CFB0.5 | CF3: CC | CG3: ROS/WS | CH3: WS | CI3: CFB | CK3: IC | CL3: CFB0.5 | CM3: CC | CN3: HFI/ISI | CO3: ISI | CP3: CFB | CR3: IC | CS3: CFB0.5 | CT3: CC | CU3: HFI/WS | CV3: WS | CW3: CFB | CZ3: ISI/WS | DA3: ROS output | DC3: HFI output | DE3: IC | DF3: CFB0.5 | DG3: CC | DH3: ROS/ISI | DI3: ISI | DJ3: CFB | DL3: IC | DM3: CFB0.5 | DN3: CC | DO3: ROS/WS | DP3: WS | DQ3: CFB | DS3: IC | DT3: CFB0.5 | DU3: CC | DV3: HFI/ISI | DW3: ISI | DX3: CFB | DZ3: IC | EA3: CFB0.5 | EB3: CC | EC3: HFI/WS | ED3: WS | EE3: CFB
A4: 0 | B4: 1 | C4: =IF(Settings!$N$5=1, 'Graph-outputs'!$J4, 'Graph-outputs'!$Q4) -> 0 | E4: =IF(Settings!$N$5=1, 'Graph-outputs'!$X4, 'Graph-outputs'!$AE4) -> 0 | G4: =IF(AND(ROUND(L4, 1)>=0.1, L3<0.1), 10, "") | H4: =IF(AND(ROUND(L4, 1)>=0.5, L3<0.5), 50, "") | I4: =IF(AND(ROUND(L4, 1)>=0.9, L3<0.9), 90, "") | J4: =INDEX('Calcs-control1'!$G$86:$X$156, 'Graph-outputs'!$B4, 'Graph-outputs'!J$2) -> 0 | K4: 0 | L4: =INDEX('Calcs-control1'!$G$170:$X$240, 'Graph-outputs'!$B4, 'Graph-outputs'!$D$1) -> 0 | N4: =IF(AND(ROUND(S4, 1)>=0.1, S3<0.1), 10, "") | O4: =IF(AND(ROUND(S4, 1)>=0.5, S3<0.5), 50, "") | P4: =IF(AND(ROUND(S4, 1)>=0.9, S3<0.9), 90, "") | Q4: =INDEX('Calcs-control1'!$AH$86:$AY$156, 'Graph-outputs'!$B4, 'Graph-outputs'!Q$2) -> 1.0554912 | R4: 0 | S4: =INDEX('Calcs-control1'!$AH$170:$AY$240, 'Graph-outputs'!$B4, 'Graph-outputs'!$Q$2) -> 0 | U4: =IF(AND(ROUND(Z4, 1)>=0.1, Z3<0.1), 10, "") | V4: =IF(AND(ROUND(Z4, 1)>=0.5, Z3<0.5), 50, "") | W4: =IF(AND(ROUND(Z4, 1)>=0.9, Z3<0.9), 90, "") | X4: =INDEX('Calcs-control1'!$G$386:$X$456, 'Graph-outputs'!$B4, 'Graph-outputs'!X$2) -> 0 | Y4: 0 | Z4: =INDEX('Calcs-control1'!$G$170:$X$240, 'Graph-outputs'!$B4, 'Graph-outputs'!$J$2) -> 0 | AB4: =IF(AND(ROUND(AG4, 1)>=0.1, AG3<0.1), 10, "") | AC4: =IF(AND(ROUND(AG4, 1)>=0.5, AG3<0.5), 50, "") | AD4: =IF(AND(ROUND(AG4, 1)>=0.9, AG3<0.9), 90, "") | AE4: =INDEX('Calcs-control1'!$AH$386:$AY$456, 'Graph-outputs'!$B4, 'Graph-outputs'!AE$2) -> 484.48629 | AF4: 0 | AG4: =INDEX('Calcs-control1'!$AH$170:$AY$240, 'Graph-outputs'!$B4, 'Graph-outputs'!$Q$2) -> 0 | AJ4: 0 | AK4: =IF(Settings!$N$5=1, 'Graph-outputs'!$AR4, 'Graph-outputs'!$AY4) -> 0 | AM4: =IF(Settings!$N$5=1, 'Graph-outputs'!$BF4, 'Graph-outputs'!$BM4) -> 0 | AO4: =IF(AND(ROUND(AT4, 1)>=0.1, AT3<0.1), 10, "") | AP4: =IF(AND(ROUND(AT4, 1)>=0.5, AT3<0.5), 50, "") | AQ4: =IF(AND(ROUND(AT4, 1)>=0.9, AT3<0.9), 90, "") | AR4: =INDEX('Calcs-control2'!$G$86:$X$156, 'Graph-outputs'!$B4, 'Graph-outputs'!AR$2) -> 0 | AS4: 0 | AT4: =INDEX('Calcs-control2'!$G$170:$X$240, 'Graph-outputs'!$B4, 'Graph-outputs'!$AL$1) -> 0 | AV4: =IF(AND(ROUND(BA4, 1)>=0.1, BA3<0.1), 10, "") | AW4: =IF(AND(ROUND(BA4, 1)>=0.5, BA3<0.5), 50, "") | AX4: =IF(AND(ROUND(BA4, 1)>=0.9, BA3<0.9), 90, "") | AY4: =INDEX('Calcs-control2'!$AH$86:$AY$156, 'Graph-outputs'!$B4, 'Graph-outputs'!AY$2) -> 5.1890576 | AZ4: 0 | BA4: =INDEX('Calcs-control2'!$AH$170:$AY$240, 'Graph-outputs'!$B4, 'Graph-outputs'!$AL$1) -> 0.6125772 | BC4: =IF(AND(ROUND(BH4, 1)>=0.1, BH3<0.1), 10, "") | BD4: =IF(AND(ROUND(BH4, 1)>=0.5, BH3<0.5), 50, "") | BE4: =IF(AND(ROUND(BH4, 1)>=0.9, BH3<0.9), 90, "") | BF4: =INDEX('Calcs-control2'!$G$386:$X$456, 'Graph-outputs'!$B4, 'Graph-outputs'!BF$2) -> 0 | BG4: 0 | BH4: =INDEX('Calcs-control2'!$G$170:$X$240, 'Graph-outputs'!$B4, 'Graph-outputs'!$AL$1) -> 0 | BJ4: =IF(AND(ROUND(BO4, 1)>=0.1, BO3<0.1), 10, "") | BK4: =IF(AND(ROUND(BO4, 1)>=0.5, BO3<0.5), 50, "") | BL4: =IF(AND(ROUND(BO4, 1)>=0.9, BO3<0.9), 90, "") | BM4: =INDEX('Calcs-control2'!$AH$386:$AY$456, 'Graph-outputs'!$B4, 'Graph-outputs'!BM$2) -> 4860.5649 | BN4: 0 | BO4: =INDEX('Calcs-control2'!$AH$170:$AY$240, 'Graph-outputs'!$B4, 'Graph-outputs'!$AL$1) -> 0.6125772 | BR4: 0 | BS4: =IF(Settings!$N$5=1, 'Graph-outputs'!$BZ4, 'Graph-outputs'!$CG4) -> 0 | BU4: =IF(Settings!$N$5=1, 'Graph-outputs'!$CN4, 'Graph-outputs'!$CU4) -> 0 | BW4: =IF(AND(ROUND(CB4, 1)>=0.1, CB3<0.1), 10, "") | BX4: =IF(AND(ROUND(CB4, 1)>=0.5, CB3<0.5), 50, "") | BY4: =IF(AND(ROUND(CB4, 1)>=0.9, CB3<0.9), 90, "") | BZ4: =INDEX('Calcs-control3'!$G$86:$X$156, 'Graph-outputs'!$B4, 'Graph-outputs'!BZ$2) -> 0 | CA4: 0 | CB4: =INDEX('Calcs-control3'!$G$170:$X$240, 'Graph-outputs'!$B4, 'Graph-outputs'!$BT$1) -> 0 | CD4: =IF(AND(ROUND(CI4, 1)>=0.1, CI3<0.1), 10, "") | CE4: =IF(AND(ROUND(CI4, 1)>=0.5, CI3<0.5), 50, "") | CF4: =IF(AND(ROUND(CI4, 1)>=0.9, CI3<0.9), 90, "") | CG4: =INDEX('Calcs-control3'!$AH$86:$AY$156, 'Graph-outputs'!$B4, 'Graph-outputs'!CG$2) -> 3.7128172 | CH4: 0 | CI4: =INDEX('Calcs-control2'!$AH$170:$AY$240, 'Graph-outputs'!$B4, 'Graph-outputs'!$BT$1) -> 0 | CK4: =IF(AND(ROUND(CP4, 1)>=0.1, CP3<0.1), 10, "") | CL4: =IF(AND(ROUND(CP4, 1)>=0.5, CP3<0.5), 50, "") | CM4: =IF(AND(ROUND(CP4, 1)>=0.9, CP3<0.9), 90, "") | CN4: =INDEX('Calcs-control3'!$G$386:$X$456, 'Graph-outputs'!$B4, 'Graph-outputs'!CN$2) -> 0 | CO4: 0 | CP4: =INDEX('Calcs-control2'!$G$170:$X$240, 'Graph-outputs'!$B4, 'Graph-outputs'!$BT$1) -> 0 | CR4: =IF(AND(ROUND(CW4, 1)>=0.1, CW3<0.1), 10, "") | CS4: =IF(AND(ROUND(CW4, 1)>=0.5, CW3<0.5), 50, "") | CT4: =IF(AND(ROUND(CW4, 1)>=0.9, CW3<0.9), 90, "") | CU4: =INDEX('Calcs-control3'!$AH$386:$AY$456, 'Graph-outputs'!$B4, 'Graph-outputs'!CU$2) -> 389.84581 | CV4: 0 | CW4: =INDEX('Calcs-control2'!$AH$170:$AY$240, 'Graph-outputs'!$B4, 'Graph-outputs'!$BT$1) -> 0 | CZ4: 0 | DA4: =IF(Settings!$N$5=1, 'Graph-outputs'!$DH4, 'Graph-outputs'!$DO4) -> #REF! | DC4: =IF(Settings!$N$5=1, 'Graph-outputs'!$DV4, 'Graph-outputs'!$EC4) -> #REF! | DE4: =IF(AND(ROUND(DJ4, 1)>=0.1, DJ3<0.1), 10, "") -> #REF! | DF4: =IF(AND(ROUND(DJ4, 1)>=0.5, DJ3<0.5), 50, "") -> #REF! | DG4: =IF(AND(ROUND(DJ4, 1)>=0.9, DJ3<0.9), 90, "") -> #REF! | DH4: =INDEX('Calcs-control4'!$G$86:$X$156, 'Graph-outputs'!$B4, 'Graph-outputs'!DH$2) -> #REF! | DI4: 0 | DJ4: =INDEX('Calcs-control4'!$G$170:$X$240, 'Graph-outputs'!$B4, 'Graph-outputs'!$DB$1) -> #REF! | DL4: =IF(AND(ROUND(DQ4, 1)>=0.1, DQ3<0.1), 10, "") -> #REF! | DM4: =IF(AND(ROUND(DQ4, 1)>=0.5, DQ3<0.5), 50, "") -> #REF! | DN4: =IF(AND(ROUND(DQ4, 1)>=0.9, DQ3<0.9), 90, "") -> #REF! | DO4: =INDEX('Calcs-control4'!$AH$86:$AY$156, 'Graph-outputs'!$B4, 'Graph-outputs'!DO$2) -> #REF! | DP4: 0 | DQ4: =INDEX('Calcs-control4'!$AH$170:$AY$240, 'Graph-outputs'!$B4, 'Graph-outputs'!$DB$1) -> #REF! | DS4: =IF(AND(ROUND(DX4, 1)>=0.1, DX3<0.1), 10, "") -> #REF! | DT4: =IF(AND(ROUND(DX4, 1)>=0.5, DX3<0.5), 50, "") -> #REF! | DU4: =IF(AND(ROUND(DX4, 1)>=0.9, DX3<0.9), 90, "") -> #REF! | DV4: =INDEX('Calcs-control4'!$G$386:$X$456, 'Graph-outputs'!$B4, 'Graph-outputs'!DV$2) -> #REF! | DW4: 0 | DX4: =INDEX('Calcs-control4'!$G$170:$X$240, 'Graph-outputs'!$B4, 'Graph-outputs'!$DB$1) -> #REF! | DZ4: =IF(AND(ROUND(EE4, 1)>=0.1, EE3<0.1), 10, "") -> #REF! | EA4: =IF(AND(ROUND(EE4, 1)>=0.5, EE3<0.5), 50, "") -> #REF! | EB4: =IF(AND(ROUND(EE4, 1)>=0.9, EE3<0.9), 90, "") -> #REF! | EC4: =INDEX('Calcs-control4'!$AH$386:$AY$456, 'Graph-outputs'!$B4, 'Graph-outputs'!EC$2) -> #REF! | ED4: 0 | EE4: =INDEX('Calcs-control4'!$AH$170:$AY$240, 'Graph-outputs'!$B4, 'Graph-outputs'!$DB$1) -> #REF!
A5: 1 | B5: 2 | C5: =IF(Settings!$N$5=1, 'Graph-outputs'!$J5, 'Graph-outputs'!$Q5) -> 0.01374771 | E5: =IF(Settings!$N$5=1, 'Graph-outputs'!$X5, 'Graph-outputs'!$AE5) -> 6.3104049 | G5: =IF(AND(ROUND(L5, 1)>=0.1, ROUND(L4, 1)<0.1), 10, "") | H5: =IF(AND(ROUND(L5, 1)>=0.5, ROUND(L4, 1)<0.5), 50, "") | I5: =IF(AND(ROUND(L5, 1)>=0.9, ROUND(L4, 1)<0.9), 90, "") | J5: =INDEX('Calcs-control1'!$G$86:$X$156, 'Graph-outputs'!$B5, 'Graph-outputs'!J$2) -> 0.01374771 | K5: 1 | L5: =INDEX('Calcs-control1'!$G$170:$X$240, 'Graph-outputs'!$B5, 'Graph-outputs'!$D$1) -> 0 | N5: =IF(AND(ROUND(S5, 1)>=0.1, ROUND(S4, 1)<0.1), 10, "") | O5: =IF(AND(ROUND(S5, 1)>=0.5, ROUND(S4, 1)<0.5), 50, "") | P5: =IF(AND(ROUND(S5, 1)>=0.9, ROUND(S4, 1)<0.9), 90, "") | Q5: =INDEX('Calcs-control1'!$AH$86:$AY$156, 'Graph-outputs'!$B5, 'Graph-outputs'!Q$2) -> 1.1931212 | R5: 1 | S5: =INDEX('Calcs-control1'!$AH$170:$AY$240, 'Graph-outputs'!$B5, 'Graph-outputs'!$Q$2) -> 0 | U5: =IF(AND(ROUND(Z5, 1)>=0.1, ROUND(Z4, 1)<0.1), 10, "") | V5: =IF(AND(ROUND(Z5, 1)>=0.5, ROUND(Z4, 1)<0.5), 50, "") | W5: =IF(AND(ROUND(Z5, 1)>=0.9, ROUND(Z4, 1)<0.9), 90, "") | X5: =INDEX('Calcs-control1'!$G$386:$X$456, 'Graph-outputs'!$B5, 'Graph-outputs'!X$2) -> 6.3104049 | Y5: 1 | Z5: =INDEX('Calcs-control1'!$G$170:$X$240, 'Graph-outputs'!$B5, 'Graph-outputs'!$J$2) -> 0 | AB5: =IF(AND(ROUND(AG5, 1)>=0.1, ROUND(AG4, 1)<0.1), 10, "") | AC5: =IF(AND(ROUND(AG5, 1)>=0.5, ROUND(AG4, 1)<0.5), 50, "") | AD5: =IF(AND(ROUND(AG5, 1)>=0.9, ROUND(AG4, 1)<0.9), 90, "") | AE5: =INDEX('Calcs-control1'!$AH$386:$AY$456, 'Graph-outputs'!$B5, 'Graph-outputs'!AE$2) -> 547.66049 | AF5: 1 | AG5: =INDEX('Calcs-control1'!$AH$170:$AY$240, 'Graph-outputs'!$B5, 'Graph-outputs'!$Q$2) -> 0 | AJ5: 1 | AK5: =IF(Settings!$N$5=1, 'Graph-outputs'!$AR5, 'Graph-outputs'!$AY5) -> 0.51222929 | AM5: =IF(Settings!$N$5=1, 'Graph-outputs'!$BF5, 'Graph-outputs'!$BM5) -> 404.49547 | AO5: =IF(AND(ROUND(AT5, 1)>=0.1, ROUND(AT4, 1)<0.1), 10, "") | AP5: =IF(AND(ROUND(AT5, 1)>=0.5, ROUND(AT4, 1)<0.5), 50, "") | AQ5: =IF(AND(ROUND(AT5, 1)>=0.9, ROUND(AT4, 1)<0.9), 90, "") | AR5: =INDEX('Calcs-control2'!$G$86:$X$156, 'Graph-outputs'!$B5, 'Graph-outputs'!AR$2) -> 0.51222929 | AS5: 1 | AT5: =INDEX('Calcs-control2'!$G$170:$X$240, 'Graph-outputs'!$B5, 'Graph-outputs'!$AL$1) -> 0 | AV5: =IF(AND(ROUND(BA5, 1)>=0.1, ROUND(BA4, 1)<0.1), 10, "") | AW5: =IF(AND(ROUND(BA5, 1)>=0.5, ROUND(BA4, 1)<0.5), 50, "") | AX5: =IF(AND(ROUND(BA5, 1)>=0.9, ROUND(BA4, 1)<0.9), 90, "") | AY5: =INDEX('Calcs-control2'!$AH$86:$AY$156, 'Graph-outputs'!$B5, 'Graph-outputs'!AY$2) -> 5.5670198 | AZ5: 1 | BA5: =INDEX('Calcs-control2'!$AH$170:$AY$240, 'Graph-outputs'!$B5, 'Graph-outputs'!$AL$1) -> 0.644834 | BC5: =IF(AND(ROUND(BH5, 1)>=0.1, ROUND(BH4, 1)<0.1), 10, "") | BD5: =IF(AND(ROUND(BH5, 1)>=0.5, ROUND(BH4, 1)<0.5), 50, "") | BE5: =IF(AND(ROUND(BH5, 1)>=0.9, ROUND(BH4, 1)<0.9), 90, "") | BF5: =INDEX('Calcs-control2'!$G$386:$X$456, 'Graph-outputs'!$B5, 'Graph-outputs'!BF$2) -> 404.49547 | BG5: 1 | BH5: =INDEX('Calcs-control2'!$G$170:$X$240, 'Graph-outputs'!$B5, 'Graph-outputs'!$AL$1) -> 0 | BJ5: =IF(AND(ROUND(BO5, 1)>=0.1, ROUND(BO4, 1)<0.1), 10, "") | BK5: =IF(AND(ROUND(BO5, 1)>=0.5, ROUND(BO4, 1)<0.5), 50, "") | BL5: =IF(AND(ROUND(BO5, 1)>=0.9, ROUND(BO4, 1)<0.9), 90, "") | BM5: =INDEX('Calcs-control2'!$AH$386:$AY$456, 'Graph-outputs'!$B5, 'Graph-outputs'!BM$2) -> 5257.6981 | BN5: 1 | BO5: =INDEX('Calcs-control2'!$AH$170:$AY$240, 'Graph-outputs'!$B5, 'Graph-outputs'!$AL$1) -> 0.644834 | BR5: 1 | BS5: =IF(Settings!$N$5=1, 'Graph-outputs'!$BZ5, 'Graph-outputs'!$CG5) -> 0.43090485 | BU5: =IF(Settings!$N$5=1, 'Graph-outputs'!$CN5, 'Graph-outputs'!$CU5) -> 45.245009 | BW5: =IF(AND(ROUND(CB5, 1)>=0.1, ROUND(CB4, 1)<0.1), 10, "") | BX5: =IF(AND(ROUND(CB5, 1)>=0.5, ROUND(CB4, 1)<0.5), 50, "") | BY5: =IF(AND(ROUND(CB5, 1)>=0.9, ROUND(CB4, 1)<0.9), 90, "") | BZ5: =INDEX('Calcs-control3'!$G$86:$X$156, 'Graph-outputs'!$B5, 'Graph-outputs'!BZ$2) -> 0.43090485 | CA5: 1 | CB5: =INDEX('Calcs-control3'!$G$170:$X$240, 'Graph-outputs'!$B5, 'Graph-outputs'!$BT$1) -> 0 | CD5: =IF(AND(ROUND(CI5, 1)>=0.1, ROUND(CI4, 1)<0.1), 10, "") | CE5: =IF(AND(ROUND(CI5, 1)>=0.5, ROUND(CI4, 1)<0.5), 50, "") | CF5: =IF(AND(ROUND(CI5, 1)>=0.9, ROUND(CI4, 1)<0.9), 90, "") | CG5: =INDEX('Calcs-control3'!$AH$86:$AY$156, 'Graph-outputs'!$B5, 'Graph-outputs'!CG$2) -> 3.9627396 | CH5: 1 | CI5: =INDEX('Calcs-control2'!$AH$170:$AY$240, 'Graph-outputs'!$B5, 'Graph-outputs'!$BT$1) -> 0 | CK5: =IF(AND(ROUND(CP5, 1)>=0.1, ROUND(CP4, 1)<0.1), 10, "") | CL5: =IF(AND(ROUND(CP5, 1)>=0.5, ROUND(CP4, 1)<0.5), 50, "") | CM5: =IF(AND(ROUND(CP5, 1)>=0.9, ROUND(CP4, 1)<0.9), 90, "") | CN5: =INDEX('Calcs-control3'!$G$386:$X$456, 'Graph-outputs'!$B5, 'Graph-outputs'!CN$2) -> 45.245009 | CO5: 1 | CP5: =INDEX('Calcs-control2'!$G$170:$X$240, 'Graph-outputs'!$B5, 'Graph-outputs'!$BT$1) -> 0 | CR5: =IF(AND(ROUND(CW5, 1)>=0.1, ROUND(CW4, 1)<0.1), 10, "") | CS5: =IF(AND(ROUND(CW5, 1)>=0.5, ROUND(CW4, 1)<0.5), 50, "") | CT5: =IF(AND(ROUND(CW5, 1)>=0.9, ROUND(CW4, 1)<0.9), 90, "") | CU5: =INDEX('Calcs-control3'!$AH$386:$AY$456, 'Graph-outputs'!$B5, 'Graph-outputs'!CU$2) -> 416.08766 | CV5: 1 | CW5: =INDEX('Calcs-control2'!$AH$170:$AY$240, 'Graph-outputs'!$B5, 'Graph-outputs'!$BT$1) -> 0 | CZ5: 1 | DA5: =IF(Settings!$N$5=1, 'Graph-outputs'!$DH5, 'Graph-outputs'!$DO5) -> #REF! | DC5: =IF(Settings!$N$5=1, 'Graph-outputs'!$DV5, 'Graph-outputs'!$EC5) -> #REF! | DE5: =IF(AND(ROUND(DJ5, 1)>=0.1, ROUND(DJ4, 1)<0.1), 10, "") -> #REF! | DF5: =IF(AND(ROUND(DJ5, 1)>=0.5, ROUND(DJ4, 1)<0.5), 50, "") -> #REF! | DG5: =IF(AND(ROUND(DJ5, 1)>=0.9, ROUND(DJ4, 1)<0.9), 90, "") -> #REF! | DH5: =INDEX('Calcs-control4'!$G$86:$X$156, 'Graph-outputs'!$B5, 'Graph-outputs'!DH$2) -> #REF! | DI5: 1 | DJ5: =INDEX('Calcs-control4'!$G$170:$X$240, 'Graph-outputs'!$B5, 'Graph-outputs'!$DB$1) -> #REF! | DL5: =IF(AND(ROUND(DQ5, 1)>=0.1, ROUND(DQ4, 1)<0.1), 10, "") -> #REF! | DM5: =IF(AND(ROUND(DQ5, 1)>=0.5, ROUND(DQ4, 1)<0.5), 50, "") -> #REF! | DN5: =IF(AND(ROUND(DQ5, 1)>=0.9, ROUND(DQ4, 1)<0.9), 90, "") -> #REF! | DO5: =INDEX('Calcs-control4'!$AH$86:$AY$156, 'Graph-outputs'!$B5, 'Graph-outputs'!DO$2) -> #REF! | DP5: 1 | DQ5: =INDEX('Calcs-control4'!$AH$170:$AY$240, 'Graph-outputs'!$B5, 'Graph-outputs'!$DB$1) -> #REF! | DS5: =IF(AND(ROUND(DX5, 1)>=0.1, ROUND(DX4, 1)<0.1), 10, "") -> #REF! | DT5: =IF(AND(ROUND(DX5, 1)>=0.5, ROUND(DX4, 1)<0.5), 50, "") -> #REF! | DU5: =IF(AND(ROUND(DX5, 1)>=0.9, ROUND(DX4, 1)<0.9), 90, "") -> #REF! | DV5: =INDEX('Calcs-control4'!$G$386:$X$456, 'Graph-outputs'!$B5, 'Graph-outputs'!DV$2) -> #REF! | DW5: 1 | DX5: =INDEX('Calcs-control4'!$G$170:$X$240, 'Graph-outputs'!$B5, 'Graph-outputs'!$DB$1) -> #REF! | DZ5: =IF(AND(ROUND(EE5, 1)>=0.1, ROUND(EE4, 1)<0.1), 10, "") -> #REF! | EA5: =IF(AND(ROUND(EE5, 1)>=0.5, ROUND(EE4, 1)<0.5), 50, "") -> #REF! | EB5: =IF(AND(ROUND(EE5, 1)>=0.9, ROUND(EE4, 1)<0.9), 90, "") -> #REF! | EC5: =INDEX('Calcs-control4'!$AH$386:$AY$456, 'Graph-outputs'!$B5, 'Graph-outputs'!EC$2) -> #REF! | ED5: 1 | EE5: =INDEX('Calcs-control4'!$AH$170:$AY$240, 'Graph-outputs'!$B5, 'Graph-outputs'!$DB$1) -> #REF!
A6: 2 | B6: 3 | C6: =IF(Settings!$N$5=1, 'Graph-outputs'!$J6, 'Graph-outputs'!$Q6) -> 0.097779327 | E6: =IF(Settings!$N$5=1, 'Graph-outputs'!$X6, 'Graph-outputs'!$AE6) -> 44.882176 | G6: =IF(AND(ROUND(L6, 1)>=0.1, ROUND(L5, 1)<0.1), 10, "") | H6: =IF(AND(ROUND(L6, 1)>=0.5, ROUND(L5, 1)<0.5), 50, "") | I6: =IF(AND(ROUND(L6, 1)>=0.9, ROUND(L5, 1)<0.9), 90, "") | J6: =INDEX('Calcs-control1'!$G$86:$X$156, 'Graph-outputs'!$B6, 'Graph-outputs'!J$2) -> 0.097779327 | K6: 2 | L6: =INDEX('Calcs-control1'!$G$170:$X$240, 'Graph-outputs'!$B6, 'Graph-outputs'!$D$1) -> 0 | N6: =IF(AND(ROUND(S6, 1)>=0.1, ROUND(S5, 1)<0.1), 10, "") | O6: =IF(AND(ROUND(S6, 1)>=0.5, ROUND(S5, 1)<0.5), 50, "") | P6: =IF(AND(ROUND(S6, 1)>=0.9, ROUND(S5, 1)<0.9), 90, "") | Q6: =INDEX('Calcs-control1'!$AH$86:$AY$156, 'Graph-outputs'!$B6, 'Graph-outputs'!Q$2) -> 1.3468555 | R6: 2 | S6: =INDEX('Calcs-control1'!$AH$170:$AY$240, 'Graph-outputs'!$B6, 'Graph-outputs'!$Q$2) -> 0 | U6: =IF(AND(ROUND(Z6, 1)>=0.1, ROUND(Z5, 1)<0.1), 10, "") | V6: =IF(AND(ROUND(Z6, 1)>=0.5, ROUND(Z5, 1)<0.5), 50, "") | W6: =IF(AND(ROUND(Z6, 1)>=0.9, ROUND(Z5, 1)<0.9), 90, "") | X6: =INDEX('Calcs-control1'!$G$386:$X$456, 'Graph-outputs'!$B6, 'Graph-outputs'!X$2) -> 44.882176 | Y6: 2 | Z6: =INDEX('Calcs-control1'!$G$170:$X$240, 'Graph-outputs'!$B6, 'Graph-outputs'!$J$2) -> 0 | AB6: =IF(AND(ROUND(AG6, 1)>=0.1, ROUND(AG5, 1)<0.1), 10, "") | AC6: =IF(AND(ROUND(AG6, 1)>=0.5, ROUND(AG5, 1)<0.5), 50, "") | AD6: =IF(AND(ROUND(AG6, 1)>=0.9, ROUND(AG5, 1)<0.9), 90, "") | AE6: =INDEX('Calcs-control1'!$AH$386:$AY$456, 'Graph-outputs'!$B6, 'Graph-outputs'!AE$2) -> 618.22687 | AF6: 2 | AG6: =INDEX('Calcs-control1'!$AH$170:$AY$240, 'Graph-outputs'!$B6, 'Graph-outputs'!$Q$2) -> 0 | AJ6: 2 | AK6: =IF(Settings!$N$5=1, 'Graph-outputs'!$AR6, 'Graph-outputs'!$AY6) -> 1.4186943 | AM6: =IF(Settings!$N$5=1, 'Graph-outputs'!$BF6, 'Graph-outputs'!$BM6) -> 1146.819 | AO6: =IF(AND(ROUND(AT6, 1)>=0.1, ROUND(AT5, 1)<0.1), 10, "") -> 10 | AP6: =IF(AND(ROUND(AT6, 1)>=0.5, ROUND(AT5, 1)<0.5), 50, "") | AQ6: =IF(AND(ROUND(AT6, 1)>=0.9, ROUND(AT5, 1)<0.9), 90, "") | AR6: =INDEX('Calcs-control2'!$G$86:$X$156, 'Graph-outputs'!$B6, 'Graph-outputs'!AR$2) -> 1.4186943 | AS6: 2 | AT6: =INDEX('Calcs-control2'!$G$170:$X$240, 'Graph-outputs'!$B6, 'Graph-outputs'!$AL$1) -> 0.077857128 | AV6: =IF(AND(ROUND(BA6, 1)>=0.1, ROUND(BA5, 1)<0.1), 10, "") | AW6: =IF(AND(ROUND(BA6, 1)>=0.5, ROUND(BA5, 1)<0.5), 50, "") | AX6: =IF(AND(ROUND(BA6, 1)>=0.9, ROUND(BA5, 1)<0.9), 90, "") | AY6: =INDEX('Calcs-control2'!$AH$86:$AY$156, 'Graph-outputs'!$B6, 'Graph-outputs'!AY$2) -> 5.9709253 | AZ6: 2 | BA6: =INDEX('Calcs-control2'!$AH$170:$AY$240, 'Graph-outputs'!$B6, 'Graph-outputs'!$AL$1) -> 0.67634212 | BC6: =IF(AND(ROUND(BH6, 1)>=0.1, ROUND(BH5, 1)<0.1), 10, "") -> 10 | BD6: =IF(AND(ROUND(BH6, 1)>=0.5, ROUND(BH5, 1)<0.5), 50, "") | BE6: =IF(AND(ROUND(BH6, 1)>=0.9, ROUND(BH5, 1)<0.9), 90, "") | BF6: =INDEX('Calcs-control2'!$G$386:$X$456, 'Graph-outputs'!$B6, 'Graph-outputs'!BF$2) -> 1146.819 | BG6: 2 | BH6: =INDEX('Calcs-control2'!$G$170:$X$240, 'Graph-outputs'!$B6, 'Graph-outputs'!$AL$1) -> 0.077857128 | BJ6: =IF(AND(ROUND(BO6, 1)>=0.1, ROUND(BO5, 1)<0.1), 10, "") | BK6: =IF(AND(ROUND(BO6, 1)>=0.5, ROUND(BO5, 1)<0.5), 50, "") | BL6: =IF(AND(ROUND(BO6, 1)>=0.9, ROUND(BO5, 1)<0.9), 90, "") | BM6: =INDEX('Calcs-control2'!$AH$386:$AY$456, 'Graph-outputs'!$B6, 'Graph-outputs'!BM$2) -> 5684.3131 | BN6: 2 | BO6: =INDEX('Calcs-control2'!$AH$170:$AY$240, 'Graph-outputs'!$B6, 'Graph-outputs'!$AL$1) -> 0.67634212 | BR6: 2 | BS6: =IF(Settings!$N$5=1, 'Graph-outputs'!$BZ6, 'Graph-outputs'!$CG6) -> 1.1129412 | BU6: =IF(Settings!$N$5=1, 'Graph-outputs'!$CN6, 'Graph-outputs'!$CU6) -> 116.85883 | BW6: =IF(AND(ROUND(CB6, 1)>=0.1, ROUND(CB5, 1)<0.1), 10, "") | BX6: =IF(AND(ROUND(CB6, 1)>=0.5, ROUND(CB5, 1)<0.5), 50, "") | BY6: =IF(AND(ROUND(CB6, 1)>=0.9, ROUND(CB5, 1)<0.9), 90, "") | BZ6: =INDEX('Calcs-control3'!$G$86:$X$156, 'Graph-outputs'!$B6, 'Graph-outputs'!BZ$2) -> 1.1129412 | CA6: 2 | CB6: =INDEX('Calcs-control3'!$G$170:$X$240, 'Graph-outputs'!$B6, 'Graph-outputs'!$BT$1) -> 0 | CD6: =IF(AND(ROUND(CI6, 1)>=0.1, ROUND(CI5, 1)<0.1), 10, "") | CE6: =IF(AND(ROUND(CI6, 1)>=0.5, ROUND(CI5, 1)<0.5), 50, "") | CF6: =IF(AND(ROUND(CI6, 1)>=0.9, ROUND(CI5, 1)<0.9), 90, "") | CG6: =INDEX('Calcs-control3'!$AH$86:$AY$156, 'Graph-outputs'!$B6, 'Graph-outputs'!CG$2) -> 4.228338 | CH6: 2 | CI6: =INDEX('Calcs-control2'!$AH$170:$AY$240, 'Graph-outputs'!$B6, 'Graph-outputs'!$BT$1) -> 0 | CK6: =IF(AND(ROUND(CP6, 1)>=0.1, ROUND(CP5, 1)<0.1), 10, "") | CL6: =IF(AND(ROUND(CP6, 1)>=0.5, ROUND(CP5, 1)<0.5), 50, "") | CM6: =IF(AND(ROUND(CP6, 1)>=0.9, ROUND(CP5, 1)<0.9), 90, "") | CN6: =INDEX('Calcs-control3'!$G$386:$X$456, 'Graph-outputs'!$B6, 'Graph-outputs'!CN$2) -> 116.85883 | CO6: 2 | CP6: =INDEX('Calcs-control2'!$G$170:$X$240, 'Graph-outputs'!$B6, 'Graph-outputs'!$BT$1) -> 0 | CR6: =IF(AND(ROUND(CW6, 1)>=0.1, ROUND(CW5, 1)<0.1), 10, "") | CS6: =IF(AND(ROUND(CW6, 1)>=0.5, ROUND(CW5, 1)<0.5), 50, "") | CT6: =IF(AND(ROUND(CW6, 1)>=0.9, ROUND(CW5, 1)<0.9), 90, "") | CU6: =INDEX('Calcs-control3'!$AH$386:$AY$456, 'Graph-outputs'!$B6, 'Graph-outputs'!CU$2) -> 443.97549 | CV6: 2 | CW6: =INDEX('Calcs-control2'!$AH$170:$AY$240, 'Graph-outputs'!$B6, 'Graph-outputs'!$BT$1) -> 0 | CZ6: 2 | DA6: =IF(Settings!$N$5=1, 'Graph-outputs'!$DH6, 'Graph-outputs'!$DO6) -> #REF! | DC6: =IF(Settings!$N$5=1, 'Graph-outputs'!$DV6, 'Graph-outputs'!$EC6) -> #REF! | DE6: =IF(AND(ROUND(DJ6, 1)>=0.1, ROUND(DJ5, 1)<0.1), 10, "") -> #REF! | DF6: =IF(AND(ROUND(DJ6, 1)>=0.5, ROUND(DJ5, 1)<0.5), 50, "") -> #REF! | DG6: =IF(AND(ROUND(DJ6, 1)>=0.9, ROUND(DJ5, 1)<0.9), 90, "") -> #REF! | DH6: =INDEX('Calcs-control4'!$G$86:$X$156, 'Graph-outputs'!$B6, 'Graph-outputs'!DH$2) -> #REF! | DI6: 2 | DJ6: =INDEX('Calcs-control4'!$G$170:$X$240, 'Graph-outputs'!$B6, 'Graph-outputs'!$DB$1) -> #REF! | DL6: =IF(AND(ROUND(DQ6, 1)>=0.1, ROUND(DQ5, 1)<0.1), 10, "") -> #REF! | DM6: =IF(AND(ROUND(DQ6, 1)>=0.5, ROUND(DQ5, 1)<0.5), 50, "") -> #REF! | DN6: =IF(AND(ROUND(DQ6, 1)>=0.9, ROUND(DQ5, 1)<0.9), 90, "") -> #REF! | DO6: =INDEX('Calcs-control4'!$AH$86:$AY$156, 'Graph-outputs'!$B6, 'Graph-outputs'!DO$2) -> #REF! | DP6: 2 | DQ6: =INDEX('Calcs-control4'!$AH$170:$AY$240, 'Graph-outputs'!$B6, 'Graph-outputs'!$DB$1) -> #REF! | DS6: =IF(AND(ROUND(DX6, 1)>=0.1, ROUND(DX5, 1)<0.1), 10, "") -> #REF! | DT6: =IF(AND(ROUND(DX6, 1)>=0.5, ROUND(DX5, 1)<0.5), 50, "") -> #REF! | DU6: =IF(AND(ROUND(DX6, 1)>=0.9, ROUND(DX5, 1)<0.9), 90, "") -> #REF! | DV6: =INDEX('Calcs-control4'!$G$386:$X$456, 'Graph-outputs'!$B6, 'Graph-outputs'!DV$2) -> #REF! | DW6: 2 | DX6: =INDEX('Calcs-control4'!$G$170:$X$240, 'Graph-outputs'!$B6, 'Graph-outputs'!$DB$1) -> #REF! | DZ6: =IF(AND(ROUND(EE6, 1)>=0.1, ROUND(EE5, 1)<0.1), 10, "") -> #REF! | EA6: =IF(AND(ROUND(EE6, 1)>=0.5, ROUND(EE5, 1)<0.5), 50, "") -> #REF! | EB6: =IF(AND(ROUND(EE6, 1)>=0.9, ROUND(EE5, 1)<0.9), 90, "") -> #REF! | EC6: =INDEX('Calcs-control4'!$AH$386:$AY$456, 'Graph-outputs'!$B6, 'Graph-outputs'!EC$2) -> #REF! | ED6: 2 | EE6: =INDEX('Calcs-control4'!$AH$170:$AY$240, 'Graph-outputs'!$B6, 'Graph-outputs'!$DB$1) -> #REF!
A7: 3 | B7: 4 | C7: =IF(Settings!$N$5=1, 'Graph-outputs'!$J7, 'Graph-outputs'!$Q7) -> 0.29386067 | E7: =IF(Settings!$N$5=1, 'Graph-outputs'!$X7, 'Graph-outputs'!$AE7) -> 134.88645 | G7: =IF(AND(ROUND(L7, 1)>=0.1, ROUND(L6, 1)<0.1), 10, "") | H7: =IF(AND(ROUND(L7, 1)>=0.5, ROUND(L6, 1)<0.5), 50, "") | I7: =IF(AND(ROUND(L7, 1)>=0.9, ROUND(L6, 1)<0.9), 90, "") | J7: =INDEX('Calcs-control1'!$G$86:$X$156, 'Graph-outputs'!$B7, 'Graph-outputs'!J$2) -> 0.29386067 | K7: 3 | L7: =INDEX('Calcs-control1'!$G$170:$X$240, 'Graph-outputs'!$B7, 'Graph-outputs'!$D$1) -> 0 | N7: =IF(AND(ROUND(S7, 1)>=0.1, ROUND(S6, 1)<0.1), 10, "") | O7: =IF(AND(ROUND(S7, 1)>=0.5, ROUND(S6, 1)<0.5), 50, "") | P7: =IF(AND(ROUND(S7, 1)>=0.9, ROUND(S6, 1)<0.9), 90, "") | Q7: =INDEX('Calcs-control1'!$AH$86:$AY$156, 'Graph-outputs'!$B7, 'Graph-outputs'!Q$2) -> 1.5182332 | R7: 3 | S7: =INDEX('Calcs-control1'!$AH$170:$AY$240, 'Graph-outputs'!$B7, 'Graph-outputs'!$Q$2) -> 0 | U7: =IF(AND(ROUND(Z7, 1)>=0.1, ROUND(Z6, 1)<0.1), 10, "") | V7: =IF(AND(ROUND(Z7, 1)>=0.5, ROUND(Z6, 1)<0.5), 50, "") | W7: =IF(AND(ROUND(Z7, 1)>=0.9, ROUND(Z6, 1)<0.9), 90, "") | X7: =INDEX('Calcs-control1'!$G$386:$X$456, 'Graph-outputs'!$B7, 'Graph-outputs'!X$2) -> 134.88645 | Y7: 3 | Z7: =INDEX('Calcs-control1'!$G$170:$X$240, 'Graph-outputs'!$B7, 'Graph-outputs'!$J$2) -> 0 | AB7: =IF(AND(ROUND(AG7, 1)>=0.1, ROUND(AG6, 1)<0.1), 10, "") | AC7: =IF(AND(ROUND(AG7, 1)>=0.5, ROUND(AG6, 1)<0.5), 50, "") | AD7: =IF(AND(ROUND(AG7, 1)>=0.9, ROUND(AG6, 1)<0.9), 90, "") | AE7: =INDEX('Calcs-control1'!$AH$386:$AY$456, 'Graph-outputs'!$B7, 'Graph-outputs'!AE$2) -> 696.89177 | AF7: 3 | AG7: =INDEX('Calcs-control1'!$AH$170:$AY$240, 'Graph-outputs'!$B7, 'Graph-outputs'!$Q$2) -> 0 | AJ7: 3 | AK7: =IF(Settings!$N$5=1, 'Graph-outputs'!$AR7, 'Graph-outputs'!$AY7) -> 2.5523975 | AM7: =IF(Settings!$N$5=1, 'Graph-outputs'!$BF7, 'Graph-outputs'!$BM7) -> 2192.918 | AO7: =IF(AND(ROUND(AT7, 1)>=0.1, ROUND(AT6, 1)<0.1), 10, "") | AP7: =IF(AND(ROUND(AT7, 1)>=0.5, ROUND(AT6, 1)<0.5), 50, "") | AQ7: =IF(AND(ROUND(AT7, 1)>=0.9, ROUND(AT6, 1)<0.9), 90, "") | AR7: =INDEX('Calcs-control2'!$G$86:$X$156, 'Graph-outputs'!$B7, 'Graph-outputs'!AR$2) -> 2.5523975 | AS7: 3 | AT7: =INDEX('Calcs-control2'!$G$170:$X$240, 'Graph-outputs'!$B7, 'Graph-outputs'!$AL$1) -> 0.28951457 | AV7: =IF(AND(ROUND(BA7, 1)>=0.1, ROUND(BA6, 1)<0.1), 10, "") | AW7: =IF(AND(ROUND(BA7, 1)>=0.5, ROUND(BA6, 1)<0.5), 50, "") | AX7: =IF(AND(ROUND(BA7, 1)>=0.9, ROUND(BA6, 1)<0.9), 90, "") | AY7: =INDEX('Calcs-control2'!$AH$86:$AY$156, 'Graph-outputs'!$B7, 'Graph-outputs'!AY$2) -> 6.4023507 | AZ7: 3 | BA7: =INDEX('Calcs-control2'!$AH$170:$AY$240, 'Graph-outputs'!$B7, 'Graph-outputs'!$AL$1) -> 0.70691602 | BC7: =IF(AND(ROUND(BH7, 1)>=0.1, ROUND(BH6, 1)<0.1), 10, "") | BD7: =IF(AND(ROUND(BH7, 1)>=0.5, ROUND(BH6, 1)<0.5), 50, "") | BE7: =IF(AND(ROUND(BH7, 1)>=0.9, ROUND(BH6, 1)<0.9), 90, "") | BF7: =INDEX('Calcs-control2'!$G$386:$X$456, 'Graph-outputs'!$B7, 'Graph-outputs'!BF$2) -> 2192.918 | BG7: 3 | BH7: =INDEX('Calcs-control2'!$G$170:$X$240, 'Graph-outputs'!$B7, 'Graph-outputs'!$AL$1) -> 0.28951457 | BJ7: =IF(AND(ROUND(BO7, 1)>=0.1, ROUND(BO6, 1)<0.1), 10, "") | BK7: =IF(AND(ROUND(BO7, 1)>=0.5, ROUND(BO6, 1)<0.5), 50, "") | BL7: =IF(AND(ROUND(BO7, 1)>=0.9, ROUND(BO6, 1)<0.9), 90, "") | BM7: =INDEX('Calcs-control2'!$AH$386:$AY$456, 'Graph-outputs'!$B7, 'Graph-outputs'!BM$2) -> 6142.0083 | BN7: 3 | BO7: =INDEX('Calcs-control2'!$AH$170:$AY$240, 'Graph-outputs'!$B7, 'Graph-outputs'!$AL$1) -> 0.70691602 | BR7: 3 | BS7: =IF(Settings!$N$5=1, 'Graph-outputs'!$BZ7, 'Graph-outputs'!$CG7) -> 1.9217527 | BU7: =IF(Settings!$N$5=1, 'Graph-outputs'!$CN7, 'Graph-outputs'!$CU7) -> 201.78404 | BW7: =IF(AND(ROUND(CB7, 1)>=0.1, ROUND(CB6, 1)<0.1), 10, "") | BX7: =IF(AND(ROUND(CB7, 1)>=0.5, ROUND(CB6, 1)<0.5), 50, "") | BY7: =IF(AND(ROUND(CB7, 1)>=0.9, ROUND(CB6, 1)<0.9), 90, "") | BZ7: =INDEX('Calcs-control3'!$G$86:$X$156, 'Graph-outputs'!$B7, 'Graph-outputs'!BZ$2) -> 1.9217527 | CA7: 3 | CB7: =INDEX('Calcs-control3'!$G$170:$X$240, 'Graph-outputs'!$B7, 'Graph-outputs'!$BT$1) -> 0 | CD7: =IF(AND(ROUND(CI7, 1)>=0.1, ROUND(CI6, 1)<0.1), 10, "") | CE7: =IF(AND(ROUND(CI7, 1)>=0.5, ROUND(CI6, 1)<0.5), 50, "") | CF7: =IF(AND(ROUND(CI7, 1)>=0.9, ROUND(CI6, 1)<0.9), 90, "") | CG7: =INDEX('Calcs-control3'!$AH$86:$AY$156, 'Graph-outputs'!$B7, 'Graph-outputs'!CG$2) -> 4.5104547 | CH7: 3 | CI7: =INDEX('Calcs-control2'!$AH$170:$AY$240, 'Graph-outputs'!$B7, 'Graph-outputs'!$BT$1) -> 0 | CK7: =IF(AND(ROUND(CP7, 1)>=0.1, ROUND(CP6, 1)<0.1), 10, "") | CL7: =IF(AND(ROUND(CP7, 1)>=0.5, ROUND(CP6, 1)<0.5), 50, "") | CM7: =IF(AND(ROUND(CP7, 1)>=0.9, ROUND(CP6, 1)<0.9), 90, "") | CN7: =INDEX('Calcs-control3'!$G$386:$X$456, 'Graph-outputs'!$B7, 'Graph-outputs'!CN$2) -> 201.78404 | CO7: 3 | CP7: =INDEX('Calcs-control2'!$G$170:$X$240, 'Graph-outputs'!$B7, 'Graph-outputs'!$BT$1) -> 0 | CR7: =IF(AND(ROUND(CW7, 1)>=0.1, ROUND(CW6, 1)<0.1), 10, "") | CS7: =IF(AND(ROUND(CW7, 1)>=0.5, ROUND(CW6, 1)<0.5), 50, "") | CT7: =IF(AND(ROUND(CW7, 1)>=0.9, ROUND(CW6, 1)<0.9), 90, "") | CU7: =INDEX('Calcs-control3'!$AH$386:$AY$456, 'Graph-outputs'!$B7, 'Graph-outputs'!CU$2) -> 473.59775 | CV7: 3 | CW7: =INDEX('Calcs-control2'!$AH$170:$AY$240, 'Graph-outputs'!$B7, 'Graph-outputs'!$BT$1) -> 0 | CZ7: 3 | DA7: =IF(Settings!$N$5=1, 'Graph-outputs'!$DH7, 'Graph-outputs'!$DO7) -> #REF! | DC7: =IF(Settings!$N$5=1, 'Graph-outputs'!$DV7, 'Graph-outputs'!$EC7) -> #REF! | DE7: =IF(AND(ROUND(DJ7, 1)>=0.1, ROUND(DJ6, 1)<0.1), 10, "") -> #REF! | DF7: =IF(AND(ROUND(DJ7, 1)>=0.5, ROUND(DJ6, 1)<0.5), 50, "") -> #REF! | DG7: =IF(AND(ROUND(DJ7, 1)>=0.9, ROUND(DJ6, 1)<0.9), 90, "") -> #REF! | DH7: =INDEX('Calcs-control4'!$G$86:$X$156, 'Graph-outputs'!$B7, 'Graph-outputs'!DH$2) -> #REF! | DI7: 3 | DJ7: =INDEX('Calcs-control4'!$G$170:$X$240, 'Graph-outputs'!$B7, 'Graph-outputs'!$DB$1) -> #REF! | DL7: =IF(AND(ROUND(DQ7, 1)>=0.1, ROUND(DQ6, 1)<0.1), 10, "") -> #REF! | DM7: =IF(AND(ROUND(DQ7, 1)>=0.5, ROUND(DQ6, 1)<0.5), 50, "") -> #REF! | DN7: =IF(AND(ROUND(DQ7, 1)>=0.9, ROUND(DQ6, 1)<0.9), 90, "") -> #REF! | DO7: =INDEX('Calcs-control4'!$AH$86:$AY$156, 'Graph-outputs'!$B7, 'Graph-outputs'!DO$2) -> #REF! | DP7: 3 | DQ7: =INDEX('Calcs-control4'!$AH$170:$AY$240, 'Graph-outputs'!$B7, 'Graph-outputs'!$DB$1) -> #REF! | DS7: =IF(AND(ROUND(DX7, 1)>=0.1, ROUND(DX6, 1)<0.1), 10, "") -> #REF! | DT7: =IF(AND(ROUND(DX7, 1)>=0.5, ROUND(DX6, 1)<0.5), 50, "") -> #REF! | DU7: =IF(AND(ROUND(DX7, 1)>=0.9, ROUND(DX6, 1)<0.9), 90, "") -> #REF! | DV7: =INDEX('Calcs-control4'!$G$386:$X$456, 'Graph-outputs'!$B7, 'Graph-outputs'!DV$2) -> #REF! | DW7: 3 | DX7: =INDEX('Calcs-control4'!$G$170:$X$240, 'Graph-outputs'!$B7, 'Graph-outputs'!$DB$1) -> #REF! | DZ7: =IF(AND(ROUND(EE7, 1)>=0.1, ROUND(EE6, 1)<0.1), 10, "") -> #REF! | EA7: =IF(AND(ROUND(EE7, 1)>=0.5, ROUND(EE6, 1)<0.5), 50, "") -> #REF! | EB7: =IF(AND(ROUND(EE7, 1)>=0.9, ROUND(EE6, 1)<0.9), 90, "") -> #REF! | EC7: =INDEX('Calcs-control4'!$AH$386:$AY$456, 'Graph-outputs'!$B7, 'Graph-outputs'!EC$2) -> #REF! | ED7: 3 | EE7: =INDEX('Calcs-control4'!$AH$170:$AY$240, 'Graph-outputs'!$B7, 'Graph-outputs'!$DB$1) -> #REF!
A8: 4 | B8: 5 | C8: =IF(Settings!$N$5=1, 'Graph-outputs'!$J8, 'Graph-outputs'!$Q8) -> 0.62125678 | E8: =IF(Settings!$N$5=1, 'Graph-outputs'!$X8, 'Graph-outputs'!$AE8) -> 285.16617 | G8: =IF(AND(ROUND(L8, 1)>=0.1, ROUND(L7, 1)<0.1), 10, "") | H8: =IF(AND(ROUND(L8, 1)>=0.5, ROUND(L7, 1)<0.5), 50, "") | I8: =IF(AND(ROUND(L8, 1)>=0.9, ROUND(L7, 1)<0.9), 90, "") | J8: =INDEX('Calcs-control1'!$G$86:$X$156, 'Graph-outputs'!$B8, 'Graph-outputs'!J$2) -> 0.62125678 | K8: 4 | L8: =INDEX('Calcs-control1'!$G$170:$X$240, 'Graph-outputs'!$B8, 'Graph-outputs'!$D$1) -> 0 | N8: =IF(AND(ROUND(S8, 1)>=0.1, ROUND(S7, 1)<0.1), 10, "") | O8: =IF(AND(ROUND(S8, 1)>=0.5, ROUND(S7, 1)<0.5), 50, "") | P8: =IF(AND(ROUND(S8, 1)>=0.9, ROUND(S7, 1)<0.9), 90, "") | Q8: =INDEX('Calcs-control1'!$AH$86:$AY$156, 'Graph-outputs'!$B8, 'Graph-outputs'!Q$2) -> 1.708876 | R8: 4 | S8: =INDEX('Calcs-control1'!$AH$170:$AY$240, 'Graph-outputs'!$B8, 'Graph-outputs'!$Q$2) -> 0 | U8: =IF(AND(ROUND(Z8, 1)>=0.1, ROUND(Z7, 1)<0.1), 10, "") | V8: =IF(AND(ROUND(Z8, 1)>=0.5, ROUND(Z7, 1)<0.5), 50, "") | W8: =IF(AND(ROUND(Z8, 1)>=0.9, ROUND(Z7, 1)<0.9), 90, "") | X8: =INDEX('Calcs-control1'!$G$386:$X$456, 'Graph-outputs'!$B8, 'Graph-outputs'!X$2) -> 285.16617 | Y8: 4 | Z8: =INDEX('Calcs-control1'!$G$170:$X$240, 'Graph-outputs'!$B8, 'Graph-outputs'!$J$2) -> 0 | AB8: =IF(AND(ROUND(AG8, 1)>=0.1, ROUND(AG7, 1)<0.1), 10, "") | AC8: =IF(AND(ROUND(AG8, 1)>=0.5, ROUND(AG7, 1)<0.5), 50, "") | AD8: =IF(AND(ROUND(AG8, 1)>=0.9, ROUND(AG7, 1)<0.9), 90, "") | AE8: =INDEX('Calcs-control1'!$AH$386:$AY$456, 'Graph-outputs'!$B8, 'Graph-outputs'!AE$2) -> 784.39969 | AF8: 4 | AG8: =INDEX('Calcs-control1'!$AH$170:$AY$240, 'Graph-outputs'!$B8, 'Graph-outputs'!$Q$2) -> 0 | AJ8: 4 | AK8: =IF(Settings!$N$5=1, 'Graph-outputs'!$AR8, 'Graph-outputs'!$AY8) -> 3.8487717 | AM8: =IF(Settings!$N$5=1, 'Graph-outputs'!$BF8, 'Graph-outputs'!$BM8) -> 3475.9142 | AO8: =IF(AND(ROUND(AT8, 1)>=0.1, ROUND(AT7, 1)<0.1), 10, "") | AP8: =IF(AND(ROUND(AT8, 1)>=0.5, ROUND(AT7, 1)<0.5), 50, "") -> 50 | AQ8: =IF(AND(ROUND(AT8, 1)>=0.9, ROUND(AT7, 1)<0.9), 90, "") | AR8: =INDEX('Calcs-control2'!$G$86:$X$156, 'Graph-outputs'!$B8, 'Graph-outputs'!AR$2) -> 3.8487717 | AS8: 4 | AT8: =INDEX('Calcs-control2'!$G$170:$X$240, 'Graph-outputs'!$B8, 'Graph-outputs'!$AL$1) -> 0.4726933 | AV8: =IF(AND(ROUND(BA8, 1)>=0.1, ROUND(BA7, 1)<0.1), 10, "") | AW8: =IF(AND(ROUND(BA8, 1)>=0.5, ROUND(BA7, 1)<0.5), 50, "") | AX8: =IF(AND(ROUND(BA8, 1)>=0.9, ROUND(BA7, 1)<0.9), 90, "") | AY8: =INDEX('Calcs-control2'!$AH$86:$AY$156, 'Graph-outputs'!$B8, 'Graph-outputs'!AY$2) -> 6.8629421 | AZ8: 4 | BA8: =INDEX('Calcs-control2'!$AH$170:$AY$240, 'Graph-outputs'!$B8, 'Graph-outputs'!$AL$1) -> 0.73637618 | BC8: =IF(AND(ROUND(BH8, 1)>=0.1, ROUND(BH7, 1)<0.1), 10, "") | BD8: =IF(AND(ROUND(BH8, 1)>=0.5, ROUND(BH7, 1)<0.5), 50, "") -> 50 | BE8: =IF(AND(ROUND(BH8, 1)>=0.9, ROUND(BH7, 1)<0.9), 90, "") | BF8: =INDEX('Calcs-control2'!$G$386:$X$456, 'Graph-outputs'!$B8, 'Graph-outputs'!BF$2) -> 3475.9142 | BG8: 4 | BH8: =INDEX('Calcs-control2'!$G$170:$X$240, 'Graph-outputs'!$B8, 'Graph-outputs'!$AL$1) -> 0.4726933 | BJ8: =IF(AND(ROUND(BO8, 1)>=0.1, ROUND(BO7, 1)<0.1), 10, "") | BK8: =IF(AND(ROUND(BO8, 1)>=0.5, ROUND(BO7, 1)<0.5), 50, "") | BL8: =IF(AND(ROUND(BO8, 1)>=0.9, ROUND(BO7, 1)<0.9), 90, "") | BM8: =INDEX('Calcs-control2'!$AH$386:$AY$456, 'Graph-outputs'!$B8, 'Graph-outputs'!BM$2) -> 6632.3943 | BN8: 4 | BO8: =INDEX('Calcs-control2'!$AH$170:$AY$240, 'Graph-outputs'!$B8, 'Graph-outputs'!$AL$1) -> 0.73637618 | BR8: 4 | BS8: =IF(Settings!$N$5=1, 'Graph-outputs'!$BZ8, 'Graph-outputs'!$CG8) -> 2.8142193 | BU8: =IF(Settings!$N$5=1, 'Graph-outputs'!$CN8, 'Graph-outputs'!$CU8) -> 295.49303 | BW8: =IF(AND(ROUND(CB8, 1)>=0.1, ROUND(CB7, 1)<0.1), 10, "") | BX8: =IF(AND(ROUND(CB8, 1)>=0.5, ROUND(CB7, 1)<0.5), 50, "") | BY8: =IF(AND(ROUND(CB8, 1)>=0.9, ROUND(CB7, 1)<0.9), 90, "") | BZ8: =INDEX('Calcs-control3'!$G$86:$X$156, 'Graph-outputs'!$B8, 'Graph-outputs'!BZ$2) -> 2.8142193 | CA8: 4 | CB8: =INDEX('Calcs-control3'!$G$170:$X$240, 'Graph-outputs'!$B8, 'Graph-outputs'!$BT$1) -> 0 | CD8: =IF(AND(ROUND(CI8, 1)>=0.1, ROUND(CI7, 1)<0.1), 10, "") | CE8: =IF(AND(ROUND(CI8, 1)>=0.5, ROUND(CI7, 1)<0.5), 50, "") | CF8: =IF(AND(ROUND(CI8, 1)>=0.9, ROUND(CI7, 1)<0.9), 90, "") | CG8: =INDEX('Calcs-control3'!$AH$86:$AY$156, 'Graph-outputs'!$B8, 'Graph-outputs'!CG$2) -> 4.8099598 | CH8: 4 | CI8: =INDEX('Calcs-control2'!$AH$170:$AY$240, 'Graph-outputs'!$B8, 'Graph-outputs'!$BT$1) -> 0 | CK8: =IF(AND(ROUND(CP8, 1)>=0.1, ROUND(CP7, 1)<0.1), 10, "") | CL8: =IF(AND(ROUND(CP8, 1)>=0.5, ROUND(CP7, 1)<0.5), 50, "") | CM8: =IF(AND(ROUND(CP8, 1)>=0.9, ROUND(CP7, 1)<0.9), 90, "") | CN8: =INDEX('Calcs-control3'!$G$386:$X$456, 'Graph-outputs'!$B8, 'Graph-outputs'!CN$2) -> 295.49303 | CO8: 4 | CP8: =INDEX('Calcs-control2'!$G$170:$X$240, 'Graph-outputs'!$B8, 'Graph-outputs'!$BT$1) -> 0 | CR8: =IF(AND(ROUND(CW8, 1)>=0.1, ROUND(CW7, 1)<0.1), 10, "") | CS8: =IF(AND(ROUND(CW8, 1)>=0.5, ROUND(CW7, 1)<0.5), 50, "") | CT8: =IF(AND(ROUND(CW8, 1)>=0.9, ROUND(CW7, 1)<0.9), 90, "") | CU8: =INDEX('Calcs-control3'!$AH$386:$AY$456, 'Graph-outputs'!$B8, 'Graph-outputs'!CU$2) -> 505.04578 | CV8: 4 | CW8: =INDEX('Calcs-control2'!$AH$170:$AY$240, 'Graph-outputs'!$B8, 'Graph-outputs'!$BT$1) -> 0 | CZ8: 4 | DA8: =IF(Settings!$N$5=1, 'Graph-outputs'!$DH8, 'Graph-outputs'!$DO8) -> #REF! | DC8: =IF(Settings!$N$5=1, 'Graph-outputs'!$DV8, 'Graph-outputs'!$EC8) -> #REF! | DE8: =IF(AND(ROUND(DJ8, 1)>=0.1, ROUND(DJ7, 1)<0.1), 10, "") -> #REF! | DF8: =IF(AND(ROUND(DJ8, 1)>=0.5, ROUND(DJ7, 1)<0.5), 50, "") -> #REF! | DG8: =IF(AND(ROUND(DJ8, 1)>=0.9, ROUND(DJ7, 1)<0.9), 90, "") -> #REF! | DH8: =INDEX('Calcs-control4'!$G$86:$X$156, 'Graph-outputs'!$B8, 'Graph-outputs'!DH$2) -> #REF! | DI8: 4 | DJ8: =INDEX('Calcs-control4'!$G$170:$X$240, 'Graph-outputs'!$B8, 'Graph-outputs'!$DB$1) -> #REF! | DL8: =IF(AND(ROUND(DQ8, 1)>=0.1, ROUND(DQ7, 1)<0.1), 10, "") -> #REF! | DM8: =IF(AND(ROUND(DQ8, 1)>=0.5, ROUND(DQ7, 1)<0.5), 50, "") -> #REF! | DN8: =IF(AND(ROUND(DQ8, 1)>=0.9, ROUND(DQ7, 1)<0.9), 90, "") -> #REF! | DO8: =INDEX('Calcs-control4'!$AH$86:$AY$156, 'Graph-outputs'!$B8, 'Graph-outputs'!DO$2) -> #REF! | DP8: 4 | DQ8: =INDEX('Calcs-control4'!$AH$170:$AY$240, 'Graph-outputs'!$B8, 'Graph-outputs'!$DB$1) -> #REF! | DS8: =IF(AND(ROUND(DX8, 1)>=0.1, ROUND(DX7, 1)<0.1), 10, "") -> #REF! | DT8: =IF(AND(ROUND(DX8, 1)>=0.5, ROUND(DX7, 1)<0.5), 50, "") -> #REF! | DU8: =IF(AND(ROUND(DX8, 1)>=0.9, ROUND(DX7, 1)<0.9), 90, "") -> #REF! | DV8: =INDEX('Calcs-control4'!$G$386:$X$456, 'Graph-outputs'!$B8, 'Graph-outputs'!DV$2) -> #REF! | DW8: 4 | DX8: =INDEX('Calcs-control4'!$G$170:$X$240, 'Graph-outputs'!$B8, 'Graph-outputs'!$DB$1) -> #REF! | DZ8: =IF(AND(ROUND(EE8, 1)>=0.1, ROUND(EE7, 1)<0.1), 10, "") -> #REF! | EA8: =IF(AND(ROUND(EE8, 1)>=0.5, ROUND(EE7, 1)<0.5), 50, "") -> #REF! | EB8: =IF(AND(ROUND(EE8, 1)>=0.9, ROUND(EE7, 1)<0.9), 90, "") -> #REF! | EC8: =INDEX('Calcs-control4'!$AH$386:$AY$456, 'Graph-outputs'!$B8, 'Graph-outputs'!EC$2) -> #REF! | ED8: 4 | EE8: =INDEX('Calcs-control4'!$AH$170:$AY$240, 'Graph-outputs'!$B8, 'Graph-outputs'!$DB$1) -> #REF!
A9: 5 | B9: 6 | C9: =IF(Settings!$N$5=1, 'Graph-outputs'!$J9, 'Graph-outputs'!$Q9) -> 1.0839418 | E9: =IF(Settings!$N$5=1, 'Graph-outputs'!$X9, 'Graph-outputs'!$AE9) -> 497.54551 | G9: =IF(AND(ROUND(L9, 1)>=0.1, ROUND(L8, 1)<0.1), 10, "") | H9: =IF(AND(ROUND(L9, 1)>=0.5, ROUND(L8, 1)<0.5), 50, "") | I9: =IF(AND(ROUND(L9, 1)>=0.9, ROUND(L8, 1)<0.9), 90, "") | J9: =INDEX('Calcs-control1'!$G$86:$X$156, 'Graph-outputs'!$B9, 'Graph-outputs'!J$2) -> 1.0839418 | K9: 5 | L9: =INDEX('Calcs-control1'!$G$170:$X$240, 'Graph-outputs'!$B9, 'Graph-outputs'!$D$1) -> 0 | N9: =IF(AND(ROUND(S9, 1)>=0.1, ROUND(S8, 1)<0.1), 10, "") | O9: =IF(AND(ROUND(S9, 1)>=0.5, ROUND(S8, 1)<0.5), 50, "") | P9: =IF(AND(ROUND(S9, 1)>=0.9, ROUND(S8, 1)<0.9), 90, "") | Q9: =INDEX('Calcs-control1'!$AH$86:$AY$156, 'Graph-outputs'!$B9, 'Graph-outputs'!Q$2) -> 1.9204814 | R9: 5 | S9: =INDEX('Calcs-control1'!$AH$170:$AY$240, 'Graph-outputs'!$B9, 'Graph-outputs'!$Q$2) -> 0 | U9: =IF(AND(ROUND(Z9, 1)>=0.1, ROUND(Z8, 1)<0.1), 10, "") | V9: =IF(AND(ROUND(Z9, 1)>=0.5, ROUND(Z8, 1)<0.5), 50, "") | W9: =IF(AND(ROUND(Z9, 1)>=0.9, ROUND(Z8, 1)<0.9), 90, "") | X9: =INDEX('Calcs-control1'!$G$386:$X$456, 'Graph-outputs'!$B9, 'Graph-outputs'!X$2) -> 497.54551 | Y9: 5 | Z9: =INDEX('Calcs-control1'!$G$170:$X$240, 'Graph-outputs'!$B9, 'Graph-outputs'!$J$2) -> 0 | AB9: =IF(AND(ROUND(AG9, 1)>=0.1, ROUND(AG8, 1)<0.1), 10, "") | AC9: =IF(AND(ROUND(AG9, 1)>=0.5, ROUND(AG8, 1)<0.5), 50, "") | AD9: =IF(AND(ROUND(AG9, 1)>=0.9, ROUND(AG8, 1)<0.9), 90, "") | AE9: =INDEX('Calcs-control1'!$AH$386:$AY$456, 'Graph-outputs'!$B9, 'Graph-outputs'!AE$2) -> 881.52974 | AF9: 5 | AG9: =INDEX('Calcs-control1'!$AH$170:$AY$240, 'Graph-outputs'!$B9, 'Graph-outputs'!$Q$2) -> 0 | AJ9: 5 | AK9: =IF(Settings!$N$5=1, 'Graph-outputs'!$AR9, 'Graph-outputs'!$AY9) -> 5.2686101 | AM9: =IF(Settings!$N$5=1, 'Graph-outputs'!$BF9, 'Graph-outputs'!$BM9) -> 4943.9633 | AO9: =IF(AND(ROUND(AT9, 1)>=0.1, ROUND(AT8, 1)<0.1), 10, "") | AP9: =IF(AND(ROUND(AT9, 1)>=0.5, ROUND(AT8, 1)<0.5), 50, "") | AQ9: =IF(AND(ROUND(AT9, 1)>=0.9, ROUND(AT8, 1)<0.9), 90, "") | AR9: =INDEX('Calcs-control2'!$G$86:$X$156, 'Graph-outputs'!$B9, 'Graph-outputs'!AR$2) -> 5.2686101 | AS9: 5 | AT9: =INDEX('Calcs-control2'!$G$170:$X$240, 'Graph-outputs'!$B9, 'Graph-outputs'!$AL$1) -> 0.61960145 | AV9: =IF(AND(ROUND(BA9, 1)>=0.1, ROUND(BA8, 1)<0.1), 10, "") | AW9: =IF(AND(ROUND(BA9, 1)>=0.5, ROUND(BA8, 1)<0.5), 50, "") | AX9: =IF(AND(ROUND(BA9, 1)>=0.9, ROUND(BA8, 1)<0.9), 90, "") | AY9: =INDEX('Calcs-control2'!$AH$86:$AY$156, 'Graph-outputs'!$B9, 'Graph-outputs'!AY$2) -> 7.3544143 | AZ9: 5 | BA9: =INDEX('Calcs-control2'!$AH$170:$AY$240, 'Graph-outputs'!$B9, 'Graph-outputs'!$AL$1) -> 0.7645533 | BC9: =IF(AND(ROUND(BH9, 1)>=0.1, ROUND(BH8, 1)<0.1), 10, "") | BD9: =IF(AND(ROUND(BH9, 1)>=0.5, ROUND(BH8, 1)<0.5), 50, "") | BE9: =IF(AND(ROUND(BH9, 1)>=0.9, ROUND(BH8, 1)<0.9), 90, "") | BF9: =INDEX('Calcs-control2'!$G$386:$X$456, 'Graph-outputs'!$B9, 'Graph-outputs'!BF$2) -> 4943.9633 | BG9: 5 | BH9: =INDEX('Calcs-control2'!$G$170:$X$240, 'Graph-outputs'!$B9, 'Graph-outputs'!$AL$1) -> 0.61960145 | BJ9: =IF(AND(ROUND(BO9, 1)>=0.1, ROUND(BO8, 1)<0.1), 10, "") | BK9: =IF(AND(ROUND(BO9, 1)>=0.5, ROUND(BO8, 1)<0.5), 50, "") | BL9: =IF(AND(ROUND(BO9, 1)>=0.9, ROUND(BO8, 1)<0.9), 90, "") | BM9: =INDEX('Calcs-control2'!$AH$386:$AY$456, 'Graph-outputs'!$B9, 'Graph-outputs'!BM$2) -> 7157.0907 | BN9: 5 | BO9: =INDEX('Calcs-control2'!$AH$170:$AY$240, 'Graph-outputs'!$B9, 'Graph-outputs'!$AL$1) -> 0.7645533 | BR9: 5 | BS9: =IF(Settings!$N$5=1, 'Graph-outputs'!$BZ9, 'Graph-outputs'!$CG9) -> 3.765536 | BU9: =IF(Settings!$N$5=1, 'Graph-outputs'!$CN9, 'Graph-outputs'!$CU9) -> 395.38128 | BW9: =IF(AND(ROUND(CB9, 1)>=0.1, ROUND(CB8, 1)<0.1), 10, "") | BX9: =IF(AND(ROUND(CB9, 1)>=0.5, ROUND(CB8, 1)<0.5), 50, "") | BY9: =IF(AND(ROUND(CB9, 1)>=0.9, ROUND(CB8, 1)<0.9), 90, "") | BZ9: =INDEX('Calcs-control3'!$G$86:$X$156, 'Graph-outputs'!$B9, 'Graph-outputs'!BZ$2) -> 3.765536 | CA9: 5 | CB9: =INDEX('Calcs-control3'!$G$170:$X$240, 'Graph-outputs'!$B9, 'Graph-outputs'!$BT$1) -> 0 | CD9: =IF(AND(ROUND(CI9, 1)>=0.1, ROUND(CI8, 1)<0.1), 10, "") | CE9: =IF(AND(ROUND(CI9, 1)>=0.5, ROUND(CI8, 1)<0.5), 50, "") | CF9: =IF(AND(ROUND(CI9, 1)>=0.9, ROUND(CI8, 1)<0.9), 90, "") | CG9: =INDEX('Calcs-control3'!$AH$86:$AY$156, 'Graph-outputs'!$B9, 'Graph-outputs'!CG$2) -> 5.1277495 | CH9: 5 | CI9: =INDEX('Calcs-control2'!$AH$170:$AY$240, 'Graph-outputs'!$B9, 'Graph-outputs'!$BT$1) -> 0 | CK9: =IF(AND(ROUND(CP9, 1)>=0.1, ROUND(CP8, 1)<0.1), 10, "") | CL9: =IF(AND(ROUND(CP9, 1)>=0.5, ROUND(CP8, 1)<0.5), 50, "") | CM9: =IF(AND(ROUND(CP9, 1)>=0.9, ROUND(CP8, 1)<0.9), 90, "") | CN9: =INDEX('Calcs-control3'!$G$386:$X$456, 'Graph-outputs'!$B9, 'Graph-outputs'!CN$2) -> 395.38128 | CO9: 5 | CP9: =INDEX('Calcs-control2'!$G$170:$X$240, 'Graph-outputs'!$B9, 'Graph-outputs'!$BT$1) -> 0 | CR9: =IF(AND(ROUND(CW9, 1)>=0.1, ROUND(CW8, 1)<0.1), 10, "") | CS9: =IF(AND(ROUND(CW9, 1)>=0.5, ROUND(CW8, 1)<0.5), 50, "") | CT9: =IF(AND(ROUND(CW9, 1)>=0.9, ROUND(CW8, 1)<0.9), 90, "") | CU9: =INDEX('Calcs-control3'!$AH$386:$AY$456, 'Graph-outputs'!$B9, 'Graph-outputs'!CU$2) -> 538.4137 | CV9: 5 | CW9: =INDEX('Calcs-control2'!$AH$170:$AY$240, 'Graph-outputs'!$B9, 'Graph-outputs'!$BT$1) -> 0 | CZ9: 5 | DA9: =IF(Settings!$N$5=1, 'Graph-outputs'!$DH9, 'Graph-outputs'!$DO9) -> #REF! | DC9: =IF(Settings!$N$5=1, 'Graph-outputs'!$DV9, 'Graph-outputs'!$EC9) -> #REF! | DE9: =IF(AND(ROUND(DJ9, 1)>=0.1, ROUND(DJ8, 1)<0.1), 10, "") -> #REF! | DF9: =IF(AND(ROUND(DJ9, 1)>=0.5, ROUND(DJ8, 1)<0.5), 50, "") -> #REF! | DG9: =IF(AND(ROUND(DJ9, 1)>=0.9, ROUND(DJ8, 1)<0.9), 90, "") -> #REF! | DH9: =INDEX('Calcs-control4'!$G$86:$X$156, 'Graph-outputs'!$B9, 'Graph-outputs'!DH$2) -> #REF! | DI9: 5 | DJ9: =INDEX('Calcs-control4'!$G$170:$X$240, 'Graph-outputs'!$B9, 'Graph-outputs'!$DB$1) -> #REF! | DL9: =IF(AND(ROUND(DQ9, 1)>=0.1, ROUND(DQ8, 1)<0.1), 10, "") -> #REF! | DM9: =IF(AND(ROUND(DQ9, 1)>=0.5, ROUND(DQ8, 1)<0.5), 50, "") -> #REF! | DN9: =IF(AND(ROUND(DQ9, 1)>=0.9, ROUND(DQ8, 1)<0.9), 90, "") -> #REF! | DO9: =INDEX('Calcs-control4'!$AH$86:$AY$156, 'Graph-outputs'!$B9, 'Graph-outputs'!DO$2) -> #REF! | DP9: 5 | DQ9: =INDEX('Calcs-control4'!$AH$170:$AY$240, 'Graph-outputs'!$B9, 'Graph-outputs'!$DB$1) -> #REF! | DS9: =IF(AND(ROUND(DX9, 1)>=0.1, ROUND(DX8, 1)<0.1), 10, "") -> #REF! | DT9: =IF(AND(ROUND(DX9, 1)>=0.5, ROUND(DX8, 1)<0.5), 50, "") -> #REF! | DU9: =IF(AND(ROUND(DX9, 1)>=0.9, ROUND(DX8, 1)<0.9), 90, "") -> #REF! | DV9: =INDEX('Calcs-control4'!$G$386:$X$456, 'Graph-outputs'!$B9, 'Graph-outputs'!DV$2) -> #REF! | DW9: 5 | DX9: =INDEX('Calcs-control4'!$G$170:$X$240, 'Graph-outputs'!$B9, 'Graph-outputs'!$DB$1) -> #REF! | DZ9: =IF(AND(ROUND(EE9, 1)>=0.1, ROUND(EE8, 1)<0.1), 10, "") -> #REF! | EA9: =IF(AND(ROUND(EE9, 1)>=0.5, ROUND(EE8, 1)<0.5), 50, "") -> #REF! | EB9: =IF(AND(ROUND(EE9, 1)>=0.9, ROUND(EE8, 1)<0.9), 90, "") -> #REF! | EC9: =INDEX('Calcs-control4'!$AH$386:$AY$456, 'Graph-outputs'!$B9, 'Graph-outputs'!EC$2) -> #REF! | ED9: 5 | EE9: =INDEX('Calcs-control4'!$AH$170:$AY$240, 'Graph-outputs'!$B9, 'Graph-outputs'!$DB$1) -> #REF!
A10: 6 | B10: 7 | C10: =IF(Settings!$N$5=1, 'Graph-outputs'!$J10, 'Graph-outputs'!$Q10) -> 1.6758833 | E10: =IF(Settings!$N$5=1, 'Graph-outputs'!$X10, 'Graph-outputs'!$AE10) -> 769.25553 | G10: =IF(AND(ROUND(L10, 1)>=0.1, ROUND(L9, 1)<0.1), 10, "") | H10: =IF(AND(ROUND(L10, 1)>=0.5, ROUND(L9, 1)<0.5), 50, "") | I10: =IF(AND(ROUND(L10, 1)>=0.9, ROUND(L9, 1)<0.9), 90, "") | J10: =INDEX('Calcs-control1'!$G$86:$X$156, 'Graph-outputs'!$B10, 'Graph-outputs'!J$2) -> 1.6758833 | K10: 6 | L10: =INDEX('Calcs-control1'!$G$170:$X$240, 'Graph-outputs'!$B10, 'Graph-outputs'!$D$1) -> 0 | N10: =IF(AND(ROUND(S10, 1)>=0.1, ROUND(S9, 1)<0.1), 10, "") | O10: =IF(AND(ROUND(S10, 1)>=0.5, ROUND(S9, 1)<0.5), 50, "") | P10: =IF(AND(ROUND(S10, 1)>=0.9, ROUND(S9, 1)<0.9), 90, "") | Q10: =INDEX('Calcs-control1'!$AH$86:$AY$156, 'Graph-outputs'!$B10, 'Graph-outputs'!Q$2) -> 2.1548113 | R10: 6 | S10: =INDEX('Calcs-control1'!$AH$170:$AY$240, 'Graph-outputs'!$B10, 'Graph-outputs'!$Q$2) -> 0 | U10: =IF(AND(ROUND(Z10, 1)>=0.1, ROUND(Z9, 1)<0.1), 10, "") | V10: =IF(AND(ROUND(Z10, 1)>=0.5, ROUND(Z9, 1)<0.5), 50, "") | W10: =IF(AND(ROUND(Z10, 1)>=0.9, ROUND(Z9, 1)<0.9), 90, "") | X10: =INDEX('Calcs-control1'!$G$386:$X$456, 'Graph-outputs'!$B10, 'Graph-outputs'!X$2) -> 769.25553 | Y10: 6 | Z10: =INDEX('Calcs-control1'!$G$170:$X$240, 'Graph-outputs'!$B10, 'Graph-outputs'!$J$2) -> 0 | AB10: =IF(AND(ROUND(AG10, 1)>=0.1, ROUND(AG9, 1)<0.1), 10, "") | AC10: =IF(AND(ROUND(AG10, 1)>=0.5, ROUND(AG9, 1)<0.5), 50, "") | AD10: =IF(AND(ROUND(AG10, 1)>=0.9, ROUND(AG9, 1)<0.9), 90, "") | AE10: =INDEX('Calcs-control1'!$AH$386:$AY$456, 'Graph-outputs'!$B10, 'Graph-outputs'!AE$2) -> 989.09068 | AF10: 6 | AG10: =INDEX('Calcs-control1'!$AH$170:$AY$240, 'Graph-outputs'!$B10, 'Graph-outputs'!$Q$2) -> 0 | AJ10: 6 | AK10: =IF(Settings!$N$5=1, 'Graph-outputs'!$AR10, 'Graph-outputs'!$AY10) -> 6.7845328 | AM10: =IF(Settings!$N$5=1, 'Graph-outputs'!$BF10, 'Graph-outputs'!$BM10) -> 6548.8076 | AO10: =IF(AND(ROUND(AT10, 1)>=0.1, ROUND(AT9, 1)<0.1), 10, "") | AP10: =IF(AND(ROUND(AT10, 1)>=0.5, ROUND(AT9, 1)<0.5), 50, "") | AQ10: =IF(AND(ROUND(AT10, 1)>=0.9, ROUND(AT9, 1)<0.9), 90, "") | AR10: =INDEX('Calcs-control2'!$G$86:$X$156, 'Graph-outputs'!$B10, 'Graph-outputs'!AR$2) -> 6.7845328 | AS10: 6 | AT10: =INDEX('Calcs-control2'!$G$170:$X$240, 'Graph-outputs'!$B10, 'Graph-outputs'!$AL$1) -> 0.73157882 | AV10: =IF(AND(ROUND(BA10, 1)>=0.1, ROUND(BA9, 1)<0.1), 10, "") | AW10: =IF(AND(ROUND(BA10, 1)>=0.5, ROUND(BA9, 1)<0.5), 50, "") | AX10: =IF(AND(ROUND(BA10, 1)>=0.9, ROUND(BA9, 1)<0.9), 90, "") | AY10: =INDEX('Calcs-control2'!$AH$86:$AY$156, 'Graph-outputs'!$B10, 'Graph-outputs'!AY$2) -> 7.8785498 | AZ10: 6 | BA10: =INDEX('Calcs-control2'!$AH$170:$AY$240, 'Graph-outputs'!$B10, 'Graph-outputs'!$AL$1) -> 0.79129257 | BC10: =IF(AND(ROUND(BH10, 1)>=0.1, ROUND(BH9, 1)<0.1), 10, "") | BD10: =IF(AND(ROUND(BH10, 1)>=0.5, ROUND(BH9, 1)<0.5), 50, "") | BE10: =IF(AND(ROUND(BH10, 1)>=0.9, ROUND(BH9, 1)<0.9), 90, "") | BF10: =INDEX('Calcs-control2'!$G$386:$X$456, 'Graph-outputs'!$B10, 'Graph-outputs'!BF$2) -> 6548.8076 | BG10: 6 | BH10: =INDEX('Calcs-control2'!$G$170:$X$240, 'Graph-outputs'!$B10, 'Graph-outputs'!$AL$1) -> 0.73157882 | BJ10: =IF(AND(ROUND(BO10, 1)>=0.1, ROUND(BO9, 1)<0.1), 10, "") | BK10: =IF(AND(ROUND(BO10, 1)>=0.5, ROUND(BO9, 1)<0.5), 50, "") | BL10: =IF(AND(ROUND(BO10, 1)>=0.9, ROUND(BO9, 1)<0.9), 90, "") | BM10: =INDEX('Calcs-control2'!$AH$386:$AY$456, 'Graph-outputs'!$B10, 'Graph-outputs'!BM$2) -> 7717.7234 | BN10: 6 | BO10: =INDEX('Calcs-control2'!$AH$170:$AY$240, 'Graph-outputs'!$B10, 'Graph-outputs'!$AL$1) -> 0.79129257 | BR10: 6 | BS10: =IF(Settings!$N$5=1, 'Graph-outputs'!$BZ10, 'Graph-outputs'!$CG10) -> 4.7590913 | BU10: =IF(Settings!$N$5=1, 'Graph-outputs'!$CN10, 'Graph-outputs'!$CU10) -> 499.70458 | BW10: =IF(AND(ROUND(CB10, 1)>=0.1, ROUND(CB9, 1)<0.1), 10, "") | BX10: =IF(AND(ROUND(CB10, 1)>=0.5, ROUND(CB9, 1)<0.5), 50, "") | BY10: =IF(AND(ROUND(CB10, 1)>=0.9, ROUND(CB9, 1)<0.9), 90, "") | BZ10: =INDEX('Calcs-control3'!$G$86:$X$156, 'Graph-outputs'!$B10, 'Graph-outputs'!BZ$2) -> 4.7590913 | CA10: 6 | CB10: =INDEX('Calcs-control3'!$G$170:$X$240, 'Graph-outputs'!$B10, 'Graph-outputs'!$BT$1) -> 0 | CD10: =IF(AND(ROUND(CI10, 1)>=0.1, ROUND(CI9, 1)<0.1), 10, "") | CE10: =IF(AND(ROUND(CI10, 1)>=0.5, ROUND(CI9, 1)<0.5), 50, "") | CF10: =IF(AND(ROUND(CI10, 1)>=0.9, ROUND(CI9, 1)<0.9), 90, "") | CG10: =INDEX('Calcs-control3'!$AH$86:$AY$156, 'Graph-outputs'!$B10, 'Graph-outputs'!CG$2) -> 5.4647446 | CH10: 6 | CI10: =INDEX('Calcs-control2'!$AH$170:$AY$240, 'Graph-outputs'!$B10, 'Graph-outputs'!$BT$1) -> 0 | CK10: =IF(AND(ROUND(CP10, 1)>=0.1, ROUND(CP9, 1)<0.1), 10, "") | CL10: =IF(AND(ROUND(CP10, 1)>=0.5, ROUND(CP9, 1)<0.5), 50, "") | CM10: =IF(AND(ROUND(CP10, 1)>=0.9, ROUND(CP9, 1)<0.9), 90, "") | CN10: =INDEX('Calcs-control3'!$G$386:$X$456, 'Graph-outputs'!$B10, 'Graph-outputs'!CN$2) -> 499.70458 | CO10: 6 | CP10: =INDEX('Calcs-control2'!$G$170:$X$240, 'Graph-outputs'!$B10, 'Graph-outputs'!$BT$1) -> 0 | CR10: =IF(AND(ROUND(CW10, 1)>=0.1, ROUND(CW9, 1)<0.1), 10, "") | CS10: =IF(AND(ROUND(CW10, 1)>=0.5, ROUND(CW9, 1)<0.5), 50, "") | CT10: =IF(AND(ROUND(CW10, 1)>=0.9, ROUND(CW9, 1)<0.9), 90, "") | CU10: =INDEX('Calcs-control3'!$AH$386:$AY$456, 'Graph-outputs'!$B10, 'Graph-outputs'!CU$2) -> 573.79818 | CV10: 6 | CW10: =INDEX('Calcs-control2'!$AH$170:$AY$240, 'Graph-outputs'!$B10, 'Graph-outputs'!$BT$1) -> 0 | CZ10: 6 | DA10: =IF(Settings!$N$5=1, 'Graph-outputs'!$DH10, 'Graph-outputs'!$DO10) -> #REF! | DC10: =IF(Settings!$N$5=1, 'Graph-outputs'!$DV10, 'Graph-outputs'!$EC10) -> #REF! | DE10: =IF(AND(ROUND(DJ10, 1)>=0.1, ROUND(DJ9, 1)<0.1), 10, "") -> #REF! | DF10: =IF(AND(ROUND(DJ10, 1)>=0.5, ROUND(DJ9, 1)<0.5), 50, "") -> #REF! | DG10: =IF(AND(ROUND(DJ10, 1)>=0.9, ROUND(DJ9, 1)<0.9), 90, "") -> #REF! | DH10: =INDEX('Calcs-control4'!$G$86:$X$156, 'Graph-outputs'!$B10, 'Graph-outputs'!DH$2) -> #REF! | DI10: 6 | DJ10: =INDEX('Calcs-control4'!$G$170:$X$240, 'Graph-outputs'!$B10, 'Graph-outputs'!$DB$1) -> #REF! | DL10: =IF(AND(ROUND(DQ10, 1)>=0.1, ROUND(DQ9, 1)<0.1), 10, "") -> #REF! | DM10: =IF(AND(ROUND(DQ10, 1)>=0.5, ROUND(DQ9, 1)<0.5), 50, "") -> #REF! | DN10: =IF(AND(ROUND(DQ10, 1)>=0.9, ROUND(DQ9, 1)<0.9), 90, "") -> #REF! | DO10: =INDEX('Calcs-control4'!$AH$86:$AY$156, 'Graph-outputs'!$B10, 'Graph-outputs'!DO$2) -> #REF! | DP10: 6 | DQ10: =INDEX('Calcs-control4'!$AH$170:$AY$240, 'Graph-outputs'!$B10, 'Graph-outputs'!$DB$1) -> #REF! | DS10: =IF(AND(ROUND(DX10, 1)>=0.1, ROUND(DX9, 1)<0.1), 10, "") -> #REF! | DT10: =IF(AND(ROUND(DX10, 1)>=0.5, ROUND(DX9, 1)<0.5), 50, "") -> #REF! | DU10: =IF(AND(ROUND(DX10, 1)>=0.9, ROUND(DX9, 1)<0.9), 90, "") -> #REF! | DV10: =INDEX('Calcs-control4'!$G$386:$X$456, 'Graph-outputs'!$B10, 'Graph-outputs'!DV$2) -> #REF! | DW10: 6 | DX10: =INDEX('Calcs-control4'!$G$170:$X$240, 'Graph-outputs'!$B10, 'Graph-outputs'!$DB$1) -> #REF! | DZ10: =IF(AND(ROUND(EE10, 1)>=0.1, ROUND(EE9, 1)<0.1), 10, "") -> #REF! | EA10: =IF(AND(ROUND(EE10, 1)>=0.5, ROUND(EE9, 1)<0.5), 50, "") -> #REF! | EB10: =IF(AND(ROUND(EE10, 1)>=0.9, ROUND(EE9, 1)<0.9), 90, "") -> #REF! | EC10: =INDEX('Calcs-control4'!$AH$386:$AY$456, 'Graph-outputs'!$B10, 'Graph-outputs'!EC$2) -> #REF! | ED10: 6 | EE10: =INDEX('Calcs-control4'!$AH$170:$AY$240, 'Graph-outputs'!$B10, 'Graph-outputs'!$DB$1) -> #REF!
