Workbook
Name ISI: 'Calcs-control1'!$A$4
Name ISI: 'Calcs-control2'!$A$4
Name ISI: 'Calcs-control3'!$A$4
Name ISI: 'Calcs-control4'!$A$4
Name ISI: #REF!

Sheet Notes
A1: FBP Graph 3.0
A3: General Information
A4: - Graphs are best viewed in Full Screen mode (select View/Full Screen)
A5: - Curve shapes may give slightly misleading inflection points, asymptotes, etc. (curves are drawn using the default MS Excel
A6: smoothing function between points and are not exact curves); the issue will be negligible for most users.
A7: - Resolution and accuracy of graph outputs is assumed to be +/- 1 km/h of wind speed and 1 ISI unit.
A9: Notes - Rate of Spread (ROS) Graph:
A10: - Graphs show the head fire rate of spread (ROS) for different FBP fuel types.
A11: - The Fire Type check box, when selected, shows the position of the following points:
A12: ● | B12: - Transition point from Surface to Intermittent crown fire (defined as Crown Fraction Burned of 10%)
A13: ♦ | B13: - Mid-point of Intermittent Crown Fire (50% Crown Fraction Burned)
A14: ■ | B14: - Continuous Crown fire transition point (defined as Crown Fraction Burned of 90%)
A15: - If Fire Type box is selected but no symbols appear on the output line, a surface fire is predicted under all conditions
A16: - Fire type is always surface fire (no symbol shown) for non-conifer fuel types: D-1, D-2, O-1a/b, S-1, S-2, S-3, regardless of whether Fire Type is checked or not.
A17: - The fuel type modifier (M) drop-down box appears for certain fuel types, representing the following parameters:
B18: M-1 & M-2 | C18: → | D18: % Conifer
B19: O-1a & O-1b | C19: → | D19: % cured
B20: M-3 & M-4 | C20: → | D20: % Dead balsam fir
A21: - The modifier value disappears for other fuel types.
A23: - BUI value affects ROS for all fuel types except grass types (O-1a and O-1b); however, the BUI effect on ROS is quite small for some fuel types (e.g. D2).
A24: - If standard daily BUI is unknown or suspect, select 'Std/No ROS effect'. This calculates ROS without the influence of the BUI effect (BE = 1); and
A25: calculates HFI using the following BUI values as constants (see Taylor et al. 1997, Forestry Canada Fire Danger Group 1992):
B26: C-1: | C26: 72 | E26: C-7: | F26: 106 | I26: M-4: | J26: 50
B27: C-2: | C27: 64 | E27: D-1: | F27: 32 | I27: S-1: | J27: 38
B28: C-3: | C28: 62 | E28: D-2: | F28: 32 | I28: S-2: | J28: 63
B29: C-4: | C29: 66 | E29: M-1: | F29: 50 | I29: S-3: | J29: 31
B30: C-5: | C30: 56 | E30: M-2: | F30: 50
B31: C-6: | C31: 62 | E31: M-3: | F31: 50
A33: - For the C-6 fuel type, CBH (Crown Base Height) can be modified to change the rate of crowning; this affects ROS as well as HFI
A34: - FMC (Foliar Moisture Content, % water by weight) also affects ROS for the C-6 fuel type.
A35: - For the D-2 fuel type, ROS and Headfire intensity are both zero when BUI is below 70 (as suggested by Alexander 2010).
A37: Notes - Head Fire Intensity graph (Intensity):
A38: - BUI value affects intensity for all fuel type except grass types (O-1a and O-1b).
A39: - FMC affects intensity (very slightly) for most fuel types; the effect is much greater for C-6, as crown fire is modeled differently in this fuel type.
A40: - Grass fuel load (GFL) is the only variable (other than ISI or wind speed) in this graph that affects head fire intensity for the O-1a and O-1b fuel types.
A41: - The default GFL value suggested in the GLC-X-10 report (Wotton et al. 2009) is 3.5 t/ha, based on the original Australian fire behaviour dataset,
A42: (Cheney et al. 1993), supplemented with more recent measurements in northern Alberta, New Zealand, and elsewhere.
A43: - For the D-2 fuel type, ROS and Headfire intensity are both zero when BUI is below 70 (as suggested by Alexander 2010).
A44: - FFMC (which affects fuel consumption for the C-1 and C-7 fuel types, only slightly) is set at 91 for the purposes of intensity calculations when ISI (not wind speed) is
A45: selected; when wind speed is selected, user-selected FFMC is used.
... A50: - Most programming comments are in the 'Calcs-control1' worksheet (hidden), on line 2.

Sheet About
A1: FBP Fuel Type Graphing Tool
A2: v. 3.0, February 2016
A3: by Daniel Perrakis, Ph.D., Fire Science Officer,
A4: BC Wildfire Service, Ministry of Forests, Lands, and Natural Resource Operations
A5: Contact: | B5: Daniel.Perrakis@gov.bc.ca
B6: dperrakis@gmail.com
A7: Comments, corrections, and suggestions are welcome.
A9: Citation:
A10: Perrakis, D.D.B. 2016. FBP Fuel Type Graphing Tool [software application]. Available online:
A14: Version Notes:
A15: V3.0 (beta), February 2016
A17: - v3.0 - Major changes - all calculations from ISI/Wind speed intervals of 2.5 down to intervals of 1; added Fire type check box and functionality
A18: - v2.11 - fixed error in Control2 that miscalculated moisture content using old FFMC equation
A19: - New for v2.1 - BUI effect on Rate of Spread can be 'turned off'; in the BUI drop-down, select 'Std/No ROS effect' to make the BUI effect = 1 for
A20: all fuel types (uses BUI=BUIo for ROS calculations; BUI is still used to calculate fuel consumption). Note that standard BUI values will then be used for HFI
A21: calculations, and this may be slightly misleading when comparing different fuel types. For example, when 'Std/No ROS effect' is selected, comparing HFI
A22: between C5 and C7 will show HFI for C5 at BUI=56 and HFI for C7 at BUI=106. Recall that the BUI effect on ROS has not been found to be statistically significant
A23: (Forestry Canada Fire Danger Group 1992).
... A40: Forestry Canada Fire Danger Group. 1992. Development and structure of the Canadian Forest Fire Behaviour Prediction System. Information Report
A41: ST-X-3. Science and Sustainable Development Directorate, Forestry Canada. Ottawa, ON. | J41: http://cfs.nrcan.gc.ca/pubwarehouse/pdfs/10068.pdf
A43: Taylor, S.W., R.G. Pike, and M.E. Alexander. 1997. Field Guide to the Canadian Forest Fire Behaviour Prediction System. Special Report 11. Fire
A44: Management Network, Canadian Forest Service, Northern Forestry Centre. Edmonton, AB. | J44: https://www.frames.gov/documents/catalog/taylor_pike_alexander_1997.pdf
A46: Wotton, B.M., M.E. Alexander, S.W. Taylor. 2009. Updates and revisions to the 1992 Canadian Forest Fire Behaviour Prediction System.
A47: Information Report GLC-X-10. Natural Resources Canada, Canadian Forest Service, Great Lakes Forestry Centre. Sault Ste. Marie, ON.

Sheet Graph-outputs
C1: Control 1: | D1: 6 | AK1: Control 2 | AL1: 2 | BS1: Control 3 | BT1: 13 | DA1: Control 4 | DB1: 19
J2: =D1 -> 6 | Q2: =D1 -> 6 | X2: =D1 -> 6 | AE2: =D1 -> 6 | AR2: =AL1 -> 2 | AY2: =AL1 -> 2 | BF2: =AL1 -> 2 | BM2: =AL1 -> 2 | BZ2: =BT1 -> 13 | CG2: =BT1 -> 13 | CN2: =BT1 -> 13 | CU2: =BT1 -> 13 | DH2: =DB1 -> 19 | DO2: =DB1 -> 19 | DV2: =DB1 -> 19 | EC2: =DB1 -> 19
A3: ISI/WS | B3: Index | C3: ROS output | E3: HFI output | G3: IC | H3: CFB0.5 | I3: CC | J3: ROS/ISI | K3: ISI | L3: CFB | N3: IC | O3: CFB0.5 | P3: CC | Q3: ROS/WS | R3: WS | S3: CFB | U3: IC | V3: CFB0.5 | W3: CC | X3: HFI/ISI | Y3: ISI | Z3: CFB | AB3: IC | AC3: CFB0.5 | AD3: CC | AE3: HFI/WS | AF3: WS | AG3: CFB | AJ3: ISI/WS | AK3: ROS output | AM3: HFI output | AO3: IC | AP3: CFB0.5 | AQ3: CC | AR3: ROS/ISI | AS3: ISI | AT3: CFB | AV3: IC | AW3: CFB0.5 | AX3: CC | AY3: ROS/WS | AZ3: WS | BA3: CFB | BC3: IC | BD3: CFB0.5 | BE3: CC | BF3: HFI/ISI | BG3: ISI | BH3: CFB | BJ3: IC | BK3: CFB0.5 | BL3: CC | BM3: HFI/WS | BN3: WS | BO3: CFB | BR3: ISI/WS | BS3: ROS output | BU3: HFI output | BW3: IC | BX3: CFB0.5 | BY3: CC | BZ3: ROS/ISI | CA3: ISI | CB3: CFB | CD3: IC | CE3: CFB0.5 | CF3: CC | CG3: ROS/WS | CH3: WS | CI3: CFB | CK3: IC | CL3: CFB0.5 | CM3: CC | CN3: HFI/ISI | CO3: ISI | CP3: CFB | CR3: IC | CS3: CFB0.5 | CT3: CC | CU3: HFI/WS | CV3: WS | CW3: CFB | CZ3: ISI/WS | DA3: ROS output | DC3: HFI output | DE3: IC | DF3: CFB0.5 | DG3: CC | DH3: ROS/ISI | DI3: ISI | DJ3: CFB | DL3: IC | DM3: CFB0.5 | DN3: CC | DO3: ROS/WS | DP3: WS | DQ3: CFB | DS3: IC | DT3: CFB0.5 | DU3: CC | DV3: HFI/ISI | DW3: ISI | DX3: CFB | DZ3: IC | EA3: CFB0.5 | EB3: CC | EC3: HFI/WS | ED3: WS | EE3: CFB
A4: 0 | B4: 1 | C4: =IF(Settings!$N$5=1, 'Graph-outputs'!$J4, 'Graph-outputs'!$Q4) -> 0 | E4: =IF(Settings!$N$5=1, 'Graph-outputs'!$X4, 'Graph-outputs'!$AE4) -> 0 | G4: =IF(AND(ROUND(L4, 1)>=0.1, L3<0.1), 10, "") | H4: =IF(AND(ROUND(L4, 1)>=0.5, L3<0.5), 50, "") | I4: =IF(AND(ROUND(L4, 1)>=0.9, L3<0.9), 90, "") | J4: =INDEX('Calcs-control1'!$G$86:$X$156, 'Graph-outputs'!$B4, 'Graph-outputs'!J$2) -> 0 | K4: 0 | L4: =INDEX('Calcs-control1'!$G$170:$X$240, 'Graph-outputs'!$B4, 'Graph-outputs'!$D$1) -> 0 | N4: =IF(AND(ROUND(S4, 1)>=0.1, S3<0.1), 10, "") | O4: =IF(AND(ROUND(S4, 1)>=0.5, S3<0.5), 50, "") | P4: =IF(AND(ROUND(S4, 1)>=0.9, S3<0.9), 90, "") | Q4: =INDEX('Calcs-control1'!$AH$86:$AY$156, 'Graph-outputs'!$B4, 'Graph-outputs'!Q$2) -> 1.0554912 | R4: 0 | S4: =INDEX('Calcs-control1'!$AH$170:$AY$240, 'Graph-outputs'!$B4, 'Graph-outputs'!$Q$2) -> 0 | U4: =IF(AND(ROUND(Z4, 1)>=0.1, Z3<0.1), 10, "") | V4: =IF(AND(ROUND(Z4, 1)>=0.5, Z3<0.5), 50, "") | W4: =IF(AND(ROUND(Z4, 1)>=0.9, Z3<0.9), 90, "") | X4: =INDEX('Calcs-control1'!$G$386:$X$456, 'Graph-outputs'!$B4, 'Graph-outputs'!X$2) -> 0 | Y4: 0 | Z4: =INDEX('Calcs-control1'!$G$170:$X$240, 'Graph-outputs'!$B4, 'Graph-outputs'!$J$2) -> 0 | AB4: =IF(AND(ROUND(AG4, 1)>=0.1, AG3<0.1), 10, "") | AC4: =IF(AND(ROUND(AG4, 1)>=0.5, AG3<0.5), 50, "") | AD4: =IF(AND(ROUND(AG4, 1)>=0.9, AG3<0.9), 90, "") | AE4: =INDEX('Calcs-control1'!$AH$386:$AY$456, 'Graph-outputs'!$B4, 'Graph-outputs'!AE$2) -> 484.48629 | AF4: 0 | AG4: =INDEX('Calcs-control1'!$AH$170:$AY$240, 'Graph-outputs'!$B4, 'Graph-outputs'!$Q$2) -> 0 | AJ4: 0 | AK4: =IF(Settings!$N$5=1, 'Graph-outputs'!$AR4, 'Graph-outputs'!$AY4) -> 0 | AM4: =IF(Settings!$N$5=1, 'Graph-outputs'!$BF4, 'Graph-outputs'!$BM4) -> 0 | AO4: =IF(AND(ROUND(AT4, 1)>=0.1, AT3<0.1), 10, "") | AP4: =IF(AND(ROUND(AT4, 1)>=0.5, AT3<0.5), 50, "") | AQ4: =IF(AND(ROUND(AT4, 1)>=0.9, AT3<0.9), 90, "") | AR4: =INDEX('Calcs-control2'!$G$86:$X$156, 'Graph-outputs'!$B4, 'Graph-outputs'!AR$2) -> 0 | AS4: 0 | AT4: =INDEX('Calcs-control2'!$G$170:$X$240, 'Graph-outputs'!$B4, 'Graph-outputs'!$AL$1) -> 0 | AV4: =IF(AND(ROUND(BA4, 1)>=0.1, BA3<0.1), 10, "") | AW4: =IF(AND(ROUND(BA4, 1)>=0.5, BA3<0.5), 50, "") | AX4: =IF(AND(ROUND(BA4, 1)>=0.9, BA3<0.9), 90, "") | AY4: =INDEX('Calcs-control2'!$AH$86:$AY$156, 'Graph-outputs'!$B4, 'Graph-outputs'!AY$2) -> 5.1890576 | AZ4: 0 | BA4: =INDEX('Calcs-control2'!$AH$170:$AY$240, 'Graph-outputs'!$B4, 'Graph-outputs'!$AL$1) -> 0.6125772 | BC4: =IF(AND(ROUND(BH4, 1)>=0.1, BH3<0.1), 10, "") | BD4: =IF(AND(ROUND(BH4, 1)>=0.5, BH3<0.5), 50, "") | BE4: =IF(AND(ROUND(BH4, 1)>=0.9, BH3<0.9), 90, "") | BF4: =INDEX('Calcs-control2'!$G$386:$X$456, 'Graph-outputs'!$B4, 'Graph-outputs'!BF$2) -> 0 | BG4: 0 | BH4: =INDEX('Calcs-control2'!$G$170:$X$240, 'Graph-outputs'!$B4, 'Graph-outputs'!$AL$1) -> 0 | BJ4: =IF(AND(ROUND(BO4, 1)>=0.1, BO3<0.1), 10, "") | BK4: =IF(AND(ROUND(BO4, 1)>=0.5, BO3<0.5), 50, "") | BL4: =IF(AND(ROUND(BO4, 1)>=0.9, BO3<0.9), 90, "") | BM4: =INDEX('Calcs-control2'!$AH$386:$AY$456, 'Graph-outputs'!$B4, 'Graph-outputs'!BM$2) -> 4860.5649 | BN4: 0 | BO4: =INDEX('Calcs-control2'!$AH$170:$AY$240, 'Graph-outputs'!$B4, 'Graph-outputs'!$AL$1) -> 0.6125772 | BR4: 0 | BS4: =IF(Settings!$N$5=1, 'Graph-outputs'!$BZ4, 'Graph-outputs'!$CG4) -> 0 | BU4: =IF(Settings!$N$5=1, 'Graph-outputs'!$CN4, 'Graph-outputs'!$CU4) -> 0 | BW4: =IF(AND(ROUND(CB4, 1)>=0.1, CB3<0.1), 10, "") | BX4: =IF(AND(ROUND(CB4, 1)>=0.5, CB3<0.5), 50, "") | BY4: =IF(AND(ROUND(CB4, 1)>=0.9, CB3<0.9), 90, "") | BZ4: =INDEX('Calcs-control3'!$G$86:$X$156, 'Graph-outputs'!$B4, 'Graph-outputs'!BZ$2) -> 0 | CA4: 0 | CB4: =INDEX('Calcs-control3'!$G$170:$X$240, 'Graph-outputs'!$B4, 'Graph-outputs'!$BT$1) -> 0 | CD4: =IF(AND(ROUND(CI4, 1)>=0.1, CI3<0.1), 10, "") | CE4: =IF(AND(ROUND(CI4, 1)>=0.5, CI3<0.5), 50, "") | CF4: =IF(AND(ROUND(CI4, 1)>=0.9, CI3<0.9), 90, "") | CG4: =INDEX('Calcs-control3'!$AH$86:$AY$156, 'Graph-outputs'!$B4, 'Graph-outputs'!CG$2) -> 3.7128172 | CH4: 0 | CI4: =INDEX('Calcs-control2'!$AH$170:$AY$240, 'Graph-outputs'!$B4, 'Graph-outputs'!$BT$1) -> 0 | CK4: =IF(AND(ROUND(CP4, 1)>=0.1, CP3<0.1), 10, "") | CL4: =IF(AND(ROUND(CP4, 1)>=0.5, CP3<0.5), 50, "") | CM4: =IF(AND(ROUND(CP4, 1)>=0.9, CP3<0.9), 90, "") | CN4: =INDEX('Calcs-control3'!$G$386:$X$456, 'Graph-outputs'!$B4, 'Graph-outputs'!CN$2) -> 0 | CO4: 0 | CP4: =INDEX('Calcs-control2'!$G$170:$X$240, 'Graph-outputs'!$B4, 'Graph-outputs'!$BT$1) -> 0 | CR4: =IF(AND(ROUND(CW4, 1)>=0.1, CW3<0.1), 10, "") | CS4: =IF(AND(ROUND(CW4, 1)>=0.5, CW3<0.5), 50, "") | CT4: =IF(AND(ROUND(CW4, 1)>=0.9, CW3<0.9), 90, "") | CU4: =INDEX('Calcs-control3'!$AH$386:$AY$456, 'Graph-outputs'!$B4, 'Graph-outputs'!CU$2) -> 389.84581 | CV4: 0 | CW4: =INDEX('Calcs-control2'!$AH$170:$AY$240, 'Graph-outputs'!$B4, 'Graph-outputs'!$BT$1) -> 0 | CZ4: 0 | DA4: =IF(Settings!$N$5=1, 'Graph-outputs'!$DH4, 'Graph-outputs'!$DO4) -> #REF! | DC4: =IF(Settings!$N$5=1, 'Graph-outputs'!$DV4, 'Graph-outputs'!$EC4) -> #REF! | DE4: =IF(AND(ROUND(DJ4, 1)>=0.1, DJ3<0.1), 10, "") -> #REF! | DF4: =IF(AND(ROUND(DJ4, 1)>=0.5, DJ3<0.5), 50, "") -> #REF! | DG4: =IF(AND(ROUND(DJ4, 1)>=0.9, DJ3<0.9), 90, "") -> #REF! | DH4: =INDEX('Calcs-control4'!$G$86:$X$156, 'Graph-outputs'!$B4, 'Graph-outputs'!DH$2) -> #REF! | DI4: 0 | DJ4: =INDEX('Calcs-control4'!$G$170:$X$240, 'Graph-outputs'!$B4, 'Graph-outputs'!$DB$1) -> #REF! | DL4: =IF(AND(ROUND(DQ4, 1)>=0.1, DQ3<0.1), 10, "") -> #REF! | DM4: =IF(AND(ROUND(DQ4, 1)>=0.5, DQ3<0.5), 50, "") -> #REF! | DN4: =IF(AND(ROUND(DQ4, 1)>=0.9, DQ3<0.9), 90, "") -> #REF! | DO4: =INDEX('Calcs-control4'!$AH$86:$AY$156, 'Graph-outputs'!$B4, 'Graph-outputs'!DO$2) -> #REF! | DP4: 0 | DQ4: =INDEX('Calcs-control4'!$AH$170:$AY$240, 'Graph-outputs'!$B4, 'Graph-outputs'!$DB$1) -> #REF! | DS4: =IF(AND(ROUND(DX4, 1)>=0.1, DX3<0.1), 10, "") -> #REF! | DT4: =IF(AND(ROUND(DX4, 1)>=0.5, DX3<0.5), 50, "") -> #REF! | DU4: =IF(AND(ROUND(DX4, 1)>=0.9, DX3<0.9), 90, "") -> #REF! | DV4: =INDEX('Calcs-control4'!$G$386:$X$456, 'Graph-outputs'!$B4, 'Graph-outputs'!DV$2) -> #REF! | DW4: 0 | DX4: =INDEX('Calcs-control4'!$G$170:$X$240, 'Graph-outputs'!$B4, 'Graph-outputs'!$DB$1) -> #REF! | DZ4: =IF(AND(ROUND(EE4, 1)>=0.1, EE3<0.1), 10, "") -> #REF! | EA4: =IF(AND(ROUND(EE4, 1)>=0.5, EE3<0.5), 50, "") -> #REF! | EB4: =IF(AND(ROUND(EE4, 1)>=0.9, EE3<0.9), 90, "") -> #REF! | EC4: =INDEX('Calcs-control4'!$AH$386:$AY$456, 'Graph-outputs'!$B4, 'Graph-outputs'!EC$2) -> #REF! | ED4: 0 | EE4: =INDEX('Calcs-control4'!$AH$170:$AY$240, 'Graph-outputs'!$B4, 'Graph-outputs'!$DB$1) -> #REF!
A5: 1 | B5: 2 | C5: =IF(Settings!$N$5=1, 'Graph-outputs'!$J5, 'Graph-outputs'!$Q5) -> 0.01374771 | E5: =IF(Settings!$N$5=1, 'Graph-outputs'!$X5, 'Graph-outputs'!$AE5) -> 6.3104049 | G5: =IF(AND(ROUND(L5, 1)>=0.1, ROUND(L4, 1)<0.1), 10, "") | H5: =IF(AND(ROUND(L5, 1)>=0.5, ROUND(L4, 1)<0.5), 50, "") | I5: =IF(AND(ROUND(L5, 1)>=0.9, ROUND(L4, 1)<0.9), 90, "") | J5: =INDEX('Calcs-control1'!$G$86:$X$156, 'Graph-outputs'!$B5, 'Graph-outputs'!J$2) -> 0.01374771 | K5: 1 | L5: =INDEX('Calcs-control1'!$G$170:$X$240, 'Graph-outputs'!$B5, 'Graph-outputs'!$D$1) -> 0 | N5: =IF(AND(ROUND(S5, 1)>=0.1, ROUND(S4, 1)<0.1), 10, "") | O5: =IF(AND(ROUND(S5, 1)>=0.5, ROUND(S4, 1)<0.5), 50, "") | P5: =IF(AND(ROUND(S5, 1)>=0.9, ROUND(S4, 1)<0.9), 90, "") | Q5: =INDEX('Calcs-control1'!$AH$86:$AY$156, 'Graph-outputs'!$B5, 'Graph-outputs'!Q$2) -> 1.1931212 | R5: 1 | S5: =INDEX('Calcs-control1'!$AH$170:$AY$240, 'Graph-outputs'!$B5, 'Graph-outputs'!$Q$2) -> 0 | U5: =IF(AND(ROUND(Z5, 1)>=0.1, ROUND(Z4, 1)<0.1), 10, "") | V5: =IF(AND(ROUND(Z5, 1)>=0.5, ROUND(Z4, 1)<0.5), 50, "") | W5: =IF(AND(ROUND(Z5, 1)>=0.9, ROUND(Z4, 1)<0.9), 90, "") | X5: =INDEX('Calcs-control1'!$G$386:$X$456, 'Graph-outputs'!$B5, 'Graph-outputs'!X$2) -> 6.3104049 | Y5: 1 | Z5: =INDEX('Calcs-control1'!$G$170:$X$240, 'Graph-outputs'!$B5, 'Graph-outputs'!$J$2) -> 0 | AB5: =IF(AND(ROUND(AG5, 1)>=0.1, ROUND(AG4, 1)<0.1), 10, "") | AC5: =IF(AND(ROUND(AG5, 1)>=0.5, ROUND(AG4, 1)<0.5), 50, "") | AD5: =IF(AND(ROUND(AG5, 1)>=0.9, ROUND(AG4, 1)<0.9), 90, "") | AE5: =INDEX('Calcs-control1'!$AH$386:$AY$456, 'Graph-outputs'!$B5, 'Graph-outputs'!AE$2) -> 547.66049 | AF5: 1 | AG5: =INDEX('Calcs-control1'!$AH$170:$AY$240, 'Graph-outputs'!$B5, 'Graph-outputs'!$Q$2) -> 0 | AJ5: 1 | AK5: =IF(Settings!$N$5=1, 'Graph-outputs'!$AR5, 'Graph-outputs'!$AY5) -> 0.51222929 | AM5: =IF(Settings!$N$5=1, 'Graph-outputs'!$BF5, 'Graph-outputs'!$BM5) -> 404.49547 | AO5: =IF(AND(ROUND(AT5, 1)>=0.1, ROUND(AT4, 1)<0.1), 10, "") | AP5: =IF(AND(ROUND(AT5, 1)>=0.5, ROUND(AT4, 1)<0.5), 50, "") | AQ5: =IF(AND(ROUND(AT5, 1)>=0.9, ROUND(AT4, 1)<0.9), 90, "") | AR5: =INDEX('Calcs-control2'!$G$86:$X$156, 'Graph-outputs'!$B5, 'Graph-outputs'!AR$2) -> 0.51222929 | AS5: 1 | AT5: =INDEX('Calcs-control2'!$G$170:$X$240, 'Graph-outputs'!$B5, 'Graph-outputs'!$AL$1) -> 0 | AV5: =IF(AND(ROUND(BA5, 1)>=0.1, ROUND(BA4, 1)<0.1), 10, "") | AW5: =IF(AND(ROUND(BA5, 1)>=0.5, ROUND(BA4, 1)<0.5), 50, "") | AX5: =IF(AND(ROUND(BA5, 1)>=0.9, ROUND(BA4, 1)<0.9), 90, "") | AY5: =INDEX('Calcs-control2'!$AH$86:$AY$156, 'Graph-outputs'!$B5, 'Graph-outputs'!AY$2) -> 5.5670198 | AZ5: 1 | BA5: =INDEX('Calcs-control2'!$AH$170:$AY$240, 'Graph-outputs'!$B5, 'Graph-outputs'!$AL$1) -> 0.644834 | BC5: =IF(AND(ROUND(BH5, 1)>=0.1, ROUND(BH4, 1)<0.1), 10, "") | BD5: =IF(AND(ROUND(BH5, 1)>=0.5, ROUND(BH4, 1)<0.5), 50, "") | BE5: =IF(AND(ROUND(BH5, 1)>=0.9, ROUND(BH4, 1)<0.9), 90, "") | BF5: =INDEX('Calcs-control2'!$G$386:$X$456, 'Graph-outputs'!$B5, 'Graph-outputs'!BF$2) -> 404.49547 | BG5: 1 | BH5: =INDEX('Calcs-control2'!$G$170:$X$240, 'Graph-outputs'!$B5, 'Graph-outputs'!$AL$1) -> 0 | BJ5: =IF(AND(ROUND(BO5, 1)>=0.1, ROUND(BO4, 1)<0.1), 10, "") | BK5: =IF(AND(ROUND(BO5, 1)>=0.5, ROUND(BO4, 1)<0.5), 50, "") | BL5: =IF(AND(ROUND(BO5, 1)>=0.9, ROUND(BO4, 1)<0.9), 90, "") | BM5: =INDEX('Calcs-control2'!$AH$386:$AY$456, 'Graph-outputs'!$B5, 'Graph-outputs'!BM$2) -> 5257.6981 | BN5: 1 | BO5: =INDEX('Calcs-control2'!$AH$170:$AY$240, 'Graph-outputs'!$B5, 'Graph-outputs'!$AL$1) -> 0.644834 | BR5: 1 | BS5: =IF(Settings!$N$5=1, 'Graph-outputs'!$BZ5, 'Graph-outputs'!$CG5) -> 0.43090485 | BU5: =IF(Settings!$N$5=1, 'Graph-outputs'!$CN5, 'Graph-outputs'!$CU5) -> 45.245009 | BW5: =IF(AND(ROUND(CB5, 1)>=0.1, ROUND(CB4, 1)<0.1), 10, "") | BX5: =IF(AND(ROUND(CB5, 1)>=0.5, ROUND(CB4, 1)<0.5), 50, "") | BY5: =IF(AND(ROUND(CB5, 1)>=0.9, ROUND(CB4, 1)<0.9), 90, "") | BZ5: =INDEX('Calcs-control3'!$G$86:$X$156, 'Graph-outputs'!$B5, 'Graph-outputs'!BZ$2) -> 0.43090485 | CA5: 1 | CB5: =INDEX('Calcs-control3'!$G$170:$X$240, 'Graph-outputs'!$B5, 'Graph-outputs'!$BT$1) -> 0 | CD5: =IF(AND(ROUND(CI5, 1)>=0.1, ROUND(CI4, 1)<0.1), 10, "") | CE5: =IF(AND(ROUND(CI5, 1)>=0.5, ROUND(CI4, 1)<0.5), 50, "") | CF5: =IF(AND(ROUND(CI5, 1)>=0.9, ROUND(CI4, 1)<0.9), 90, "") | CG5: =INDEX('Calcs-control3'!$AH$86:$AY$156, 'Graph-outputs'!$B5, 'Graph-outputs'!CG$2) -> 3.9627396 | CH5: 1 | CI5: =INDEX('Calcs-control2'!$AH$170:$AY$240, 'Graph-outputs'!$B5, 'Graph-outputs'!$BT$1) -> 0 | CK5: =IF(AND(ROUND(CP5, 1)>=0.1, ROUND(CP4, 1)<0.1), 10, "") | CL5: =IF(AND(ROUND(CP5, 1)>=0.5, ROUND(CP4, 1)<0.5), 50, "") | CM5: =IF(AND(ROUND(CP5, 1)>=0.9, ROUND(CP4, 1)<0.9), 90, "") | CN5: =INDEX('Calcs-control3'!$G$386:$X$456, 'Graph-outputs'!$B5, 'Graph-outputs'!CN$2) -> 45.245009 | CO5: 1 | CP5: =INDEX('Calcs-control2'!$G$170:$X$240, 'Graph-outputs'!$B5, 'Graph-outputs'!$BT$1) -> 0 | CR5: =IF(AND(ROUND(CW5, 1)>=0.1, ROUND(CW4, 1)<0.1), 10, "") | CS5: =IF(AND(ROUND(CW5, 1)>=0.5, ROUND(CW4, 1)<0.5), 50, "") | CT5: =IF(AND(ROUND(CW5, 1)>=0.9, ROUND(CW4, 1)<0.9), 90, "") | CU5: =INDEX('Calcs-control3'!$AH$386:$AY$456, 'Graph-outputs'!$B5, 'Graph-outputs'!CU$2) -> 416.08766 | CV5: 1 | CW5: =INDEX('Calcs-control2'!$AH$170:$AY$240, 'Graph-outputs'!$B5, 'Graph-outputs'!$BT$1) -> 0 | CZ5: 1 | DA5: =IF(Settings!$N$5=1, 'Graph-outputs'!$DH5, 'Graph-outputs'!$DO5) -> #REF! | DC5: =IF(Settings!$N$5=1, 'Graph-outputs'!$DV5, 'Graph-outputs'!$EC5) -> #REF! | DE5: =IF(AND(ROUND(DJ5, 1)>=0.1, ROUND(DJ4, 1)<0.1), 10, "") -> #REF! | DF5: =IF(AND(ROUND(DJ5, 1)>=0.5, ROUND(DJ4, 1)<0.5), 50, "") -> #REF! | DG5: =IF(AND(ROUND(DJ5, 1)>=0.9, ROUND(DJ4, 1)<0.9), 90, "") -> #REF! | DH5: =INDEX('Calcs-control4'!$G$86:$X$156, 'Graph-outputs'!$B5, 'Graph-outputs'!DH$2) -> #REF! | DI5: 1 | DJ5: =INDEX('Calcs-control4'!$G$170:$X$240, 'Graph-outputs'!$B5, 'Graph-outputs'!$DB$1) -> #REF! | DL5: =IF(AND(ROUND(DQ5, 1)>=0.1, ROUND(DQ4, 1)<0.1), 10, "") -> #REF! | DM5: =IF(AND(ROUND(DQ5, 1)>=0.5, ROUND(DQ4, 1)<0.5), 50, "") -> #REF! | DN5: =IF(AND(ROUND(DQ5, 1)>=0.9, ROUND(DQ4, 1)<0.9), 90, "") -> #REF! | DO5: =INDEX('Calcs-control4'!$AH$86:$AY$156, 'Graph-outputs'!$B5, 'Graph-outputs'!DO$2) -> #REF! | DP5: 1 | DQ5: =INDEX('Calcs-control4'!$AH$170:$AY$240, 'Graph-outputs'!$B5, 'Graph-outputs'!$DB$1) -> #REF! | DS5: =IF(AND(ROUND(DX5, 1)>=0.1, ROUND(DX4, 1)<0.1), 10, "") -> #REF! | DT5: =IF(AND(ROUND(DX5, 1)>=0.5, ROUND(DX4, 1)<0.5), 50, "") -> #REF! | DU5: =IF(AND(ROUND(DX5, 1)>=0.9, ROUND(DX4, 1)<0.9), 90, "") -> #REF! | DV5: =INDEX('Calcs-control4'!$G$386:$X$456, 'Graph-outputs'!$B5, 'Graph-outputs'!DV$2) -> #REF! | DW5: 1 | DX5: =INDEX('Calcs-control4'!$G$170:$X$240, 'Graph-outputs'!$B5, 'Graph-outputs'!$DB$1) -> #REF! | DZ5: =IF(AND(ROUND(EE5, 1)>=0.1, ROUND(EE4, 1)<0.1), 10, "") -> #REF! | EA5: =IF(AND(ROUND(EE5, 1)>=0.5, ROUND(EE4, 1)<0.5), 50, "") -> #REF! | EB5: =IF(AND(ROUND(EE5, 1)>=0.9, ROUND(EE4, 1)<0.9), 90, "") -> #REF! | EC5: =INDEX('Calcs-control4'!$AH$386:$AY$456, 'Graph-outputs'!$B5, 'Graph-outputs'!EC$2) -> #REF! | ED5: 1 | EE5: =INDEX('Calcs-control4'!$AH$170:$AY$240, 'Graph-outputs'!$B5, 'Graph-outputs'!$DB$1) -> #REF!
A6: 2 | B6: 3 | C6: =IF(Settings!$N$5=1, 'Graph-outputs'!$J6, 'Graph-outputs'!$Q6) -> 0.097779327 | E6: =IF(Settings!$N$5=1, 'Graph-outputs'!$X6, 'Graph-outputs'!$AE6) -> 44.882176 | G6: =IF(AND(ROUND(L6, 1)>=0.1, ROUND(L5, 1)<0.1), 10, "") | H6: =IF(AND(ROUND(L6, 1)>=0.5, ROUND(L5, 1)<0.5), 50, "") | I6: =IF(AND(ROUND(L6, 1)>=0.9, ROUND(L5, 1)<0.9), 90, "") | J6: =INDEX('Calcs-control1'!$G$86:$X$156, 'Graph-outputs'!$B6, 'Graph-outputs'!J$2) -> 0.097779327 | K6: 2 | L6: =INDEX('Calcs-control1'!$G$170:$X$240, 'Graph-outputs'!$B6, 'Graph-outputs'!$D$1) -> 0 | N6: =IF(AND(ROUND(S6, 1)>=0.1, ROUND(S5, 1)<0.1), 10, "") | O6: =IF(AND(ROUND(S6, 1)>=0.5, ROUND(S5, 1)<0.5), 50, "") | P6: =IF(AND(ROUND(S6, 1)>=0.9, ROUND(S5, 1)<0.9), 90, "") | Q6: =INDEX('Calcs-control1'!$AH$86:$AY$156, 'Graph-outputs'!$B6, 'Graph-outputs'!Q$2) -> 1.3468555 | R6: 2 | S6: =INDEX('Calcs-control1'!$AH$170:$AY$240, 'Graph-outputs'!$B6, 'Graph-outputs'!$Q$2) -> 0 | U6: =IF(AND(ROUND(Z6, 1)>=0.1, ROUND(Z5, 1)<0.1), 10, "") | V6: =IF(AND(ROUND(Z6, 1)>=0.5, ROUND(Z5, 1)<0.5), 50, "") | W6: =IF(AND(ROUND(Z6, 1)>=0.9, ROUND(Z5, 1)<0.9), 90, "") | X6: =INDEX('Calcs-control1'!$G$386:$X$456, 'Graph-outputs'!$B6, 'Graph-outputs'!X$2) -> 44.882176 | Y6: 2 | Z6: =INDEX('Calcs-control1'!$G$170:$X$240, 'Graph-outputs'!$B6, 'Graph-outputs'!$J$2) -> 0 | AB6: =IF(AND(ROUND(AG6, 1)>=0.1, ROUND(AG5, 1)<0.1), 10, "") | AC6: =IF(AND(ROUND(AG6, 1)>=0.5, ROUND(AG5, 1)<0.5), 50, "") | AD6: =IF(AND(ROUND(AG6, 1)>=0.9, ROUND(AG5, 1)<0.9), 90, "") | AE6: =INDEX('Calcs-control1'!$AH$386:$AY$456, 'Graph-outputs'!$B6, 'Graph-outputs'!AE$2) -> 618.22687 | AF6: 2 | AG6: =INDEX('Calcs-control1'!$AH$170:$AY$240, 'Graph-outputs'!$B6, 'Graph-outputs'!$Q$2) -> 0 | AJ6: 2 | AK6: =IF(Settings!$N$5=1, 'Graph-outputs'!$AR6, 'Graph-outputs'!$AY6) -> 1.4186943 | AM6: =IF(Settings!$N$5=1, 'Graph-outputs'!$BF6, 'Graph-outputs'!$BM6) -> 1146.819 | AO6: =IF(AND(ROUND(AT6, 1)>=0.1, ROUND(AT5, 1)<0.1), 10, "") -> 10 | AP6: =IF(AND(ROUND(AT6, 1)>=0.5, ROUND(AT5, 1)<0.5), 50, "") | AQ6: =IF(AND(ROUND(AT6, 1)>=0.9, ROUND(AT5, 1)<0.9), 90, "") | AR6: =INDEX('Calcs-control2'!$G$86:$X$156, 'Graph-outputs'!$B6, 'Graph-outputs'!AR$2) -> 1.4186943 | AS6: 2 | AT6: =INDEX('Calcs-control2'!$G$170:$X$240, 'Graph-outputs'!$B6, 'Graph-outputs'!$AL$1) -> 0.077857128 | AV6: =IF(AND(ROUND(BA6, 1)>=0.1, ROUND(BA5, 1)<0.1), 10, "") | AW6: =IF(AND(ROUND(BA6, 1)>=0.5, ROUND(BA5, 1)<0.5), 50, "") | AX6: =IF(AND(ROUND(BA6, 1)>=0.9, ROUND(BA5, 1)<0.9), 90, "") | AY6: =INDEX('Calcs-control2'!$AH$86:$AY$156, 'Graph-outputs'!$B6, 'Graph-outputs'!AY$2) -> 5.9709253 | AZ6: 2 | BA6: =INDEX('Calcs-control2'!$AH$170:$AY$240, 'Graph-outputs'!$B6, 'Graph-outputs'!$AL$1) -> 0.67634212 | BC6: =IF(AND(ROUND(BH6, 1)>=0.1, ROUND(BH5, 1)<0.1), 10, "") -> 10 | BD6: =IF(AND(ROUND(BH6, 1)>=0.5, ROUND(BH5, 1)<0.5), 50, "") | BE6: =IF(AND(ROUND(BH6, 1)>=0.9, ROUND(BH5, 1)<0.9), 90, "") | BF6: =INDEX('Calcs-control2'!$G$386:$X$456, 'Graph-outputs'!$B6, 'Graph-outputs'!BF$2) -> 1146.819 | BG6: 2 | BH6: =INDEX('Calcs-control2'!$G$170:$X$240, 'Graph-outputs'!$B6, 'Graph-outputs'!$AL$1) -> 0.077857128 | BJ6: =IF(AND(ROUND(BO6, 1)>=0.1, ROUND(BO5, 1)<0.1), 10, "") | BK6: =IF(AND(ROUND(BO6, 1)>=0.5, ROUND(BO5, 1)<0.5), 50, "") | BL6: =IF(AND(ROUND(BO6, 1)>=0.9, ROUND(BO5, 1)<0.9), 90, "") | BM6: =INDEX('Calcs-control2'!$AH$386:$AY$456, 'Graph-outputs'!$B6, 'Graph-outputs'!BM$2) -> 5684.3131 | BN6: 2 | BO6: =INDEX('Calcs-control2'!$AH$170:$AY$240, 'Graph-outputs'!$B6, 'Graph-outputs'!$AL$1) -> 0.67634212 | BR6: 2 | BS6: =IF(Settings!$N$5=1, 'Graph-outputs'!$BZ6, 'Graph-outputs'!$CG6) -> 1.1129412 | BU6: =IF(Settings!$N$5=1, 'Graph-outputs'!$CN6, 'Graph-outputs'!$CU6) -> 116.85883 | BW6: =IF(AND(ROUND(CB6, 1)>=0.1, ROUND(CB5, 1)<0.1), 10, "") | BX6: =IF(AND(ROUND(CB6, 1)>=0.5, ROUND(CB5, 1)<0.5), 50, "") | BY6: =IF(AND(ROUND(CB6, 1)>=0.9, ROUND(CB5, 1)<0.9), 90, "") | BZ6: =INDEX('Calcs-control3'!$G$86:$X$156, 'Graph-outputs'!$B6, 'Graph-outputs'!BZ$2) -> 1.1129412 | CA6: 2 | CB6: =INDEX('Calcs-control3'!$G$170:$X$240, 'Graph-outputs'!$B6, 'Graph-outputs'!$BT$1) -> 0 | CD6: =IF(AND(ROUND(CI6, 1)>=0.1, ROUND(CI5, 1)<0.1), 10, "") | CE6: =IF(AND(ROUND(CI6, 1)>=0.5, ROUND(CI5, 1)<0.5), 50, "") | CF6: =IF(AND(ROUND(CI6, 1)>=0.9, ROUND(CI5, 1)<0.9), 90, "") | CG6: =INDEX('Calcs-control3'!$AH$86:$AY$156, 'Graph-outputs'!$B6, 'Graph-outputs'!CG$2) -> 4.228338 | CH6: 2 | CI6: =INDEX('Calcs-control2'!$AH$170:$AY$240, 'Graph-outputs'!$B6, 'Graph-outputs'!$BT$1) -> 0 | CK6: =IF(AND(ROUND(CP6, 1)>=0.1, ROUND(CP5, 1)<0.1), 10, "") | CL6: =IF(AND(ROUND(CP6, 1)>=0.5, ROUND(CP5, 1)<0.5), 50, "") | CM6: =IF(AND(ROUND(CP6, 1)>=0.9, ROUND(CP5, 1)<0.9), 90, "") | CN6: =INDEX('Calcs-control3'!$G$386:$X$456, 'Graph-outputs'!$B6, 'Graph-outputs'!CN$2) -> 116.85883 | CO6: 2 | CP6: =INDEX('Calcs-control2'!$G$170:$X$240, 'Graph-outputs'!$B6, 'Graph-outputs'!$BT$1) -> 0 | CR6: =IF(AND(ROUND(CW6, 1)>=0.1, ROUND(CW5, 1)<0.1), 10, "") | CS6: =IF(AND(ROUND(CW6, 1)>=0.5, ROUND(CW5, 1)<0.5), 50, "") | CT6: =IF(AND(ROUND(CW6, 1)>=0.9, ROUND(CW5, 1)<0.9), 90, "") | CU6: =INDEX('Calcs-control3'!$AH$386:$AY$456, 'Graph-outputs'!$B6, 'Graph-outputs'!CU$2) -> 443.97549 | CV6: 2 | CW6: =INDEX('Calcs-control2'!$AH$170:$AY$240, 'Graph-outputs'!$B6, 'Graph-outputs'!$BT$1) -> 0 | CZ6: 2 | DA6: =IF(Settings!$N$5=1, 'Graph-outputs'!$DH6, 'Graph-outputs'!$DO6) -> #REF! | DC6: =IF(Settings!$N$5=1, 'Graph-outputs'!$DV6, 'Graph-outputs'!$EC6) -> #REF! | DE6: =IF(AND(ROUND(DJ6, 1)>=0.1, ROUND(DJ5, 1)<0.1), 10, "") -> #REF! | DF6: =IF(AND(ROUND(DJ6, 1)>=0.5, ROUND(DJ5, 1)<0.5), 50, "") -> #REF! | DG6: =IF(AND(ROUND(DJ6, 1)>=0.9, ROUND(DJ5, 1)<0.9), 90, "") -> #REF! | DH6: =INDEX('Calcs-control4'!$G$86:$X$156, 'Graph-outputs'!$B6, 'Graph-outputs'!DH$2) -> #REF! | DI6: 2 | DJ6: =INDEX('Calcs-control4'!$G$170:$X$240, 'Graph-outputs'!$B6, 'Graph-outputs'!$DB$1) -> #REF! | DL6: =IF(AND(ROUND(DQ6, 1)>=0.1, ROUND(DQ5, 1)<0.1), 10, "") -> #REF! | DM6: =IF(AND(ROUND(DQ6, 1)>=0.5, ROUND(DQ5, 1)<0.5), 50, "") -> #REF! | DN6: =IF(AND(ROUND(DQ6, 1)>=0.9, ROUND(DQ5, 1)<0.9), 90, "") -> #REF! | DO6: =INDEX('Calcs-control4'!$AH$86:$AY$156, 'Graph-outputs'!$B6, 'Graph-outputs'!DO$2) -> #REF! | DP6: 2 | DQ6: =INDEX('Calcs-control4'!$AH$170:$AY$240, 'Graph-outputs'!$B6, 'Graph-outputs'!$DB$1) -> #REF! | DS6: =IF(AND(ROUND(DX6, 1)>=0.1, ROUND(DX5, 1)<0.1), 10, "") -> #REF! | DT6: =IF(AND(ROUND(DX6, 1)>=0.5, ROUND(DX5, 1)<0.5), 50, "") -> #REF! | DU6: =IF(AND(ROUND(DX6, 1)>=0.9, ROUND(DX5, 1)<0.9), 90, "") -> #REF! | DV6: =INDEX('Calcs-control4'!$G$386:$X$456, 'Graph-outputs'!$B6, 'Graph-outputs'!DV$2) -> #REF! | DW6: 2 | DX6: =INDEX('Calcs-control4'!$G$170:$X$240, 'Graph-outputs'!$B6, 'Graph-outputs'!$DB$1) -> #REF! | DZ6: =IF(AND(ROUND(EE6, 1)>=0.1, ROUND(EE5, 1)<0.1), 10, "") -> #REF! | EA6: =IF(AND(ROUND(EE6, 1)>=0.5, ROUND(EE5, 1)<0.5), 50, "") -> #REF! | EB6: =IF(AND(ROUND(EE6, 1)>=0.9, ROUND(EE5, 1)<0.9), 90, "") -> #REF! | EC6: =INDEX('Calcs-control4'!$AH$386:$AY$456, 'Graph-outputs'!$B6, 'Graph-outputs'!EC$2) -> #REF! | ED6: 2 | EE6: =INDEX('Calcs-control4'!$AH$170:$AY$240, 'Graph-outputs'!$B6, 'Graph-outputs'!$DB$1) -> #REF!
A7: 3 | B7: 4 | C7: =IF(Settings!$N$5=1, 'Graph-outputs'!$J7, 'Graph-outputs'!$Q7) -> 0.29386067 | E7: =IF(Settings!$N$5=1, 'Graph-outputs'!$X7, 'Graph-outputs'!$AE7) -> 134.88645 | G7: =IF(AND(ROUND(L7, 1)>=0.1, ROUND(L6, 1)<0.1), 10, "") | H7: =IF(AND(ROUND(L7, 1)>=0.5, ROUND(L6, 1)<0.5), 50, "") | I7: =IF(AND(ROUND(L7, 1)>=0.9, ROUND(L6, 1)<0.9), 90, "") | J7: =INDEX('Calcs-control1'!$G$86:$X$156, 'Graph-outputs'!$B7, 'Graph-outputs'!J$2) -> 0.29386067 | K7: 3 | L7: =INDEX('Calcs-control1'!$G$170:$X$240, 'Graph-outputs'!$B7, 'Graph-outputs'!$D$1) -> 0 | N7: =IF(AND(ROUND(S7, 1)>=0.1, ROUND(S6, 1)<0.1), 10, "") | O7: =IF(AND(ROUND(S7, 1)>=0.5, ROUND(S6, 1)<0.5), 50, "") | P7: =IF(AND(ROUND(S7, 1)>=0.9, ROUND(S6, 1)<0.9), 90, "") | Q7: =INDEX('Calcs-control1'!$AH$86:$AY$156, 'Graph-outputs'!$B7, 'Graph-outputs'!Q$2) -> 1.5182332 | R7: 3 | S7: =INDEX('Calcs-control1'!$AH$170:$AY$240, 'Graph-outputs'!$B7, 'Graph-outputs'!$Q$2) -> 0 | U7: =IF(AND(ROUND(Z7, 1)>=0.1, ROUND(Z6, 1)<0.1), 10, "") | V7: =IF(AND(ROUND(Z7, 1)>=0.5, ROUND(Z6, 1)<0.5), 50, "") | W7: =IF(AND(ROUND(Z7, 1)>=0.9, ROUND(Z6, 1)<0.9), 90, "") | X7: =INDEX('Calcs-control1'!$G$386:$X$456, 'Graph-outputs'!$B7, 'Graph-outputs'!X$2) -> 134.88645 | Y7: 3 | Z7: =INDEX('Calcs-control1'!$G$170:$X$240, 'Graph-outputs'!$B7, 'Graph-outputs'!$J$2) -> 0 | AB7: =IF(AND(ROUND(AG7, 1)>=0.1, ROUND(AG6, 1)<0.1), 10, "") | AC7: =IF(AND(ROUND(AG7, 1)>=0.5, ROUND(AG6, 1)<0.5), 50, "") | AD7: =IF(AND(ROUND(AG7, 1)>=0.9, ROUND(AG6, 1)<0.9), 90, "") | AE7: =INDEX('Calcs-control1'!$AH$386:$AY$456, 'Graph-outputs'!$B7, 'Graph-outputs'!AE$2) -> 696.89177 | AF7: 3 | AG7: =INDEX('Calcs-control1'!$AH$170:$AY$240, 'Graph-outputs'!$B7, 'Graph-outputs'!$Q$2) -> 0 | AJ7: 3 | AK7: =IF(Settings!$N$5=1, 'Graph-outputs'!$AR7, 'Graph-outputs'!$AY7) -> 2.5523975 | AM7: =IF(Settings!$N$5=1, 'Graph-outputs'!$BF7, 'Graph-outputs'!$BM7) -> 2192.918 | AO7: =IF(AND(ROUND(AT7, 1)>=0.1, ROUND(AT6, 1)<0.1), 10, "") | AP7: =IF(AND(ROUND(AT7, 1)>=0.5, ROUND(AT6, 1)<0.5), 50, "") | AQ7: =IF(AND(ROUND(AT7, 1)>=0.9, ROUND(AT6, 1)<0.9), 90, "") | AR7: =INDEX('Calcs-control2'!$G$86:$X$156, 'Graph-outputs'!$B7, 'Graph-outputs'!AR$2) -> 2.5523975 | AS7: 3 | AT7: =INDEX('Calcs-control2'!$G$170:$X$240, 'Graph-outputs'!$B7, 'Graph-outputs'!$AL$1) -> 0.28951457 | AV7: =IF(AND(ROUND(BA7, 1)>=0.1, ROUND(BA6, 1)<0.1), 10, "") | AW7: =IF(AND(ROUND(BA7, 1)>=0.5, ROUND(BA6, 1)<0.5), 50, "") | AX7: =IF(AND(ROUND(BA7, 1)>=0.9, ROUND(BA6, 1)<0.9), 90, "") | AY7: =INDEX('Calcs-control2'!$AH$86:$AY$156, 'Graph-outputs'!$B7, 'Graph-outputs'!AY$2) -> 6.4023507 | AZ7: 3 | BA7: =INDEX('Calcs-control2'!$AH$170:$AY$240, 'Graph-outputs'!$B7, 'Graph-outputs'!$AL$1) -> 0.70691602 | BC7: =IF(AND(ROUND(BH7, 1)>=0.1, ROUND(BH6, 1)<0.1), 10, "") | BD7: =IF(AND(ROUND(BH7, 1)>=0.5, ROUND(BH6, 1)<0.5), 50, "") | BE7: =IF(AND(ROUND(BH7, 1)>=0.9, ROUND(BH6, 1)<0.9), 90, "") | BF7: =INDEX('Calcs-control2'!$G$386:$X$456, 'Graph-outputs'!$B7, 'Graph-outputs'!BF$2) -> 2192.918 | BG7: 3 | BH7: =INDEX('Calcs-control2'!$G$170:$X$240, 'Graph-outputs'!$B7, 'Graph-outputs'!$AL$1) -> 0.28951457 | BJ7: =IF(AND(ROUND(BO7, 1)>=0.1, ROUND(BO6, 1)<0.1), 10, "") | BK7: =IF(AND(ROUND(BO7, 1)>=0.5, ROUND(BO6, 1)<0.5), 50, "") | BL7: =IF(AND(ROUND(BO7, 1)>=0.9, ROUND(BO6, 1)<0.9), 90, "") | BM7: =INDEX('Calcs-control2'!$AH$386:$AY$456, 'Graph-outputs'!$B7, 'Graph-outputs'!BM$2) -> 6142.0083 | BN7: 3 | BO7: =INDEX('Calcs-control2'!$AH$170:$AY$240, 'Graph-outputs'!$B7, 'Graph-outputs'!$AL$1) -> 0.70691602 | BR7: 3 | BS7: =IF(Settings!$N$5=1, 'Graph-outputs'!$BZ7, 'Graph-outputs'!$CG7) -> 1.9217527 | BU7: =IF(Settings!$N$5=1, 'Graph-outputs'!$CN7, 'Graph-outputs'!$CU7) -> 201.78404 | BW7: =IF(AND(ROUND(CB7, 1)>=0.1, ROUND(CB6, 1)<0.1), 10, "") | BX7: =IF(AND(ROUND(CB7, 1)>=0.5, ROUND(CB6, 1)<0.5), 50, "") | BY7: =IF(AND(ROUND(CB7, 1)>=0.9, ROUND(CB6, 1)<0.9), 90, "") | BZ7: =INDEX('Calcs-control3'!$G$86:$X$156, 'Graph-outputs'!$B7, 'Graph-outputs'!BZ$2) -> 1.9217527 | CA7: 3 | CB7: =INDEX('Calcs-control3'!$G$170:$X$240, 'Graph-outputs'!$B7, 'Graph-outputs'!$BT$1) -> 0 | CD7: =IF(AND(ROUND(CI7, 1)>=0.1, ROUND(CI6, 1)<0.1), 10, "") | CE7: =IF(AND(ROUND(CI7, 1)>=0.5, ROUND(CI6, 1)<0.5), 50, "") | CF7: =IF(AND(ROUND(CI7, 1)>=0.9, ROUND(CI6, 1)<0.9), 90, "") | CG7: =INDEX('Calcs-control3'!$AH$86:$AY$156, 'Graph-outputs'!$B7, 'Graph-outputs'!CG$2) -> 4.5104547 | CH7: 3 | CI7: =INDEX('Calcs-control2'!$AH$170:$AY$240, 'Graph-outputs'!$B7, 'Graph-outputs'!$BT$1) -> 0 | CK7: =IF(AND(ROUND(CP7, 1)>=0.1, ROUND(CP6, 1)<0.1), 10, "") | CL7: =IF(AND(ROUND(CP7, 1)>=0.5, ROUND(CP6, 1)<0.5), 50, "") | CM7: =IF(AND(ROUND(CP7, 1)>=0.9, ROUND(CP6, 1)<0.9), 90, "") | CN7: =INDEX('Calcs-control3'!$G$386:$X$456, 'Graph-outputs'!$B7, 'Graph-outputs'!CN$2) -> 201.78404 | CO7: 3 | CP7: =INDEX('Calcs-control2'!$G$170:$X$240, 'Graph-outputs'!$B7, 'Graph-outputs'!$BT$1) -> 0 | CR7: =IF(AND(ROUND(CW7, 1)>=0.1, ROUND(CW6, 1)<0.1), 10, "") | CS7: =IF(AND(ROUND(CW7, 1)>=0.5, ROUND(CW6, 1)<0.5), 50, "") | CT7: =IF(AND(ROUND(CW7, 1)>=0.9, ROUND(CW6, 1)<0.9), 90, "") | CU7: =INDEX('Calcs-control3'!$AH$386:$AY$456, 'Graph-outputs'!$B7, 'Graph-outputs'!CU$2) -> 473.59775 | CV7: 3 | CW7: =INDEX('Calcs-control2'!$AH$170:$AY$240, 'Graph-outputs'!$B7, 'Graph-outputs'!$BT$1) -> 0 | CZ7: 3 | DA7: =IF(Settings!$N$5=1, 'Graph-outputs'!$DH7, 'Graph-outputs'!$DO7) -> #REF! | DC7: =IF(Settings!$N$5=1, 'Graph-outputs'!$DV7, 'Graph-outputs'!$EC7) -> #REF! | DE7: =IF(AND(ROUND(DJ7, 1)>=0.1, ROUND(DJ6, 1)<0.1), 10, "") -> #REF! | DF7: =IF(AND(ROUND(DJ7, 1)>=0.5, ROUND(DJ6, 1)<0.5), 50, "") -> #REF! | DG7: =IF(AND(ROUND(DJ7, 1)>=0.9, ROUND(DJ6, 1)<0.9), 90, "") -> #REF! | DH7: =INDEX('Calcs-control4'!$G$86:$X$156, 'Graph-outputs'!$B7, 'Graph-outputs'!DH$2) -> #REF! | DI7: 3 | DJ7: =INDEX('Calcs-control4'!$G$170:$X$240, 'Graph-outputs'!$B7, 'Graph-outputs'!$DB$1) -> #REF! | DL7: =IF(AND(ROUND(DQ7, 1)>=0.1, ROUND(DQ6, 1)<0.1), 10, "") -> #REF! | DM7: =IF(AND(ROUND(DQ7, 1)>=0.5, ROUND(DQ6, 1)<0.5), 50, "") -> #REF! | DN7: =IF(AND(ROUND(DQ7, 1)>=0.9, ROUND(DQ6, 1)<0.9), 90, "") -> #REF! | DO7: =INDEX('Calcs-control4'!$AH$86:$AY$156, 'Graph-outputs'!$B7, 'Graph-outputs'!DO$2) -> #REF! | DP7: 3 | DQ7: =INDEX('Calcs-control4'!$AH$170:$AY$240, 'Graph-outputs'!$B7, 'Graph-outputs'!$DB$1) -> #REF! | DS7: =IF(AND(ROUND(DX7, 1)>=0.1, ROUND(DX6, 1)<0.1), 10, "") -> #REF! | DT7: =IF(AND(ROUND(DX7, 1)>=0.5, ROUND(DX6, 1)<0.5), 50, "") -> #REF! | DU7: =IF(AND(ROUND(DX7, 1)>=0.9, ROUND(DX6, 1)<0.9), 90, "") -> #REF! | DV7: =INDEX('Calcs-control4'!$G$386:$X$456, 'Graph-outputs'!$B7, 'Graph-outputs'!DV$2) -> #REF! | DW7: 3 | DX7: =INDEX('Calcs-control4'!$G$170:$X$240, 'Graph-outputs'!$B7, 'Graph-outputs'!$DB$1) -> #REF! | DZ7: =IF(AND(ROUND(EE7, 1)>=0.1, ROUND(EE6, 1)<0.1), 10, "") -> #REF! | EA7: =IF(AND(ROUND(EE7, 1)>=0.5, ROUND(EE6, 1)<0.5), 50, "") -> #REF! | EB7: =IF(AND(ROUND(EE7, 1)>=0.9, ROUND(EE6, 1)<0.9), 90, "") -> #REF! | EC7: =INDEX('Calcs-control4'!$AH$386:$AY$456, 'Graph-outputs'!$B7, 'Graph-outputs'!EC$2) -> #REF! | ED7: 3 | EE7: =INDEX('Calcs-control4'!$AH$170:$AY$240, 'Graph-outputs'!$B7, 'Graph-outputs'!$DB$1) -> #REF!
A8: 4 | B8: 5 | C8: =IF(Settings!$N$5=1, 'Graph-outputs'!$J8, 'Graph-outputs'!$Q8) -> 0.62125678 | E8: =IF(Settings!$N$5=1, 'Graph-outputs'!$X8, 'Graph-outputs'!$AE8) -> 285.16617 | G8: =IF(AND(ROUND(L8, 1)>=0.1, ROUND(L7, 1)<0.1), 10, "") | H8: =IF(AND(ROUND(L8, 1)>=0.5, ROUND(L7, 1)<0.5), 50, "") | I8: =IF(AND(ROUND(L8, 1)>=0.9, ROUND(L7, 1)<0.9), 90, "") | J8: =INDEX('Calcs-control1'!$G$86:$X$156, 'Graph-outputs'!$B8, 'Graph-outputs'!J$2) -> 0.62125678 | K8: 4 | L8: =INDEX('Calcs-control1'!$G$170:$X$240, 'Graph-outputs'!$B8, 'Graph-outputs'!$D$1) -> 0 | N8: =IF(AND(ROUND(S8, 1)>=0.1, ROUND(S7, 1)<0.1), 10, "") | O8: =IF(AND(ROUND(S8, 1)>=0.5, ROUND(S7, 1)<0.5), 50, "") | P8: =IF(AND(ROUND(S8, 1)>=0.9, ROUND(S7, 1)<0.9), 90, "") | Q8: =INDEX('Calcs-control1'!$AH$86:$AY$156, 'Graph-outputs'!$B8, 'Graph-outputs'!Q$2) -> 1.708876 | R8: 4 | S8: =INDEX('Calcs-control1'!$AH$170:$AY$240, 'Graph-outputs'!$B8, 'Graph-outputs'!$Q$2) -> 0 | U8: =IF(AND(ROUND(Z8, 1)>=0.1, ROUND(Z7, 1)<0.1), 10, "") | V8: =IF(AND(ROUND(Z8, 1)>=0.5, ROUND(Z7, 1)<0.5), 50, "") | W8: =IF(AND(ROUND(Z8, 1)>=0.9, ROUND(Z7, 1)<0.9), 90, "") | X8: =INDEX('Calcs-control1'!$G$386:$X$456, 'Graph-outputs'!$B8, 'Graph-outputs'!X$2) -> 285.16617 | Y8: 4 | Z8: =INDEX('Calcs-control1'!$G$170:$X$240, 'Graph-outputs'!$B8, 'Graph-outputs'!$J$2) -> 0 | AB8: =IF(AND(ROUND(AG8, 1)>=0.1, ROUND(AG7, 1)<0.1), 10, "") | AC8: =IF(AND(ROUND(AG8, 1)>=0.5, ROUND(AG7, 1)<0.5), 50, "") | AD8: =IF(AND(ROUND(AG8, 1)>=0.9, ROUND(AG7, 1)<0.9), 90, "") | AE8: =INDEX('Calcs-control1'!$AH$386:$AY$456, 'Graph-outputs'!$B8, 'Graph-outputs'!AE$2) -> 784.39969 | AF8: 4 | AG8: =INDEX('Calcs-control1'!$AH$170:$AY$240, 'Graph-outputs'!$B8, 'Graph-outputs'!$Q$2) -> 0 | AJ8: 4 | AK8: =IF(Settings!$N$5=1, 'Graph-outputs'!$AR8, 'Graph-outputs'!$AY8) -> 3.8487717 | AM8: =IF(Settings!$N$5=1, 'Graph-outputs'!$BF8, 'Graph-outputs'!$BM8) -> 3475.9142 | AO8: =IF(AND(ROUND(AT8, 1)>=0.1, ROUND(AT7, 1)<0.1), 10, "") | AP8: =IF(AND(ROUND(AT8, 1)>=0.5, ROUND(AT7, 1)<0.5), 50, "") -> 50 | AQ8: =IF(AND(ROUND(AT8, 1)>=0.9, ROUND(AT7, 1)<0.9), 90, "") | AR8: =INDEX('Calcs-control2'!$G$86:$X$156, 'Graph-outputs'!$B8, 'Graph-outputs'!AR$2) -> 3.8487717 | AS8: 4 | AT8: =INDEX('Calcs-control2'!$G$170:$X$240, 'Graph-outputs'!$B8, 'Graph-outputs'!$AL$1) -> 0.4726933 | AV8: =IF(AND(ROUND(BA8, 1)>=0.1, ROUND(BA7, 1)<0.1), 10, "") | AW8: =IF(AND(ROUND(BA8, 1)>=0.5, ROUND(BA7, 1)<0.5), 50, "") | AX8: =IF(AND(ROUND(BA8, 1)>=0.9, ROUND(BA7, 1)<0.9), 90, "") | AY8: =INDEX('Calcs-control2'!$AH$86:$AY$156, 'Graph-outputs'!$B8, 'Graph-outputs'!AY$2) -> 6.8629421 | AZ8: 4 | BA8: =INDEX('Calcs-control2'!$AH$170:$AY$240, 'Graph-outputs'!$B8, 'Graph-outputs'!$AL$1) -> 0.73637618 | BC8: =IF(AND(ROUND(BH8, 1)>=0.1, ROUND(BH7, 1)<0.1), 10, "") | BD8: =IF(AND(ROUND(BH8, 1)>=0.5, ROUND(BH7, 1)<0.5), 50, "") -> 50 | BE8: =IF(AND(ROUND(BH8, 1)>=0.9, ROUND(BH7, 1)<0.9), 90, "") | BF8: =INDEX('Calcs-control2'!$G$386:$X$456, 'Graph-outputs'!$B8, 'Graph-outputs'!BF$2) -> 3475.9142 | BG8: 4 | BH8: =INDEX('Calcs-control2'!$G$170:$X$240, 'Graph-outputs'!$B8, 'Graph-outputs'!$AL$1) -> 0.4726933 | BJ8: =IF(AND(ROUND(BO8, 1)>=0.1, ROUND(BO7, 1)<0.1), 10, "") | BK8: =IF(AND(ROUND(BO8, 1)>=0.5, ROUND(BO7, 1)<0.5), 50, "") | BL8: =IF(AND(ROUND(BO8, 1)>=0.9, ROUND(BO7, 1)<0.9), 90, "") | BM8: =INDEX('Calcs-control2'!$AH$386:$AY$456, 'Graph-outputs'!$B8, 'Graph-outputs'!BM$2) -> 6632.3943 | BN8: 4 | BO8: =INDEX('Calcs-control2'!$AH$170:$AY$240, 'Graph-outputs'!$B8, 'Graph-outputs'!$AL$1) -> 0.73637618 | BR8: 4 | BS8: =IF(Settings!$N$5=1, 'Graph-outputs'!$BZ8, 'Graph-outputs'!$CG8) -> 2.8142193 | BU8: =IF(Settings!$N$5=1, 'Graph-outputs'!$CN8, 'Graph-outputs'!$CU8) -> 295.49303 | BW8: =IF(AND(ROUND(CB8, 1)>=0.1, ROUND(CB7, 1)<0.1), 10, "") | BX8: =IF(AND(ROUND(CB8, 1)>=0.5, ROUND(CB7, 1)<0.5), 50, "") | BY8: =IF(AND(ROUND(CB8, 1)>=0.9, ROUND(CB7, 1)<0.9), 90, "") | BZ8: =INDEX('Calcs-control3'!$G$86:$X$156, 'Graph-outputs'!$B8, 'Graph-outputs'!BZ$2) -> 2.8142193 | CA8: 4 | CB8: =INDEX('Calcs-control3'!$G$170:$X$240, 'Graph-outputs'!$B8, 'Graph-outputs'!$BT$1) -> 0 | CD8: =IF(AND(ROUND(CI8, 1)>=0.1, ROUND(CI7, 1)<0.1), 10, "") | CE8: =IF(AND(ROUND(CI8, 1)>=0.5, ROUND(CI7, 1)<0.5), 50, "") | CF8: =IF(AND(ROUND(CI8, 1)>=0.9, ROUND(CI7, 1)<0.9), 90, "") | CG8: =INDEX('Calcs-control3'!$AH$86:$AY$156, 'Graph-outputs'!$B8, 'Graph-outputs'!CG$2) -> 4.8099598 | CH8: 4 | CI8: =INDEX('Calcs-control2'!$AH$170:$AY$240, 'Graph-outputs'!$B8, 'Graph-outputs'!$BT$1) -> 0 | CK8: =IF(AND(ROUND(CP8, 1)>=0.1, ROUND(CP7, 1)<0.1), 10, "") | CL8: =IF(AND(ROUND(CP8, 1)>=0.5, ROUND(CP7, 1)<0.5), 50, "") | CM8: =IF(AND(ROUND(CP8, 1)>=0.9, ROUND(CP7, 1)<0.9), 90, "") | CN8: =INDEX('Calcs-control3'!$G$386:$X$456, 'Graph-outputs'!$B8, 'Graph-outputs'!CN$2) -> 295.49303 | CO8: 4 | CP8: =INDEX('Calcs-control2'!$G$170:$X$240, 'Graph-outputs'!$B8, 'Graph-outputs'!$BT$1) -> 0 | CR8: =IF(AND(ROUND(CW8, 1)>=0.1, ROUND(CW7, 1)<0.1), 10, "") | CS8: =IF(AND(ROUND(CW8, 1)>=0.5, ROUND(CW7, 1)<0.5), 50, "") | CT8: =IF(AND(ROUND(CW8, 1)>=0.9, ROUND(CW7, 1)<0.9), 90, "") | CU8: =INDEX('Calcs-control3'!$AH$386:$AY$456, 'Graph-outputs'!$B8, 'Graph-outputs'!CU$2) -> 505.04578 | CV8: 4 | CW8: =INDEX('Calcs-control2'!$AH$170:$AY$240, 'Graph-outputs'!$B8, 'Graph-outputs'!$BT$1) -> 0 | CZ8: 4 | DA8: =IF(Settings!$N$5=1, 'Graph-outputs'!$DH8, 'Graph-outputs'!$DO8) -> #REF! | DC8: =IF(Settings!$N$5=1, 'Graph-outputs'!$DV8, 'Graph-outputs'!$EC8) -> #REF! | DE8: =IF(AND(ROUND(DJ8, 1)>=0.1, ROUND(DJ7, 1)<0.1), 10, "") -> #REF! | DF8: =IF(AND(ROUND(DJ8, 1)>=0.5, ROUND(DJ7, 1)<0.5), 50, "") -> #REF! | DG8: =IF(AND(ROUND(DJ8, 1)>=0.9, ROUND(DJ7, 1)<0.9), 90, "") -> #REF! | DH8: =INDEX('Calcs-control4'!$G$86:$X$156, 'Graph-outputs'!$B8, 'Graph-outputs'!DH$2) -> #REF! | DI8: 4 | DJ8: =INDEX('Calcs-control4'!$G$170:$X$240, 'Graph-outputs'!$B8, 'Graph-outputs'!$DB$1) -> #REF! | DL8: =IF(AND(ROUND(DQ8, 1)>=0.1, ROUND(DQ7, 1)<0.1), 10, "") -> #REF! | DM8: =IF(AND(ROUND(DQ8, 1)>=0.5, ROUND(DQ7, 1)<0.5), 50, "") -> #REF! | DN8: =IF(AND(ROUND(DQ8, 1)>=0.9, ROUND(DQ7, 1)<0.9), 90, "") -> #REF! | DO8: =INDEX('Calcs-control4'!$AH$86:$AY$156, 'Graph-outputs'!$B8, 'Graph-outputs'!DO$2) -> #REF! | DP8: 4 | DQ8: =INDEX('Calcs-control4'!$AH$170:$AY$240, 'Graph-outputs'!$B8, 'Graph-outputs'!$DB$1) -> #REF! | DS8: =IF(AND(ROUND(DX8, 1)>=0.1, ROUND(DX7, 1)<0.1), 10, "") -> #REF! | DT8: =IF(AND(ROUND(DX8, 1)>=0.5, ROUND(DX7, 1)<0.5), 50, "") -> #REF! | DU8: =IF(AND(ROUND(DX8, 1)>=0.9, ROUND(DX7, 1)<0.9), 90, "") -> #REF! | DV8: =INDEX('Calcs-control4'!$G$386:$X$456, 'Graph-outputs'!$B8, 'Graph-outputs'!DV$2) -> #REF! | DW8: 4 | DX8: =INDEX('Calcs-control4'!$G$170:$X$240, 'Graph-outputs'!$B8, 'Graph-outputs'!$DB$1) -> #REF! | DZ8: =IF(AND(ROUND(EE8, 1)>=0.1, ROUND(EE7, 1)<0.1), 10, "") -> #REF! | EA8: =IF(AND(ROUND(EE8, 1)>=0.5, ROUND(EE7, 1)<0.5), 50, "") -> #REF! | EB8: =IF(AND(ROUND(EE8, 1)>=0.9, ROUND(EE7, 1)<0.9), 90, "") -> #REF! | EC8: =INDEX('Calcs-control4'!$AH$386:$AY$456, 'Graph-outputs'!$B8, 'Graph-outputs'!EC$2) -> #REF! | ED8: 4 | EE8: =INDEX('Calcs-control4'!$AH$170:$AY$240, 'Graph-outputs'!$B8, 'Graph-outputs'!$DB$1) -> #REF!
A9: 5 | B9: 6 | C9: =IF(Settings!$N$5=1, 'Graph-outputs'!$J9, 'Graph-outputs'!$Q9) -> 1.0839418 | E9: =IF(Settings!$N$5=1, 'Graph-outputs'!$X9, 'Graph-outputs'!$AE9) -> 497.54551 | G9: =IF(AND(ROUND(L9, 1)>=0.1, ROUND(L8, 1)<0.1), 10, "") | H9: =IF(AND(ROUND(L9, 1)>=0.5, ROUND(L8, 1)<0.5), 50, "") | I9: =IF(AND(ROUND(L9, 1)>=0.9, ROUND(L8, 1)<0.9), 90, "") | J9: =INDEX('Calcs-control1'!$G$86:$X$156, 'Graph-outputs'!$B9, 'Graph-outputs'!J$2) -> 1.0839418 | K9: 5 | L9: =INDEX('Calcs-control1'!$G$170:$X$240, 'Graph-outputs'!$B9, 'Graph-outputs'!$D$1) -> 0 | N9: =IF(AND(ROUND(S9, 1)>=0.1, ROUND(S8, 1)<0.1), 10, "") | O9: =IF(AND(ROUND(S9, 1)>=0.5, ROUND(S8, 1)<0.5), 50, "") | P9: =IF(AND(ROUND(S9, 1)>=0.9, ROUND(S8, 1)<0.9), 90, "") | Q9: =INDEX('Calcs-control1'!$AH$86:$AY$156, 'Graph-outputs'!$B9, 'Graph-outputs'!Q$2) -> 1.9204814 | R9: 5 | S9: =INDEX('Calcs-control1'!$AH$170:$AY$240, 'Graph-outputs'!$B9, 'Graph-outputs'!$Q$2) -> 0 | U9: =IF(AND(ROUND(Z9, 1)>=0.1, ROUND(Z8, 1)<0.1), 10, "") | V9: =IF(AND(ROUND(Z9, 1)>=0.5, ROUND(Z8, 1)<0.5), 50, "") | W9: =IF(AND(ROUND(Z9, 1)>=0.9, ROUND(Z8, 1)<0.9), 90, "") | X9: =INDEX('Calcs-control1'!$G$386:$X$456, 'Graph-outputs'!$B9, 'Graph-outputs'!X$2) -> 497.54551 | Y9: 5 | Z9: =INDEX('Calcs-control1'!$G$170:$X$240, 'Graph-outputs'!$B9, 'Graph-outputs'!$J$2) -> 0 | AB9: =IF(AND(ROUND(AG9, 1)>=0.1, ROUND(AG8, 1)<0.1), 10, "") | AC9: =IF(AND(ROUND(AG9, 1)>=0.5, ROUND(AG8, 1)<0.5), 50, "") | AD9: =IF(AND(ROUND(AG9, 1)>=0.9, ROUND(AG8, 1)<0.9), 90, "") | AE9: =INDEX('Calcs-control1'!$AH$386:$AY$456, 'Graph-outputs'!$B9, 'Graph-outputs'!AE$2) -> 881.52974 | AF9: 5 | AG9: =INDEX('Calcs-control1'!$AH$170:$AY$240, 'Graph-outputs'!$B9, 'Graph-outputs'!$Q$2) -> 0 | AJ9: 5 | AK9: =IF(Settings!$N$5=1, 'Graph-outputs'!$AR9, 'Graph-outputs'!$AY9) -> 5.2686101 | AM9: =IF(Settings!$N$5=1, 'Graph-outputs'!$BF9, 'Graph-outputs'!$BM9) -> 4943.9633 | AO9: =IF(AND(ROUND(AT9, 1)>=0.1, ROUND(AT8, 1)<0.1), 10, "") | AP9: =IF(AND(ROUND(AT9, 1)>=0.5, ROUND(AT8, 1)<0.5), 50, "") | AQ9: =IF(AND(ROUND(AT9, 1)>=0.9, ROUND(AT8, 1)<0.9), 90, "") | AR9: =INDEX('Calcs-control2'!$G$86:$X$156, 'Graph-outputs'!$B9, 'Graph-outputs'!AR$2) -> 5.2686101 | AS9: 5 | AT9: =INDEX('Calcs-control2'!$G$170:$X$240, 'Graph-outputs'!$B9, 'Graph-outputs'!$AL$1) -> 0.61960145 | AV9: =IF(AND(ROUND(BA9, 1)>=0.1, ROUND(BA8, 1)<0.1), 10, "") | AW9: =IF(AND(ROUND(BA9, 1)>=0.5, ROUND(BA8, 1)<0.5), 50, "") | AX9: =IF(AND(ROUND(BA9, 1)>=0.9, ROUND(BA8, 1)<0.9), 90, "") | AY9: =INDEX('Calcs-control2'!$AH$86:$AY$156, 'Graph-outputs'!$B9, 'Graph-outputs'!AY$2) -> 7.3544143 | AZ9: 5 | BA9: =INDEX('Calcs-control2'!$AH$170:$AY$240, 'Graph-outputs'!$B9, 'Graph-outputs'!$AL$1) -> 0.7645533 | BC9: =IF(AND(ROUND(BH9, 1)>=0.1, ROUND(BH8, 1)<0.1), 10, "") | BD9: =IF(AND(ROUND(BH9, 1)>=0.5, ROUND(BH8, 1)<0.5), 50, "") | BE9: =IF(AND(ROUND(BH9, 1)>=0.9, ROUND(BH8, 1)<0.9), 90, "") | BF9: =INDEX('Calcs-control2'!$G$386:$X$456, 'Graph-outputs'!$B9, 'Graph-outputs'!BF$2) -> 4943.9633 | BG9: 5 | BH9: =INDEX('Calcs-control2'!$G$170:$X$240, 'Graph-outputs'!$B9, 'Graph-outputs'!$AL$1) -> 0.61960145 | BJ9: =IF(AND(ROUND(BO9, 1)>=0.1, ROUND(BO8, 1)<0.1), 10, "") | BK9: =IF(AND(ROUND(BO9, 1)>=0.5, ROUND(BO8, 1)<0.5), 50, "") | BL9: =IF(AND(ROUND(BO9, 1)>=0.9, ROUND(BO8, 1)<0.9), 90, "") | BM9: =INDEX('Calcs-control2'!$AH$386:$AY$456, 'Graph-outputs'!$B9, 'Graph-outputs'!BM$2) -> 7157.0907 | BN9: 5 | BO9: =INDEX('Calcs-control2'!$AH$170:$AY$240, 'Graph-outputs'!$B9, 'Graph-outputs'!$AL$1) -> 0.7645533 | BR9: 5 | BS9: =IF(Settings!$N$5=1, 'Graph-outputs'!$BZ9, 'Graph-outputs'!$CG9) -> 3.765536 | BU9: =IF(Settings!$N$5=1, 'Graph-outputs'!$CN9, 'Graph-outputs'!$CU9) -> 395.38128 | BW9: =IF(AND(ROUND(CB9, 1)>=0.1, ROUND(CB8, 1)<0.1), 10, "") | BX9: =IF(AND(ROUND(CB9, 1)>=0.5, ROUND(CB8, 1)<0.5), 50, "") | BY9: =IF(AND(ROUND(CB9, 1)>=0.9, ROUND(CB8, 1)<0.9), 90, "") | BZ9: =INDEX('Calcs-control3'!$G$86:$X$156, 'Graph-outputs'!$B9, 'Graph-outputs'!BZ$2) -> 3.765536 | CA9: 5 | CB9: =INDEX('Calcs-control3'!$G$170:$X$240, 'Graph-outputs'!$B9, 'Graph-outputs'!$BT$1) -> 0 | CD9: =IF(AND(ROUND(CI9, 1)>=0.1, ROUND(CI8, 1)<0.1), 10, "") | CE9: =IF(AND(ROUND(CI9, 1)>=0.5, ROUND(CI8, 1)<0.5), 50, "") | CF9: =IF(AND(ROUND(CI9, 1)>=0.9, ROUND(CI8, 1)<0.9), 90, "") | CG9: =INDEX('Calcs-control3'!$AH$86:$AY$156, 'Graph-outputs'!$B9, 'Graph-outputs'!CG$2) -> 5.1277495 | CH9: 5 | CI9: =INDEX('Calcs-control2'!$AH$170:$AY$240, 'Graph-outputs'!$B9, 'Graph-outputs'!$BT$1) -> 0 | CK9: =IF(AND(ROUND(CP9, 1)>=0.1, ROUND(CP8, 1)<0.1), 10, "") | CL9: =IF(AND(ROUND(CP9, 1)>=0.5, ROUND(CP8, 1)<0.5), 50, "") | CM9: =IF(AND(ROUND(CP9, 1)>=0.9, ROUND(CP8, 1)<0.9), 90, "") | CN9: =INDEX('Calcs-control3'!$G$386:$X$456, 'Graph-outputs'!$B9, 'Graph-outputs'!CN$2) -> 395.38128 | CO9: 5 | CP9: =INDEX('Calcs-control2'!$G$170:$X$240, 'Graph-outputs'!$B9, 'Graph-outputs'!$BT$1) -> 0 | CR9: =IF(AND(ROUND(CW9, 1)>=0.1, ROUND(CW8, 1)<0.1), 10, "") | CS9: =IF(AND(ROUND(CW9, 1)>=0.5, ROUND(CW8, 1)<0.5), 50, "") | CT9: =IF(AND(ROUND(CW9, 1)>=0.9, ROUND(CW8, 1)<0.9), 90, "") | CU9: =INDEX('Calcs-control3'!$AH$386:$AY$456, 'Graph-outputs'!$B9, 'Graph-outputs'!CU$2) -> 538.4137 | CV9: 5 | CW9: =INDEX('Calcs-control2'!$AH$170:$AY$240, 'Graph-outputs'!$B9, 'Graph-outputs'!$BT$1) -> 0 | CZ9: 5 | DA9: =IF(Settings!$N$5=1, 'Graph-outputs'!$DH9, 'Graph-outputs'!$DO9) -> #REF! | DC9: =IF(Settings!$N$5=1, 'Graph-outputs'!$DV9, 'Graph-outputs'!$EC9) -> #REF! | DE9: =IF(AND(ROUND(DJ9, 1)>=0.1, ROUND(DJ8, 1)<0.1), 10, "") -> #REF! | DF9: =IF(AND(ROUND(DJ9, 1)>=0.5, ROUND(DJ8, 1)<0.5), 50, "") -> #REF! | DG9: =IF(AND(ROUND(DJ9, 1)>=0.9, ROUND(DJ8, 1)<0.9), 90, "") -> #REF! | DH9: =INDEX('Calcs-control4'!$G$86:$X$156, 'Graph-outputs'!$B9, 'Graph-outputs'!DH$2) -> #REF! | DI9: 5 | DJ9: =INDEX('Calcs-control4'!$G$170:$X$240, 'Graph-outputs'!$B9, 'Graph-outputs'!$DB$1) -> #REF! | DL9: =IF(AND(ROUND(DQ9, 1)>=0.1, ROUND(DQ8, 1)<0.1), 10, "") -> #REF! | DM9: =IF(AND(ROUND(DQ9, 1)>=0.5, ROUND(DQ8, 1)<0.5), 50, "") -> #REF! | DN9: =IF(AND(ROUND(DQ9, 1)>=0.9, ROUND(DQ8, 1)<0.9), 90, "") -> #REF! | DO9: =INDEX('Calcs-control4'!$AH$86:$AY$156, 'Graph-outputs'!$B9, 'Graph-outputs'!DO$2) -> #REF! | DP9: 5 | DQ9: =INDEX('Calcs-control4'!$AH$170:$AY$240, 'Graph-outputs'!$B9, 'Graph-outputs'!$DB$1) -> #REF! | DS9: =IF(AND(ROUND(DX9, 1)>=0.1, ROUND(DX8, 1)<0.1), 10, "") -> #REF! | DT9: =IF(AND(ROUND(DX9, 1)>=0.5, ROUND(DX8, 1)<0.5), 50, "") -> #REF! | DU9: =IF(AND(ROUND(DX9, 1)>=0.9, ROUND(DX8, 1)<0.9), 90, "") -> #REF! | DV9: =INDEX('Calcs-control4'!$G$386:$X$456, 'Graph-outputs'!$B9, 'Graph-outputs'!DV$2) -> #REF! | DW9: 5 | DX9: =INDEX('Calcs-control4'!$G$170:$X$240, 'Graph-outputs'!$B9, 'Graph-outputs'!$DB$1) -> #REF! | DZ9: =IF(AND(ROUND(EE9, 1)>=0.1, ROUND(EE8, 1)<0.1), 10, "") -> #REF! | EA9: =IF(AND(ROUND(EE9, 1)>=0.5, ROUND(EE8, 1)<0.5), 50, "") -> #REF! | EB9: =IF(AND(ROUND(EE9, 1)>=0.9, ROUND(EE8, 1)<0.9), 90, "") -> #REF! | EC9: =INDEX('Calcs-control4'!$AH$386:$AY$456, 'Graph-outputs'!$B9, 'Graph-outputs'!EC$2) -> #REF! | ED9: 5 | EE9: =INDEX('Calcs-control4'!$AH$170:$AY$240, 'Graph-outputs'!$B9, 'Graph-outputs'!$DB$1) -> #REF!
A10: 6 | B10: 7 | C10: =IF(Settings!$N$5=1, 'Graph-outputs'!$J10, 'Graph-outputs'!$Q10) -> 1.6758833 | E10: =IF(Settings!$N$5=1, 'Graph-outputs'!$X10, 'Graph-outputs'!$AE10) -> 769.25553 | G10: =IF(AND(ROUND(L10, 1)>=0.1, ROUND(L9, 1)<0.1), 10, "") | H10: =IF(AND(ROUND(L10, 1)>=0.5, ROUND(L9, 1)<0.5), 50, "") | I10: =IF(AND(ROUND(L10, 1)>=0.9, ROUND(L9, 1)<0.9), 90, "") | J10: =INDEX('Calcs-control1'!$G$86:$X$156, 'Graph-outputs'!$B10, 'Graph-outputs'!J$2) -> 1.6758833 | K10: 6 | L10: =INDEX('Calcs-control1'!$G$170:$X$240, 'Graph-outputs'!$B10, 'Graph-outputs'!$D$1) -> 0 | N10: =IF(AND(ROUND(S10, 1)>=0.1, ROUND(S9, 1)<0.1), 10, "") | O10: =IF(AND(ROUND(S10, 1)>=0.5, ROUND(S9, 1)<0.5), 50, "") | P10: =IF(AND(ROUND(S10, 1)>=0.9, ROUND(S9, 1)<0.9), 90, "") | Q10: =INDEX('Calcs-control1'!$AH$86:$AY$156, 'Graph-outputs'!$B10, 'Graph-outputs'!Q$2) -> 2.1548113 | R10: 6 | S10: =INDEX('Calcs-control1'!$AH$170:$AY$240, 'Graph-outputs'!$B10, 'Graph-outputs'!$Q$2) -> 0 | U10: =IF(AND(ROUND(Z10, 1)>=0.1, ROUND(Z9, 1)<0.1), 10, "") | V10: =IF(AND(ROUND(Z10, 1)>=0.5, ROUND(Z9, 1)<0.5), 50, "") | W10: =IF(AND(ROUND(Z10, 1)>=0.9, ROUND(Z9, 1)<0.9), 90, "") | X10: =INDEX('Calcs-control1'!$G$386:$X$456, 'Graph-outputs'!$B10, 'Graph-outputs'!X$2) -> 769.25553 | Y10: 6 | Z10: =INDEX('Calcs-control1'!$G$170:$X$240, 'Graph-outputs'!$B10, 'Graph-outputs'!$J$2) -> 0 | AB10: =IF(AND(ROUND(AG10, 1)>=0.1, ROUND(AG9, 1)<0.1), 10, "") | AC10: =IF(AND(ROUND(AG10, 1)>=0.5, ROUND(AG9, 1)<0.5), 50, "") | AD10: =IF(AND(ROUND(AG10, 1)>=0.9, ROUND(AG9, 1)<0.9), 90, "") | AE10: =INDEX('Calcs-control1'!$AH$386:$AY$456, 'Graph-outputs'!$B10, 'Graph-outputs'!AE$2) -> 989.09068 | AF10: 6 | AG10: =INDEX('Calcs-control1'!$AH$170:$AY$240, 'Graph-outputs'!$B10, 'Graph-outputs'!$Q$2) -> 0 | AJ10: 6 | AK10: =IF(Settings!$N$5=1, 'Graph-outputs'!$AR10, 'Graph-outputs'!$AY10) -> 6.7845328 | AM10: =IF(Settings!$N$5=1, 'Graph-outputs'!$BF10, 'Graph-outputs'!$BM10) -> 6548.8076 | AO10: =IF(AND(ROUND(AT10, 1)>=0.1, ROUND(AT9, 1)<0.1), 10, "") | AP10: =IF(AND(ROUND(AT10, 1)>=0.5, ROUND(AT9, 1)<0.5), 50, "") | AQ10: =IF(AND(ROUND(AT10, 1)>=0.9, ROUND(AT9, 1)<0.9), 90, "") | AR10: =INDEX('Calcs-control2'!$G$86:$X$156, 'Graph-outputs'!$B10, 'Graph-outputs'!AR$2) -> 6.7845328 | AS10: 6 | AT10: =INDEX('Calcs-control2'!$G$170:$X$240, 'Graph-outputs'!$B10, 'Graph-outputs'!$AL$1) -> 0.73157882 | AV10: =IF(AND(ROUND(BA10, 1)>=0.1, ROUND(BA9, 1)<0.1), 10, "") | AW10: =IF(AND(ROUND(BA10, 1)>=0.5, ROUND(BA9, 1)<0.5), 50, "") | AX10: =IF(AND(ROUND(BA10, 1)>=0.9, ROUND(BA9, 1)<0.9), 90, "") | AY10: =INDEX('Calcs-control2'!$AH$86:$AY$156, 'Graph-outputs'!$B10, 'Graph-outputs'!AY$2) -> 7.8785498 | AZ10: 6 | BA10: =INDEX('Calcs-control2'!$AH$170:$AY$240, 'Graph-outputs'!$B10, 'Graph-outputs'!$AL$1) -> 0.79129257 | BC10: =IF(AND(ROUND(BH10, 1)>=0.1, ROUND(BH9, 1)<0.1), 10, "") | BD10: =IF(AND(ROUND(BH10, 1)>=0.5, ROUND(BH9, 1)<0.5), 50, "") | BE10: =IF(AND(ROUND(BH10, 1)>=0.9, ROUND(BH9, 1)<0.9), 90, "") | BF10: =INDEX('Calcs-control2'!$G$386:$X$456, 'Graph-outputs'!$B10, 'Graph-outputs'!BF$2) -> 6548.8076 | BG10: 6 | BH10: =INDEX('Calcs-control2'!$G$170:$X$240, 'Graph-outputs'!$B10, 'Graph-outputs'!$AL$1) -> 0.73157882 | BJ10: =IF(AND(ROUND(BO10, 1)>=0.1, ROUND(BO9, 1)<0.1), 10, "") | BK10: =IF(AND(ROUND(BO10, 1)>=0.5, ROUND(BO9, 1)<0.5), 50, "") | BL10: =IF(AND(ROUND(BO10, 1)>=0.9, ROUND(BO9, 1)<0.9), 90, "") | BM10: =INDEX('Calcs-control2'!$AH$386:$AY$456, 'Graph-outputs'!$B10, 'Graph-outputs'!BM$2) -> 7717.7234 | BN10: 6 | BO10: =INDEX('Calcs-control2'!$AH$170:$AY$240, 'Graph-outputs'!$B10, 'Graph-outputs'!$AL$1) -> 0.79129257 | BR10: 6 | BS10: =IF(Settings!$N$5=1, 'Graph-outputs'!$BZ10, 'Graph-outputs'!$CG10) -> 4.7590913 | BU10: =IF(Settings!$N$5=1, 'Graph-outputs'!$CN10, 'Graph-outputs'!$CU10) -> 499.70458 | BW10: =IF(AND(ROUND(CB10, 1)>=0.1, ROUND(CB9, 1)<0.1), 10, "") | BX10: =IF(AND(ROUND(CB10, 1)>=0.5, ROUND(CB9, 1)<0.5), 50, "") | BY10: =IF(AND(ROUND(CB10, 1)>=0.9, ROUND(CB9, 1)<0.9), 90, "") | BZ10: =INDEX('Calcs-control3'!$G$86:$X$156, 'Graph-outputs'!$B10, 'Graph-outputs'!BZ$2) -> 4.7590913 | CA10: 6 | CB10: =INDEX('Calcs-control3'!$G$170:$X$240, 'Graph-outputs'!$B10, 'Graph-outputs'!$BT$1) -> 0 | CD10: =IF(AND(ROUND(CI10, 1)>=0.1, ROUND(CI9, 1)<0.1), 10, "") | CE10: =IF(AND(ROUND(CI10, 1)>=0.5, ROUND(CI9, 1)<0.5), 50, "") | CF10: =IF(AND(ROUND(CI10, 1)>=0.9, ROUND(CI9, 1)<0.9), 90, "") | CG10: =INDEX('Calcs-control3'!$AH$86:$AY$156, 'Graph-outputs'!$B10, 'Graph-outputs'!CG$2) -> 5.4647446 | CH10: 6 | CI10: =INDEX('Calcs-control2'!$AH$170:$AY$240, 'Graph-outputs'!$B10, 'Graph-outputs'!$BT$1) -> 0 | CK10: =IF(AND(ROUND(CP10, 1)>=0.1, ROUND(CP9, 1)<0.1), 10, "") | CL10: =IF(AND(ROUND(CP10, 1)>=0.5, ROUND(CP9, 1)<0.5), 50, "") | CM10: =IF(AND(ROUND(CP10, 1)>=0.9, ROUND(CP9, 1)<0.9), 90, "") | CN10: =INDEX('Calcs-control3'!$G$386:$X$456, 'Graph-outputs'!$B10, 'Graph-outputs'!CN$2) -> 499.70458 | CO10: 6 | CP10: =INDEX('Calcs-control2'!$G$170:$X$240, 'Graph-outputs'!$B10, 'Graph-outputs'!$BT$1) -> 0 | CR10: =IF(AND(ROUND(CW10, 1)>=0.1, ROUND(CW9, 1)<0.1), 10, "") | CS10: =IF(AND(ROUND(CW10, 1)>=0.5, ROUND(CW9, 1)<0.5), 50, "") | CT10: =IF(AND(ROUND(CW10, 1)>=0.9, ROUND(CW9, 1)<0.9), 90, "") | CU10: =INDEX('Calcs-control3'!$AH$386:$AY$456, 'Graph-outputs'!$B10, 'Graph-outputs'!CU$2) -> 573.79818 | CV10: 6 | CW10: =INDEX('Calcs-control2'!$AH$170:$AY$240, 'Graph-outputs'!$B10, 'Graph-outputs'!$BT$1) -> 0 | CZ10: 6 | DA10: =IF(Settings!$N$5=1, 'Graph-outputs'!$DH10, 'Graph-outputs'!$DO10) -> #REF! | DC10: =IF(Settings!$N$5=1, 'Graph-outputs'!$DV10, 'Graph-outputs'!$EC10) -> #REF! | DE10: =IF(AND(ROUND(DJ10, 1)>=0.1, ROUND(DJ9, 1)<0.1), 10, "") -> #REF! | DF10: =IF(AND(ROUND(DJ10, 1)>=0.5, ROUND(DJ9, 1)<0.5), 50, "") -> #REF! | DG10: =IF(AND(ROUND(DJ10, 1)>=0.9, ROUND(DJ9, 1)<0.9), 90, "") -> #REF! | DH10: =INDEX('Calcs-control4'!$G$86:$X$156, 'Graph-outputs'!$B10, 'Graph-outputs'!DH$2) -> #REF! | DI10: 6 | DJ10: =INDEX('Calcs-control4'!$G$170:$X$240, 'Graph-outputs'!$B10, 'Graph-outputs'!$DB$1) -> #REF! | DL10: =IF(AND(ROUND(DQ10, 1)>=0.1, ROUND(DQ9, 1)<0.1), 10, "") -> #REF! | DM10: =IF(AND(ROUND(DQ10, 1)>=0.5, ROUND(DQ9, 1)<0.5), 50, "") -> #REF! | DN10: =IF(AND(ROUND(DQ10, 1)>=0.9, ROUND(DQ9, 1)<0.9), 90, "") -> #REF! | DO10: =INDEX('Calcs-control4'!$AH$86:$AY$156, 'Graph-outputs'!$B10, 'Graph-outputs'!DO$2) -> #REF! | DP10: 6 | DQ10: =INDEX('Calcs-control4'!$AH$170:$AY$240, 'Graph-outputs'!$B10, 'Graph-outputs'!$DB$1) -> #REF! | DS10: =IF(AND(ROUND(DX10, 1)>=0.1, ROUND(DX9, 1)<0.1), 10, "") -> #REF! | DT10: =IF(AND(ROUND(DX10, 1)>=0.5, ROUND(DX9, 1)<0.5), 50, "") -> #REF! | DU10: =IF(AND(ROUND(DX10, 1)>=0.9, ROUND(DX9, 1)<0.9), 90, "") -> #REF! | DV10: =INDEX('Calcs-control4'!$G$386:$X$456, 'Graph-outputs'!$B10, 'Graph-outputs'!DV$2) -> #REF! | DW10: 6 | DX10: =INDEX('Calcs-control4'!$G$170:$X$240, 'Graph-outputs'!$B10, 'Graph-outputs'!$DB$1) -> #REF! | DZ10: =IF(AND(ROUND(EE10, 1)>=0.1, ROUND(EE9, 1)<0.1), 10, "") -> #REF! | EA10: =IF(AND(ROUND(EE10, 1)>=0.5, ROUND(EE9, 1)<0.5), 50, "") -> #REF! | EB10: =IF(AND(ROUND(EE10, 1)>=0.9, ROUND(EE9, 1)<0.9), 90, "") -> #REF! | EC10: =INDEX('Calcs-control4'!$AH$386:$AY$456, 'Graph-outputs'!$B10, 'Graph-outputs'!EC$2) -> #REF! | ED10: 6 | EE10: =INDEX('Calcs-control4'!$AH$170:$AY$240, 'Graph-outputs'!$B10, 'Graph-outputs'!$DB$1) -> #REF!
A11: 7 | B11: 8 | C11: =IF(Settings!$N$5=1, 'Graph-outputs'!$J11, 'Graph-outputs'!$Q11) -> 2.3848722 | E11: =IF(Settings!$N$5=1, 'Graph-outputs'!$X11, 'Graph-outputs'!$AE11) -> 1094.6921 | G11: =IF(AND(ROUND(L11, 1)>=0.1, ROUND(L10, 1)<0.1), 10, "") | H11: =IF(AND(ROUND(L11, 1)>=0.5, ROUND(L10, 1)<0.5), 50, "") | I11: =IF(AND(ROUND(L11, 1)>=0.9, ROUND(L10, 1)<0.9), 90, "") | J11: =INDEX('Calcs-control1'!$G$86:$X$156, 'Graph-outputs'!$B11, 'Graph-outputs'!J$2) -> 2.3848722 | K11: 7 | L11: =INDEX('Calcs-control1'!$G$170:$X$240, 'Graph-outputs'!$B11, 'Graph-outputs'!$D$1) -> 0 | N11: =IF(AND(ROUND(S11, 1)>=0.1, ROUND(S10, 1)<0.1), 10, "") | O11: =IF(AND(ROUND(S11, 1)>=0.5, ROUND(S10, 1)<0.5), 50, "") | P11: =IF(AND(ROUND(S11, 1)>=0.9, ROUND(S10, 1)<0.9), 90, "") | Q11: =INDEX('Calcs-control1'!$AH$86:$AY$156, 'Graph-outputs'!$B11, 'Graph-outputs'!Q$2) -> 2.413678 | R11: 7 | S11: =INDEX('Calcs-control1'!$AH$170:$AY$240, 'Graph-outputs'!$B11, 'Graph-outputs'!$Q$2) -> 0 | U11: =IF(AND(ROUND(Z11, 1)>=0.1, ROUND(Z10, 1)<0.1), 10, "") | V11: =IF(AND(ROUND(Z11, 1)>=0.5, ROUND(Z10, 1)<0.5), 50, "") | W11: =IF(AND(ROUND(Z11, 1)>=0.9, ROUND(Z10, 1)<0.9), 90, "") | X11: =INDEX('Calcs-control1'!$G$386:$X$456, 'Graph-outputs'!$B11, 'Graph-outputs'!X$2) -> 1094.6921 | Y11: 7 | Z11: =INDEX('Calcs-control1'!$G$170:$X$240, 'Graph-outputs'!$B11, 'Graph-outputs'!$J$2) -> 0 | AB11: =IF(AND(ROUND(AG11, 1)>=0.1, ROUND(AG10, 1)<0.1), 10, "") | AC11: =IF(AND(ROUND(AG11, 1)>=0.5, ROUND(AG10, 1)<0.5), 50, "") | AD11: =IF(AND(ROUND(AG11, 1)>=0.9, ROUND(AG10, 1)<0.9), 90, "") | AE11: =INDEX('Calcs-control1'!$AH$386:$AY$456, 'Graph-outputs'!$B11, 'Graph-outputs'!AE$2) -> 1107.9144 | AF11: 7 | AG11: =INDEX('Calcs-control1'!$AH$170:$AY$240, 'Graph-outputs'!$B11, 'Graph-outputs'!$Q$2) -> 0 | AJ11: 7 | AK11: =IF(Settings!$N$5=1, 'Graph-outputs'!$AR11, 'Graph-outputs'!$AY11) -> 8.3759728 | AM11: =IF(Settings!$N$5=1, 'Graph-outputs'!$BF11, 'Graph-outputs'!$BM11) -> 8250.3481 | AO11: =IF(AND(ROUND(AT11, 1)>=0.1, ROUND(AT10, 1)<0.1), 10, "") | AP11: =IF(AND(ROUND(AT11, 1)>=0.5, ROUND(AT10, 1)<0.5), 50, "") | AQ11: =IF(AND(ROUND(AT11, 1)>=0.9, ROUND(AT10, 1)<0.9), 90, "") | AR11: =INDEX('Calcs-control2'!$G$86:$X$156, 'Graph-outputs'!$B11, 'Graph-outputs'!AR$2) -> 8.3759728 | AS11: 7 | AT11: =INDEX('Calcs-control2'!$G$170:$X$240, 'Graph-outputs'!$B11, 'Graph-outputs'!$AL$1) -> 0.81385497 | AV11: =IF(AND(ROUND(BA11, 1)>=0.1, ROUND(BA10, 1)<0.1), 10, "") | AW11: =IF(AND(ROUND(BA11, 1)>=0.5, ROUND(BA10, 1)<0.5), 50, "") | AX11: =IF(AND(ROUND(BA11, 1)>=0.9, ROUND(BA10, 1)<0.9), 90, "") | AY11: =INDEX('Calcs-control2'!$AH$86:$AY$156, 'Graph-outputs'!$B11, 'Graph-outputs'!AY$2) -> 8.437197 | AZ11: 7 | BA11: =INDEX('Calcs-control2'!$AH$170:$AY$240, 'Graph-outputs'!$B11, 'Graph-outputs'!$AL$1) -> 0.81645781 | BC11: =IF(AND(ROUND(BH11, 1)>=0.1, ROUND(BH10, 1)<0.1), 10, "") | BD11: =IF(AND(ROUND(BH11, 1)>=0.5, ROUND(BH10, 1)<0.5), 50, "") | BE11: =IF(AND(ROUND(BH11, 1)>=0.9, ROUND(BH10, 1)<0.9), 90, "") | BF11: =INDEX('Calcs-control2'!$G$386:$X$456, 'Graph-outputs'!$B11, 'Graph-outputs'!BF$2) -> 8250.3481 | BG11: 7 | BH11: =INDEX('Calcs-control2'!$G$170:$X$240, 'Graph-outputs'!$B11, 'Graph-outputs'!$AL$1) -> 0.81385497 | BJ11: =IF(AND(ROUND(BO11, 1)>=0.1, ROUND(BO10, 1)<0.1), 10, "") | BK11: =IF(AND(ROUND(BO11, 1)>=0.5, ROUND(BO10, 1)<0.5), 50, "") | BL11: =IF(AND(ROUND(BO11, 1)>=0.9, ROUND(BO10, 1)<0.9), 90, "") | BM11: =INDEX('Calcs-control2'!$AH$386:$AY$456, 'Graph-outputs'!$B11, 'Graph-outputs'!BM$2) -> 8315.9246 | BN11: 7 | BO11: =INDEX('Calcs-control2'!$AH$170:$AY$240, 'Graph-outputs'!$B11, 'Graph-outputs'!$AL$1) -> 0.81645781 | BR11: 7 | BS11: =IF(Settings!$N$5=1, 'Graph-outputs'!$BZ11, 'Graph-outputs'!$CG11) -> 5.782846 | BU11: =IF(Settings!$N$5=1, 'Graph-outputs'!$CN11, 'Graph-outputs'!$CU11) -> 607.19883 | BW11: =IF(AND(ROUND(CB11, 1)>=0.1, ROUND(CB10, 1)<0.1), 10, "") | BX11: =IF(AND(ROUND(CB11, 1)>=0.5, ROUND(CB10, 1)<0.5), 50, "") | BY11: =IF(AND(ROUND(CB11, 1)>=0.9, ROUND(CB10, 1)<0.9), 90, "") | BZ11: =INDEX('Calcs-control3'!$G$86:$X$156, 'Graph-outputs'!$B11, 'Graph-outputs'!BZ$2) -> 5.782846 | CA11: 7 | CB11: =INDEX('Calcs-control3'!$G$170:$X$240, 'Graph-outputs'!$B11, 'Graph-outputs'!$BT$1) -> 0 | CD11: =IF(AND(ROUND(CI11, 1)>=0.1, ROUND(CI10, 1)<0.1), 10, "") | CE11: =IF(AND(ROUND(CI11, 1)>=0.5, ROUND(CI10, 1)<0.5), 50, "") | CF11: =IF(AND(ROUND(CI11, 1)>=0.9, ROUND(CI10, 1)<0.9), 90, "") | CG11: =INDEX('Calcs-control3'!$AH$86:$AY$156, 'Graph-outputs'!$B11, 'Graph-outputs'!CG$2) -> 5.8218879 | CH11: 7 | CI11: =INDEX('Calcs-control2'!$AH$170:$AY$240, 'Graph-outputs'!$B11, 'Graph-outputs'!$BT$1) -> 0 | CK11: =IF(AND(ROUND(CP11, 1)>=0.1, ROUND(CP10, 1)<0.1), 10, "") | CL11: =IF(AND(ROUND(CP11, 1)>=0.5, ROUND(CP10, 1)<0.5), 50, "") | CM11: =IF(AND(ROUND(CP11, 1)>=0.9, ROUND(CP10, 1)<0.9), 90, "") | CN11: =INDEX('Calcs-control3'!$G$386:$X$456, 'Graph-outputs'!$B11, 'Graph-outputs'!CN$2) -> 607.19883 | CO11: 7 | CP11: =INDEX('Calcs-control2'!$G$170:$X$240, 'Graph-outputs'!$B11, 'Graph-outputs'!$BT$1) -> 0 | CR11: =IF(AND(ROUND(CW11, 1)>=0.1, ROUND(CW10, 1)<0.1), 10, "") | CS11: =IF(AND(ROUND(CW11, 1)>=0.5, ROUND(CW10, 1)<0.5), 50, "") | CT11: =IF(AND(ROUND(CW11, 1)>=0.9, ROUND(CW10, 1)<0.9), 90, "") | CU11: =INDEX('Calcs-control3'!$AH$386:$AY$456, 'Graph-outputs'!$B11, 'Graph-outputs'!CU$2) -> 611.29823 | CV11: 7 | CW11: =INDEX('Calcs-control2'!$AH$170:$AY$240, 'Graph-outputs'!$B11, 'Graph-outputs'!$BT$1) -> 0 | CZ11: 7 | DA11: =IF(Settings!$N$5=1, 'Graph-outputs'!$DH11, 'Graph-outputs'!$DO11) -> #REF! | DC11: =IF(Settings!$N$5=1, 'Graph-outputs'!$DV11, 'Graph-outputs'!$EC11) -> #REF! | DE11: =IF(AND(ROUND(DJ11, 1)>=0.1, ROUND(DJ10, 1)<0.1), 10, "") -> #REF! | DF11: =IF(AND(ROUND(DJ11, 1)>=0.5, ROUND(DJ10, 1)<0.5), 50, "") -> #REF! | DG11: =IF(AND(ROUND(DJ11, 1)>=0.9, ROUND(DJ10, 1)<0.9), 90, "") -> #REF! | DH11: =INDEX('Calcs-control4'!$G$86:$X$156, 'Graph-outputs'!$B11, 'Graph-outputs'!DH$2) -> #REF! | DI11: 7 | DJ11: =INDEX('Calcs-control4'!$G$170:$X$240, 'Graph-outputs'!$B11, 'Graph-outputs'!$DB$1) -> #REF! | DL11: =IF(AND(ROUND(DQ11, 1)>=0.1, ROUND(DQ10, 1)<0.1), 10, "") -> #REF! | DM11: =IF(AND(ROUND(DQ11, 1)>=0.5, ROUND(DQ10, 1)<0.5), 50, "") -> #REF! | DN11: =IF(AND(ROUND(DQ11, 1)>=0.9, ROUND(DQ10, 1)<0.9), 90, "") -> #REF! | DO11: =INDEX('Calcs-control4'!$AH$86:$AY$156, 'Graph-outputs'!$B11, 'Graph-outputs'!DO$2) -> #REF! | DP11: 7 | DQ11: =INDEX('Calcs-control4'!$AH$170:$AY$240, 'Graph-outputs'!$B11, 'Graph-outputs'!$DB$1) -> #REF! | DS11: =IF(AND(ROUND(DX11, 1)>=0.1, ROUND(DX10, 1)<0.1), 10, "") -> #REF! | DT11: =IF(AND(ROUND(DX11, 1)>=0.5, ROUND(DX10, 1)<0.5), 50, "") -> #REF! | DU11: =IF(AND(ROUND(DX11, 1)>=0.9, ROUND(DX10, 1)<0.9), 90, "") -> #REF! | DV11: =INDEX('Calcs-control4'!$G$386:$X$456, 'Graph-outputs'!$B11, 'Graph-outputs'!DV$2) -> #REF! | DW11: 7 | DX11: =INDEX('Calcs-control4'!$G$170:$X$240, 'Graph-outputs'!$B11, 'Graph-outputs'!$DB$1) -> #REF! | DZ11: =IF(AND(ROUND(EE11, 1)>=0.1, ROUND(EE10, 1)<0.1), 10, "") -> #REF! | EA11: =IF(AND(ROUND(EE11, 1)>=0.5, ROUND(EE10, 1)<0.5), 50, "") -> #REF! | EB11: =IF(AND(ROUND(EE11, 1)>=0.9, ROUND(EE10, 1)<0.9), 90, "") -> #REF! | EC11: =INDEX('Calcs-control4'!$AH$386:$AY$456, 'Graph-outputs'!$B11, 'Graph-outputs'!EC$2) -> #REF! | ED11: 7 | EE11: =INDEX('Calcs-control4'!$AH$170:$AY$240, 'Graph-outputs'!$B11, 'Graph-outputs'!$DB$1) -> #REF!
A12: 8 | B12: 9 | C12: =IF(Settings!$N$5=1, 'Graph-outputs'!$J12, 'Graph-outputs'!$Q12) -> 3.1952586 | E12: =IF(Settings!$N$5=1, 'Graph-outputs'!$X12, 'Graph-outputs'!$AE12) -> 1466.6716 | G12: =IF(AND(ROUND(L12, 1)>=0.1, ROUND(L11, 1)<0.1), 10, "") | H12: =IF(AND(ROUND(L12, 1)>=0.5, ROUND(L11, 1)<0.5), 50, "") | I12: =IF(AND(ROUND(L12, 1)>=0.9, ROUND(L11, 1)<0.9), 90, "") | J12: =INDEX('Calcs-control1'!$G$86:$X$156, 'Graph-outputs'!$B12, 'Graph-outputs'!J$2) -> 3.1952586 | K12: 8 | L12: =INDEX('Calcs-control1'!$G$170:$X$240, 'Graph-outputs'!$B12, 'Graph-outputs'!$D$1) -> 0 | N12: =IF(AND(ROUND(S12, 1)>=0.1, ROUND(S11, 1)<0.1), 10, "") | O12: =IF(AND(ROUND(S12, 1)>=0.5, ROUND(S11, 1)<0.5), 50, "") | P12: =IF(AND(ROUND(S12, 1)>=0.9, ROUND(S11, 1)<0.9), 90, "") | Q12: =INDEX('Calcs-control1'!$AH$86:$AY$156, 'Graph-outputs'!$B12, 'Graph-outputs'!Q$2) -> 2.6989263 | R12: 8 | S12: =INDEX('Calcs-control1'!$AH$170:$AY$240, 'Graph-outputs'!$B12, 'Graph-outputs'!$Q$2) -> 0 | U12: =IF(AND(ROUND(Z12, 1)>=0.1, ROUND(Z11, 1)<0.1), 10, "") | V12: =IF(AND(ROUND(Z12, 1)>=0.5, ROUND(Z11, 1)<0.5), 50, "") | W12: =IF(AND(ROUND(Z12, 1)>=0.9, ROUND(Z11, 1)<0.9), 90, "") | X12: =INDEX('Calcs-control1'!$G$386:$X$456, 'Graph-outputs'!$B12, 'Graph-outputs'!X$2) -> 1466.6716 | Y12: 8 | Z12: =INDEX('Calcs-control1'!$G$170:$X$240, 'Graph-outputs'!$B12, 'Graph-outputs'!$J$2) -> 0 | AB12: =IF(AND(ROUND(AG12, 1)>=0.1, ROUND(AG11, 1)<0.1), 10, "") | AC12: =IF(AND(ROUND(AG12, 1)>=0.5, ROUND(AG11, 1)<0.5), 50, "") | AD12: =IF(AND(ROUND(AG12, 1)>=0.9, ROUND(AG11, 1)<0.9), 90, "") | AE12: =INDEX('Calcs-control1'!$AH$386:$AY$456, 'Graph-outputs'!$B12, 'Graph-outputs'!AE$2) -> 1238.8476 | AF12: 8 | AG12: =INDEX('Calcs-control1'!$AH$170:$AY$240, 'Graph-outputs'!$B12, 'Graph-outputs'!$Q$2) -> 0 | AJ12: 8 | AK12: =IF(Settings!$N$5=1, 'Graph-outputs'!$AR12, 'Graph-outputs'!$AY12) -> 10.026778 | AM12: =IF(Settings!$N$5=1, 'Graph-outputs'!$BF12, 'Graph-outputs'!$BM12) -> 10017.91 | AO12: =IF(AND(ROUND(AT12, 1)>=0.1, ROUND(AT11, 1)<0.1), 10, "") | AP12: =IF(AND(ROUND(AT12, 1)>=0.5, ROUND(AT11, 1)<0.5), 50, "") | AQ12: =IF(AND(ROUND(AT12, 1)>=0.9, ROUND(AT11, 1)<0.9), 90, "") -> 90 | AR12: =INDEX('Calcs-control2'!$G$86:$X$156, 'Graph-outputs'!$B12, 'Graph-outputs'!AR$2) -> 10.026778 | AS12: 8 | AT12: =INDEX('Calcs-control2'!$G$170:$X$240, 'Graph-outputs'!$B12, 'Graph-outputs'!$AL$1) -> 0.87266251 | AV12: =IF(AND(ROUND(BA12, 1)>=0.1, ROUND(BA11, 1)<0.1), 10, "") | AW12: =IF(AND(ROUND(BA12, 1)>=0.5, ROUND(BA11, 1)<0.5), 50, "") | AX12: =IF(AND(ROUND(BA12, 1)>=0.9, ROUND(BA11, 1)<0.9), 90, "") | AY12: =INDEX('Calcs-control2'!$AH$86:$AY$156, 'Graph-outputs'!$B12, 'Graph-outputs'!AY$2) -> 9.0322671 | AZ12: 8 | BA12: =INDEX('Calcs-control2'!$AH$170:$AY$240, 'Graph-outputs'!$B12, 'Graph-outputs'!$AL$1) -> 0.83993525 | BC12: =IF(AND(ROUND(BH12, 1)>=0.1, ROUND(BH11, 1)<0.1), 10, "") | BD12: =IF(AND(ROUND(BH12, 1)>=0.5, ROUND(BH11, 1)<0.5), 50, "") | BE12: =IF(AND(ROUND(BH12, 1)>=0.9, ROUND(BH11, 1)<0.9), 90, "") -> 90 | BF12: =INDEX('Calcs-control2'!$G$386:$X$456, 'Graph-outputs'!$B12, 'Graph-outputs'!BF$2) -> 10017.91 | BG12: 8 | BH12: =INDEX('Calcs-control2'!$G$170:$X$240, 'Graph-outputs'!$B12, 'Graph-outputs'!$AL$1) -> 0.87266251 | BJ12: =IF(AND(ROUND(BO12, 1)>=0.1, ROUND(BO11, 1)<0.1), 10, "") | BK12: =IF(AND(ROUND(BO12, 1)>=0.5, ROUND(BO11, 1)<0.5), 50, "") | BL12: =IF(AND(ROUND(BO12, 1)>=0.9, ROUND(BO11, 1)<0.9), 90, "") | BM12: =INDEX('Calcs-control2'!$AH$386:$AY$456, 'Graph-outputs'!$B12, 'Graph-outputs'!BM$2) -> 8953.3345 | BN12: 8 | BO12: =INDEX('Calcs-control2'!$AH$170:$AY$240, 'Graph-outputs'!$B12, 'Graph-outputs'!$AL$1) -> 0.83993525 | BR12: 8 | BS12: =IF(Settings!$N$5=1, 'Graph-outputs'!$BZ12, 'Graph-outputs'!$CG12) -> 6.8276464 | BU12: =IF(Settings!$N$5=1, 'Graph-outputs'!$CN12, 'Graph-outputs'!$CU12) -> 716.90287 | BW12: =IF(AND(ROUND(CB12, 1)>=0.1, ROUND(CB11, 1)<0.1), 10, "") | BX12: =IF(AND(ROUND(CB12, 1)>=0.5, ROUND(CB11, 1)<0.5), 50, "") | BY12: =IF(AND(ROUND(CB12, 1)>=0.9, ROUND(CB11, 1)<0.9), 90, "") | BZ12: =INDEX('Calcs-control3'!$G$86:$X$156, 'Graph-outputs'!$B12, 'Graph-outputs'!BZ$2) -> 6.8276464 | CA12: 8 | CB12: =INDEX('Calcs-control3'!$G$170:$X$240, 'Graph-outputs'!$B12, 'Graph-outputs'!$BT$1) -> 0 | CD12: =IF(AND(ROUND(CI12, 1)>=0.1, ROUND(CI11, 1)<0.1), 10, "") | CE12: =IF(AND(ROUND(CI12, 1)>=0.5, ROUND(CI11, 1)<0.5), 50, "") | CF12: =IF(AND(ROUND(CI12, 1)>=0.9, ROUND(CI11, 1)<0.9), 90, "") | CG12: =INDEX('Calcs-control3'!$AH$86:$AY$156, 'Graph-outputs'!$B12, 'Graph-outputs'!CG$2) -> 6.2001415 | CH12: 8 | CI12: =INDEX('Calcs-control2'!$AH$170:$AY$240, 'Graph-outputs'!$B12, 'Graph-outputs'!$BT$1) -> 0 | CK12: =IF(AND(ROUND(CP12, 1)>=0.1, ROUND(CP11, 1)<0.1), 10, "") | CL12: =IF(AND(ROUND(CP12, 1)>=0.5, ROUND(CP11, 1)<0.5), 50, "") | CM12: =IF(AND(ROUND(CP12, 1)>=0.9, ROUND(CP11, 1)<0.9), 90, "") | CN12: =INDEX('Calcs-control3'!$G$386:$X$456, 'Graph-outputs'!$B12, 'Graph-outputs'!CN$2) -> 716.90287 | CO12: 8 | CP12: =INDEX('Calcs-control2'!$G$170:$X$240, 'Graph-outputs'!$B12, 'Graph-outputs'!$BT$1) -> 0 | CR12: =IF(AND(ROUND(CW12, 1)>=0.1, ROUND(CW11, 1)<0.1), 10, "") | CS12: =IF(AND(ROUND(CW12, 1)>=0.5, ROUND(CW11, 1)<0.5), 50, "") | CT12: =IF(AND(ROUND(CW12, 1)>=0.9, ROUND(CW11, 1)<0.9), 90, "") | CU12: =INDEX('Calcs-control3'!$AH$386:$AY$456, 'Graph-outputs'!$B12, 'Graph-outputs'!CU$2) -> 651.01486 | CV12: 8 | CW12: =INDEX('Calcs-control2'!$AH$170:$AY$240, 'Graph-outputs'!$B12, 'Graph-outputs'!$BT$1) -> 0 | CZ12: 8 | DA12: =IF(Settings!$N$5=1, 'Graph-outputs'!$DH12, 'Graph-outputs'!$DO12) -> #REF! | DC12: =IF(Settings!$N$5=1, 'Graph-outputs'!$DV12, 'Graph-outputs'!$EC12) -> #REF! | DE12: =IF(AND(ROUND(DJ12, 1)>=0.1, ROUND(DJ11, 1)<0.1), 10, "") -> #REF! | DF12: =IF(AND(ROUND(DJ12, 1)>=0.5, ROUND(DJ11, 1)<0.5), 50, "") -> #REF! | DG12: =IF(AND(ROUND(DJ12, 1)>=0.9, ROUND(DJ11, 1)<0.9), 90, "") -> #REF! | DH12: =INDEX('Calcs-control4'!$G$86:$X$156, 'Graph-outputs'!$B12, 'Graph-outputs'!DH$2) -> #REF! | DI12: 8 | DJ12: =INDEX('Calcs-control4'!$G$170:$X$240, 'Graph-outputs'!$B12, 'Graph-outputs'!$DB$1) -> #REF! | DL12: =IF(AND(ROUND(DQ12, 1)>=0.1, ROUND(DQ11, 1)<0.1), 10, "") -> #REF! | DM12: =IF(AND(ROUND(DQ12, 1)>=0.5, ROUND(DQ11, 1)<0.5), 50, "") -> #REF! | DN12: =IF(AND(ROUND(DQ12, 1)>=0.9, ROUND(DQ11, 1)<0.9), 90, "") -> #REF! | DO12: =INDEX('Calcs-control4'!$AH$86:$AY$156, 'Graph-outputs'!$B12, 'Graph-outputs'!DO$2) -> #REF! | DP12: 8 | DQ12: =INDEX('Calcs-control4'!$AH$170:$AY$240, 'Graph-outputs'!$B12, 'Graph-outputs'!$DB$1) -> #REF! | DS12: =IF(AND(ROUND(DX12, 1)>=0.1, ROUND(DX11, 1)<0.1), 10, "") -> #REF! | DT12: =IF(AND(ROUND(DX12, 1)>=0.5, ROUND(DX11, 1)<0.5), 50, "") -> #REF! | DU12: =IF(AND(ROUND(DX12, 1)>=0.9, ROUND(DX11, 1)<0.9), 90, "") -> #REF! | DV12: =INDEX('Calcs-control4'!$G$386:$X$456, 'Graph-outputs'!$B12, 'Graph-outputs'!DV$2) -> #REF! | DW12: 8 | DX12: =INDEX('Calcs-control4'!$G$170:$X$240, 'Graph-outputs'!$B12, 'Graph-outputs'!$DB$1) -> #REF! | DZ12: =IF(AND(ROUND(EE12, 1)>=0.1, ROUND(EE11, 1)<0.1), 10, "") -> #REF! | EA12: =IF(AND(ROUND(EE12, 1)>=0.5, ROUND(EE11, 1)<0.5), 50, "") -> #REF! | EB12: =IF(AND(ROUND(EE12, 1)>=0.9, ROUND(EE11, 1)<0.9), 90, "") -> #REF! | EC12: =INDEX('Calcs-control4'!$AH$386:$AY$456, 'Graph-outputs'!$B12, 'Graph-outputs'!EC$2) -> #REF! | ED12: 8 | EE12: =INDEX('Calcs-control4'!$AH$170:$AY$240, 'Graph-outputs'!$B12, 'Graph-outputs'!$DB$1) -> #REF!
A13: 9 | B13: 10 | C13: =IF(Settings!$N$5=1, 'Graph-outputs'!$J13, 'Graph-outputs'!$Q13) -> 4.0898697 | E13: =IF(Settings!$N$5=1, 'Graph-outputs'!$X13, 'Graph-outputs'!$AE13) -> 1877.3115 | G13: =IF(AND(ROUND(L13, 1)>=0.1, ROUND(L12, 1)<0.1), 10, "") | H13: =IF(AND(ROUND(L13, 1)>=0.5, ROUND(L12, 1)<0.5), 50, "") | I13: =IF(AND(ROUND(L13, 1)>=0.9, ROUND(L12, 1)<0.9), 90, "") | J13: =INDEX('Calcs-control1'!$G$86:$X$156, 'Graph-outputs'!$B13, 'Graph-outputs'!J$2) -> 4.0898697 | K13: 9 | L13: =INDEX('Calcs-control1'!$G$170:$X$240, 'Graph-outputs'!$B13, 'Graph-outputs'!$D$1) -> 0 | N13: =IF(AND(ROUND(S13, 1)>=0.1, ROUND(S12, 1)<0.1), 10, "") | O13: =IF(AND(ROUND(S13, 1)>=0.5, ROUND(S12, 1)<0.5), 50, "") | P13: =IF(AND(ROUND(S13, 1)>=0.9, ROUND(S12, 1)<0.9), 90, "") | Q13: =INDEX('Calcs-control1'!$AH$86:$AY$156, 'Graph-outputs'!$B13, 'Graph-outputs'!Q$2) -> 3.0124116 | R13: 9 | S13: =INDEX('Calcs-control1'!$AH$170:$AY$240, 'Graph-outputs'!$B13, 'Graph-outputs'!$Q$2) -> 0 | U13: =IF(AND(ROUND(Z13, 1)>=0.1, ROUND(Z12, 1)<0.1), 10, "") | V13: =IF(AND(ROUND(Z13, 1)>=0.5, ROUND(Z12, 1)<0.5), 50, "") | W13: =IF(AND(ROUND(Z13, 1)>=0.9, ROUND(Z12, 1)<0.9), 90, "") | X13: =INDEX('Calcs-control1'!$G$386:$X$456, 'Graph-outputs'!$B13, 'Graph-outputs'!X$2) -> 1877.3115 | Y13: 9 | Z13: =INDEX('Calcs-control1'!$G$170:$X$240, 'Graph-outputs'!$B13, 'Graph-outputs'!$J$2) -> 0 | AB13: =IF(AND(ROUND(AG13, 1)>=0.1, ROUND(AG12, 1)<0.1), 10, "") | AC13: =IF(AND(ROUND(AG13, 1)>=0.5, ROUND(AG12, 1)<0.5), 50, "") | AD13: =IF(AND(ROUND(AG13, 1)>=0.9, ROUND(AG12, 1)<0.9), 90, "") | AE13: =INDEX('Calcs-control1'!$AH$386:$AY$456, 'Graph-outputs'!$B13, 'Graph-outputs'!AE$2) -> 1382.7421 | AF13: 9 | AG13: =INDEX('Calcs-control1'!$AH$170:$AY$240, 'Graph-outputs'!$B13, 'Graph-outputs'!$Q$2) -> 0 | AJ13: 9 | AK13: =IF(Settings!$N$5=1, 'Graph-outputs'!$AR13, 'Graph-outputs'!$AY13) -> 11.723882 | AM13: =IF(Settings!$N$5=1, 'Graph-outputs'!$BF13, 'Graph-outputs'!$BM13) -> 11829.303 | AO13: =IF(AND(ROUND(AT13, 1)>=0.1, ROUND(AT12, 1)<0.1), 10, "") | AP13: =IF(AND(ROUND(AT13, 1)>=0.5, ROUND(AT12, 1)<0.5), 50, "") | AQ13: =IF(AND(ROUND(AT13, 1)>=0.9, ROUND(AT12, 1)<0.9), 90, "") | AR13: =INDEX('Calcs-control2'!$G$86:$X$156, 'Graph-outputs'!$B13, 'Graph-outputs'!AR$2) -> 11.723882 | AS13: 9 | AT13: =INDEX('Calcs-control2'!$G$170:$X$240, 'Graph-outputs'!$B13, 'Graph-outputs'!$AL$1) -> 0.91381407 | AV13: =IF(AND(ROUND(BA13, 1)>=0.1, ROUND(BA12, 1)<0.1), 10, "") | AW13: =IF(AND(ROUND(BA13, 1)>=0.5, ROUND(BA12, 1)<0.5), 50, "") | AX13: =IF(AND(ROUND(BA13, 1)>=0.9, ROUND(BA12, 1)<0.9), 90, "") -> 90 | AY13: =INDEX('Calcs-control2'!$AH$86:$AY$156, 'Graph-outputs'!$B13, 'Graph-outputs'!AY$2) -> 9.6657309 | AZ13: 9 | BA13: =INDEX('Calcs-control2'!$AH$170:$AY$240, 'Graph-outputs'!$B13, 'Graph-outputs'!$AL$1) -> 0.86163685 | BC13: =IF(AND(ROUND(BH13, 1)>=0.1, ROUND(BH12, 1)<0.1), 10, "") | BD13: =IF(AND(ROUND(BH13, 1)>=0.5, ROUND(BH12, 1)<0.5), 50, "") | BE13: =IF(AND(ROUND(BH13, 1)>=0.9, ROUND(BH12, 1)<0.9), 90, "") | BF13: =INDEX('Calcs-control2'!$G$386:$X$456, 'Graph-outputs'!$B13, 'Graph-outputs'!BF$2) -> 11829.303 | BG13: 9 | BH13: =INDEX('Calcs-control2'!$G$170:$X$240, 'Graph-outputs'!$B13, 'Graph-outputs'!$AL$1) -> 0.91381407 | BJ13: =IF(AND(ROUND(BO13, 1)>=0.1, ROUND(BO12, 1)<0.1), 10, "") | BK13: =IF(AND(ROUND(BO13, 1)>=0.5, ROUND(BO12, 1)<0.5), 50, "") | BL13: =IF(AND(ROUND(BO13, 1)>=0.9, ROUND(BO12, 1)<0.9), 90, "") -> 90 | BM13: =INDEX('Calcs-control2'!$AH$386:$AY$456, 'Graph-outputs'!$B13, 'Graph-outputs'!BM$2) -> 9631.6053 | BN13: 9 | BO13: =INDEX('Calcs-control2'!$AH$170:$AY$240, 'Graph-outputs'!$B13, 'Graph-outputs'!$AL$1) -> 0.86163685 | BR13: 9 | BS13: =IF(Settings!$N$5=1, 'Graph-outputs'!$BZ13, 'Graph-outputs'!$CG13) -> 7.8863085 | BU13: =IF(Settings!$N$5=1, 'Graph-outputs'!$CN13, 'Graph-outputs'!$CU13) -> 828.06239 | BW13: =IF(AND(ROUND(CB13, 1)>=0.1, ROUND(CB12, 1)<0.1), 10, "") | BX13: =IF(AND(ROUND(CB13, 1)>=0.5, ROUND(CB12, 1)<0.5), 50, "") | BY13: =IF(AND(ROUND(CB13, 1)>=0.9, ROUND(CB12, 1)<0.9), 90, "") | BZ13: =INDEX('Calcs-control3'!$G$86:$X$156, 'Graph-outputs'!$B13, 'Graph-outputs'!BZ$2) -> 7.8863085 | CA13: 9 | CB13: =INDEX('Calcs-control3'!$G$170:$X$240, 'Graph-outputs'!$B13, 'Graph-outputs'!$BT$1) -> 0 | CD13: =IF(AND(ROUND(CI13, 1)>=0.1, ROUND(CI12, 1)<0.1), 10, "") | CE13: =IF(AND(ROUND(CI13, 1)>=0.5, ROUND(CI12, 1)<0.5), 50, "") | CF13: =IF(AND(ROUND(CI13, 1)>=0.9, ROUND(CI12, 1)<0.9), 90, "") | CG13: =INDEX('Calcs-control3'!$AH$86:$AY$156, 'Graph-outputs'!$B13, 'Graph-outputs'!CG$2) -> 6.6004835 | CH13: 9 | CI13: =INDEX('Calcs-control2'!$AH$170:$AY$240, 'Graph-outputs'!$B13, 'Graph-outputs'!$BT$1) -> 0 | CK13: =IF(AND(ROUND(CP13, 1)>=0.1, ROUND(CP12, 1)<0.1), 10, "") | CL13: =IF(AND(ROUND(CP13, 1)>=0.5, ROUND(CP12, 1)<0.5), 50, "") | CM13: =IF(AND(ROUND(CP13, 1)>=0.9, ROUND(CP12, 1)<0.9), 90, "") | CN13: =INDEX('Calcs-control3'!$G$386:$X$456, 'Graph-outputs'!$B13, 'Graph-outputs'!CN$2) -> 828.06239 | CO13: 9 | CP13: =INDEX('Calcs-control2'!$G$170:$X$240, 'Graph-outputs'!$B13, 'Graph-outputs'!$BT$1) -> 0 | CR13: =IF(AND(ROUND(CW13, 1)>=0.1, ROUND(CW12, 1)<0.1), 10, "") | CS13: =IF(AND(ROUND(CW13, 1)>=0.5, ROUND(CW12, 1)<0.5), 50, "") | CT13: =IF(AND(ROUND(CW13, 1)>=0.9, ROUND(CW12, 1)<0.9), 90, "") | CU13: =INDEX('Calcs-control3'!$AH$386:$AY$456, 'Graph-outputs'!$B13, 'Graph-outputs'!CU$2) -> 693.05076 | CV13: 9 | CW13: =INDEX('Calcs-control2'!$AH$170:$AY$240, 'Graph-outputs'!$B13, 'Graph-outputs'!$BT$1) -> 0 | CZ13: 9 | DA13: =IF(Settings!$N$5=1, 'Graph-outputs'!$DH13, 'Graph-outputs'!$DO13) -> #REF! | DC13: =IF(Settings!$N$5=1, 'Graph-outputs'!$DV13, 'Graph-outputs'!$EC13) -> #REF! | DE13: =IF(AND(ROUND(DJ13, 1)>=0.1, ROUND(DJ12, 1)<0.1), 10, "") -> #REF! | DF13: =IF(AND(ROUND(DJ13, 1)>=0.5, ROUND(DJ12, 1)<0.5), 50, "") -> #REF! | DG13: =IF(AND(ROUND(DJ13, 1)>=0.9, ROUND(DJ12, 1)<0.9), 90, "") -> #REF! | DH13: =INDEX('Calcs-control4'!$G$86:$X$156, 'Graph-outputs'!$B13, 'Graph-outputs'!DH$2) -> #REF! | DI13: 9 | DJ13: =INDEX('Calcs-control4'!$G$170:$X$240, 'Graph-outputs'!$B13, 'Graph-outputs'!$DB$1) -> #REF! | DL13: =IF(AND(ROUND(DQ13, 1)>=0.1, ROUND(DQ12, 1)<0.1), 10, "") -> #REF! | DM13: =IF(AND(ROUND(DQ13, 1)>=0.5, ROUND(DQ12, 1)<0.5), 50, "") -> #REF! | DN13: =IF(AND(ROUND(DQ13, 1)>=0.9, ROUND(DQ12, 1)<0.9), 90, "") -> #REF! | DO13: =INDEX('Calcs-control4'!$AH$86:$AY$156, 'Graph-outputs'!$B13, 'Graph-outputs'!DO$2) -> #REF! | DP13: 9 | DQ13: =INDEX('Calcs-control4'!$AH$170:$AY$240, 'Graph-outputs'!$B13, 'Graph-outputs'!$DB$1) -> #REF! | DS13: =IF(AND(ROUND(DX13, 1)>=0.1, ROUND(DX12, 1)<0.1), 10, "") -> #REF! | DT13: =IF(AND(ROUND(DX13, 1)>=0.5, ROUND(DX12, 1)<0.5), 50, "") -> #REF! | DU13: =IF(AND(ROUND(DX13, 1)>=0.9, ROUND(DX12, 1)<0.9), 90, "") -> #REF! | DV13: =INDEX('Calcs-control4'!$G$386:$X$456, 'Graph-outputs'!$B13, 'Graph-outputs'!DV$2) -> #REF! | DW13: 9 | DX13: =INDEX('Calcs-control4'!$G$170:$X$240, 'Graph-outputs'!$B13, 'Graph-outputs'!$DB$1) -> #REF! | DZ13: =IF(AND(ROUND(EE13, 1)>=0.1, ROUND(EE12, 1)<0.1), 10, "") -> #REF! | EA13: =IF(AND(ROUND(EE13, 1)>=0.5, ROUND(EE12, 1)<0.5), 50, "") -> #REF! | EB13: =IF(AND(ROUND(EE13, 1)>=0.9, ROUND(EE12, 1)<0.9), 90, "") -> #REF! | EC13: =INDEX('Calcs-control4'!$AH$386:$AY$456, 'Graph-outputs'!$B13, 'Graph-outputs'!EC$2) -> #REF! | ED13: 9 | EE13: =INDEX('Calcs-control4'!$AH$170:$AY$240, 'Graph-outputs'!$B13, 'Graph-outputs'!$DB$1) -> #REF!
A14: 10 | B14: 11 | C14: =IF(Settings!$N$5=1, 'Graph-outputs'!$J14, 'Graph-outputs'!$Q14) -> 7.0466762 | E14: =IF(Settings!$N$5=1, 'Graph-outputs'!$X14, 'Graph-outputs'!$AE14) -> 3646.116 | G14: =IF(AND(ROUND(L14, 1)>=0.1, ROUND(L13, 1)<0.1), 10, "") -> 10 | H14: =IF(AND(ROUND(L14, 1)>=0.5, ROUND(L13, 1)<0.5), 50, "") | I14: =IF(AND(ROUND(L14, 1)>=0.9, ROUND(L13, 1)<0.9), 90, "") | J14: =INDEX('Calcs-control1'!$G$86:$X$156, 'Graph-outputs'!$B14, 'Graph-outputs'!J$2) -> 7.0466762 | K14: 10 | L14: =INDEX('Calcs-control1'!$G$170:$X$240, 'Graph-outputs'!$B14, 'Graph-outputs'!$D$1) -> 0.10816395 | N14: =IF(AND(ROUND(S14, 1)>=0.1, ROUND(S13, 1)<0.1), 10, "") | O14: =IF(AND(ROUND(S14, 1)>=0.5, ROUND(S13, 1)<0.5), 50, "") | P14: =IF(AND(ROUND(S14, 1)>=0.9, ROUND(S13, 1)<0.9), 90, "") | Q14: =INDEX('Calcs-control1'!$AH$86:$AY$156, 'Graph-outputs'!$B14, 'Graph-outputs'!Q$2) -> 3.3559742 | R14: 10 | S14: =INDEX('Calcs-control1'!$AH$170:$AY$240, 'Graph-outputs'!$B14, 'Graph-outputs'!$Q$2) -> 0 | U14: =IF(AND(ROUND(Z14, 1)>=0.1, ROUND(Z13, 1)<0.1), 10, "") -> 10 | V14: =IF(AND(ROUND(Z14, 1)>=0.5, ROUND(Z13, 1)<0.5), 50, "") | W14: =IF(AND(ROUND(Z14, 1)>=0.9, ROUND(Z13, 1)<0.9), 90, "") | X14: =INDEX('Calcs-control1'!$G$386:$X$456, 'Graph-outputs'!$B14, 'Graph-outputs'!X$2) -> 3646.116 | Y14: 10 | Z14: =INDEX('Calcs-control1'!$G$170:$X$240, 'Graph-outputs'!$B14, 'Graph-outputs'!$J$2) -> 0.10816395 | AB14: =IF(AND(ROUND(AG14, 1)>=0.1, ROUND(AG13, 1)<0.1), 10, "") | AC14: =IF(AND(ROUND(AG14, 1)>=0.5, ROUND(AG13, 1)<0.5), 50, "") | AD14: =IF(AND(ROUND(AG14, 1)>=0.9, ROUND(AG13, 1)<0.9), 90, "") | AE14: =INDEX('Calcs-control1'!$AH$386:$AY$456, 'Graph-outputs'!$B14, 'Graph-outputs'!AE$2) -> 1540.4424 | AF14: 10 | AG14: =INDEX('Calcs-control1'!$AH$170:$AY$240, 'Graph-outputs'!$B14, 'Graph-outputs'!$Q$2) -> 0 | AJ14: 10 | AK14: =IF(Settings!$N$5=1, 'Graph-outputs'!$AR14, 'Graph-outputs'!$AY14) -> 13.456496 | AM14: =IF(Settings!$N$5=1, 'Graph-outputs'!$BF14, 'Graph-outputs'!$BM14) -> 13668.98 | AO14: =IF(AND(ROUND(AT14, 1)>=0.1, ROUND(AT13, 1)<0.1), 10, "") | AP14: =IF(AND(ROUND(AT14, 1)>=0.5, ROUND(AT13, 1)<0.5), 50, "") | AQ14: =IF(AND(ROUND(AT14, 1)>=0.9, ROUND(AT13, 1)<0.9), 90, "") | AR14: =INDEX('Calcs-control2'!$G$86:$X$156, 'Graph-outputs'!$B14, 'Graph-outputs'!AR$2) -> 13.456496 | AS14: 10 | AT14: =INDEX('Calcs-control2'!$G$170:$X$240, 'Graph-outputs'!$B14, 'Graph-outputs'!$AL$1) -> 0.94214119 | AV14: =IF(AND(ROUND(BA14, 1)>=0.1, ROUND(BA13, 1)<0.1), 10, "") | AW14: =IF(AND(ROUND(BA14, 1)>=0.5, ROUND(BA13, 1)<0.5), 50, "") | AX14: =IF(AND(ROUND(BA14, 1)>=0.9, ROUND(BA13, 1)<0.9), 90, "") | AY14: =INDEX('Calcs-control2'!$AH$86:$AY$156, 'Graph-outputs'!$B14, 'Graph-outputs'!AY$2) -> 10.339614 | AZ14: 10 | BA14: =INDEX('Calcs-control2'!$AH$170:$AY$240, 'Graph-outputs'!$B14, 'Graph-outputs'!$AL$1) -> 0.88150287 | BC14: =IF(AND(ROUND(BH14, 1)>=0.1, ROUND(BH13, 1)<0.1), 10, "") | BD14: =IF(AND(ROUND(BH14, 1)>=0.5, ROUND(BH13, 1)<0.5), 50, "") | BE14: =IF(AND(ROUND(BH14, 1)>=0.9, ROUND(BH13, 1)<0.9), 90, "") | BF14: =INDEX('Calcs-control2'!$G$386:$X$456, 'Graph-outputs'!$B14, 'Graph-outputs'!BF$2) -> 13668.98 | BG14: 10 | BH14: =INDEX('Calcs-control2'!$G$170:$X$240, 'Graph-outputs'!$B14, 'Graph-outputs'!$AL$1) -> 0.94214119 | BJ14: =IF(AND(ROUND(BO14, 1)>=0.1, ROUND(BO13, 1)<0.1), 10, "") | BK14: =IF(AND(ROUND(BO14, 1)>=0.5, ROUND(BO13, 1)<0.5), 50, "") | BL14: =IF(AND(ROUND(BO14, 1)>=0.9, ROUND(BO13, 1)<0.9), 90, "") | BM14: =INDEX('Calcs-control2'!$AH$386:$AY$456, 'Graph-outputs'!$B14, 'Graph-outputs'!BM$2) -> 10352.407 | BN14: 10 | BO14: =INDEX('Calcs-control2'!$AH$170:$AY$240, 'Graph-outputs'!$B14, 'Graph-outputs'!$AL$1) -> 0.88150287 | BR14: 10 | BS14: =IF(Settings!$N$5=1, 'Graph-outputs'!$BZ14, 'Graph-outputs'!$CG14) -> 8.9530696 | BU14: =IF(Settings!$N$5=1, 'Graph-outputs'!$CN14, 'Graph-outputs'!$CU14) -> 940.07231 | BW14: =IF(AND(ROUND(CB14, 1)>=0.1, ROUND(CB13, 1)<0.1), 10, "") | BX14: =IF(AND(ROUND(CB14, 1)>=0.5, ROUND(CB13, 1)<0.5), 50, "") | BY14: =IF(AND(ROUND(CB14, 1)>=0.9, ROUND(CB13, 1)<0.9), 90, "") | BZ14: =INDEX('Calcs-control3'!$G$86:$X$156, 'Graph-outputs'!$B14, 'Graph-outputs'!BZ$2) -> 8.9530696 | CA14: 10 | CB14: =INDEX('Calcs-control3'!$G$170:$X$240, 'Graph-outputs'!$B14, 'Graph-outputs'!$BT$1) -> 0 | CD14: =IF(AND(ROUND(CI14, 1)>=0.1, ROUND(CI13, 1)<0.1), 10, "") | CE14: =IF(AND(ROUND(CI14, 1)>=0.5, ROUND(CI13, 1)<0.5), 50, "") | CF14: =IF(AND(ROUND(CI14, 1)>=0.9, ROUND(CI13, 1)<0.9), 90, "") | CG14: =INDEX('Calcs-control3'!$AH$86:$AY$156, 'Graph-outputs'!$B14, 'Graph-outputs'!CG$2) -> 7.0239038 | CH14: 10 | CI14: =INDEX('Calcs-control2'!$AH$170:$AY$240, 'Graph-outputs'!$B14, 'Graph-outputs'!$BT$1) -> 0 | CK14: =IF(AND(ROUND(CP14, 1)>=0.1, ROUND(CP13, 1)<0.1), 10, "") | CL14: =IF(AND(ROUND(CP14, 1)>=0.5, ROUND(CP13, 1)<0.5), 50, "") | CM14: =IF(AND(ROUND(CP14, 1)>=0.9, ROUND(CP13, 1)<0.9), 90, "") | CN14: =INDEX('Calcs-control3'!$G$386:$X$456, 'Graph-outputs'!$B14, 'Graph-outputs'!CN$2) -> 940.07231 | CO14: 10 | CP14: =INDEX('Calcs-control2'!$G$170:$X$240, 'Graph-outputs'!$B14, 'Graph-outputs'!$BT$1) -> 0 | CR14: =IF(AND(ROUND(CW14, 1)>=0.1, ROUND(CW13, 1)<0.1), 10, "") | CS14: =IF(AND(ROUND(CW14, 1)>=0.5, ROUND(CW13, 1)<0.5), 50, "") | CT14: =IF(AND(ROUND(CW14, 1)>=0.9, ROUND(CW13, 1)<0.9), 90, "") | CU14: =INDEX('Calcs-control3'!$AH$386:$AY$456, 'Graph-outputs'!$B14, 'Graph-outputs'!CU$2) -> 737.5099 | CV14: 10 | CW14: =INDEX('Calcs-control2'!$AH$170:$AY$240, 'Graph-outputs'!$B14, 'Graph-outputs'!$BT$1) -> 0 | CZ14: 10 | DA14: =IF(Settings!$N$5=1, 'Graph-outputs'!$DH14, 'Graph-outputs'!$DO14) -> #REF! | DC14: =IF(Settings!$N$5=1, 'Graph-outputs'!$DV14, 'Graph-outputs'!$EC14) -> #REF! | DE14: =IF(AND(ROUND(DJ14, 1)>=0.1, ROUND(DJ13, 1)<0.1), 10, "") -> #REF! | DF14: =IF(AND(ROUND(DJ14, 1)>=0.5, ROUND(DJ13, 1)<0.5), 50, "") -> #REF! | DG14: =IF(AND(ROUND(DJ14, 1)>=0.9, ROUND(DJ13, 1)<0.9), 90, "") -> #REF! | DH14: =INDEX('Calcs-control4'!$G$86:$X$156, 'Graph-outputs'!$B14, 'Graph-outputs'!DH$2) -> #REF! | DI14: 10 | DJ14: =INDEX('Calcs-control4'!$G$170:$X$240, 'Graph-outputs'!$B14, 'Graph-outputs'!$DB$1) -> #REF! | DL14: =IF(AND(ROUND(DQ14, 1)>=0.1, ROUND(DQ13, 1)<0.1), 10, "") -> #REF! | DM14: =IF(AND(ROUND(DQ14, 1)>=0.5, ROUND(DQ13, 1)<0.5), 50, "") -> #REF! | DN14: =IF(AND(ROUND(DQ14, 1)>=0.9, ROUND(DQ13, 1)<0.9), 90, "") -> #REF! | DO14: =INDEX('Calcs-control4'!$AH$86:$AY$156, 'Graph-outputs'!$B14, 'Graph-outputs'!DO$2) -> #REF! | DP14: 10 | DQ14: =INDEX('Calcs-control4'!$AH$170:$AY$240, 'Graph-outputs'!$B14, 'Graph-outputs'!$DB$1) -> #REF! | DS14: =IF(AND(ROUND(DX14, 1)>=0.1, ROUND(DX13, 1)<0.1), 10, "") -> #REF! | DT14: =IF(AND(ROUND(DX14, 1)>=0.5, ROUND(DX13, 1)<0.5), 50, "") -> #REF! | DU14: =IF(AND(ROUND(DX14, 1)>=0.9, ROUND(DX13, 1)<0.9), 90, "") -> #REF! | DV14: =INDEX('Calcs-control4'!$G$386:$X$456, 'Graph-outputs'!$B14, 'Graph-outputs'!DV$2) -> #REF! | DW14: 10 | DX14: =INDEX('Calcs-control4'!$G$170:$X$240, 'Graph-outputs'!$B14, 'Graph-outputs'!$DB$1) -> #REF! | DZ14: =IF(AND(ROUND(EE14, 1)>=0.1, ROUND(EE13, 1)<0.1), 10, "") -> #REF! | EA14: =IF(AND(ROUND(EE14, 1)>=0.5, ROUND(EE13, 1)<0.5), 50, "") -> #REF! | EB14: =IF(AND(ROUND(EE14, 1)>=0.9, ROUND(EE13, 1)<0.9), 90, "") -> #REF! | EC14: =INDEX('Calcs-control4'!$AH$386:$AY$456, 'Graph-outputs'!$B14, 'Graph-outputs'!EC$2) -> #REF! | ED14: 10 | EE14: =INDEX('Calcs-control4'!$AH$170:$AY$240, 'Graph-outputs'!$B14, 'Graph-outputs'!$DB$1) -> #REF!
A15: 11 | B15: 12 | C15: =IF(Settings!$N$5=1, 'Graph-outputs'!$J15, 'Graph-outputs'!$Q15) -> 11.695693 | E15: =IF(Settings!$N$5=1, 'Graph-outputs'!$X15, 'Graph-outputs'!$AE15) -> 7220.8117 | G15: =IF(AND(ROUND(L15, 1)>=0.1, ROUND(L14, 1)<0.1), 10, "") | H15: =IF(AND(ROUND(L15, 1)>=0.5, ROUND(L14, 1)<0.5), 50, "") | I15: =IF(AND(ROUND(L15, 1)>=0.9, ROUND(L14, 1)<0.9), 90, "") | J15: =INDEX('Calcs-control1'!$G$86:$X$156, 'Graph-outputs'!$B15, 'Graph-outputs'!J$2) -> 11.695693 | K15: 11 | L15: =INDEX('Calcs-control1'!$G$170:$X$240, 'Graph-outputs'!$B15, 'Graph-outputs'!$D$1) -> 0.29328832 | N15: =IF(AND(ROUND(S15, 1)>=0.1, ROUND(S14, 1)<0.1), 10, "") | O15: =IF(AND(ROUND(S15, 1)>=0.5, ROUND(S14, 1)<0.5), 50, "") | P15: =IF(AND(ROUND(S15, 1)>=0.9, ROUND(S14, 1)<0.9), 90, "") | Q15: =INDEX('Calcs-control1'!$AH$86:$AY$156, 'Graph-outputs'!$B15, 'Graph-outputs'!Q$2) -> 3.7314081 | R15: 11 | S15: =INDEX('Calcs-control1'!$AH$170:$AY$240, 'Graph-outputs'!$B15, 'Graph-outputs'!$Q$2) -> 0 | U15: =IF(AND(ROUND(Z15, 1)>=0.1, ROUND(Z14, 1)<0.1), 10, "") | V15: =IF(AND(ROUND(Z15, 1)>=0.5, ROUND(Z14, 1)<0.5), 50, "") | W15: =IF(AND(ROUND(Z15, 1)>=0.9, ROUND(Z14, 1)<0.9), 90, "") | X15: =INDEX('Calcs-control1'!$G$386:$X$456, 'Graph-outputs'!$B15, 'Graph-outputs'!X$2) -> 7220.8117 | Y15: 11 | Z15: =INDEX('Calcs-control1'!$G$170:$X$240, 'Graph-outputs'!$B15, 'Graph-outputs'!$J$2) -> 0.29328832 | AB15: =IF(AND(ROUND(AG15, 1)>=0.1, ROUND(AG14, 1)<0.1), 10, "") | AC15: =IF(AND(ROUND(AG15, 1)>=0.5, ROUND(AG14, 1)<0.5), 50, "") | AD15: =IF(AND(ROUND(AG15, 1)>=0.9, ROUND(AG14, 1)<0.9), 90, "") | AE15: =INDEX('Calcs-control1'!$AH$386:$AY$456, 'Graph-outputs'!$B15, 'Graph-outputs'!AE$2) -> 1712.7722 | AF15: 11 | AG15: =INDEX('Calcs-control1'!$AH$170:$AY$240, 'Graph-outputs'!$B15, 'Graph-outputs'!$Q$2) -> 0 | AJ15: 11 | AK15: =IF(Settings!$N$5=1, 'Graph-outputs'!$AR15, 'Graph-outputs'!$AY15) -> 15.215573 | AM15: =IF(Settings!$N$5=1, 'Graph-outputs'!$BF15, 'Graph-outputs'!$BM15) -> 15526.139 | AO15: =IF(AND(ROUND(AT15, 1)>=0.1, ROUND(AT14, 1)<0.1), 10, "") | AP15: =IF(AND(ROUND(AT15, 1)>=0.5, ROUND(AT14, 1)<0.5), 50, "") | AQ15: =IF(AND(ROUND(AT15, 1)>=0.9, ROUND(AT14, 1)<0.9), 90, "") | AR15: =INDEX('Calcs-control2'!$G$86:$X$156, 'Graph-outputs'!$B15, 'Graph-outputs'!AR$2) -> 15.215573 | AS15: 11 | AT15: =INDEX('Calcs-control2'!$G$170:$X$240, 'Graph-outputs'!$B15, 'Graph-outputs'!$AL$1) -> 0.9613936 | AV15: =IF(AND(ROUND(BA15, 1)>=0.1, ROUND(BA14, 1)<0.1), 10, "") | AW15: =IF(AND(ROUND(BA15, 1)>=0.5, ROUND(BA14, 1)<0.5), 50, "") | AX15: =IF(AND(ROUND(BA15, 1)>=0.9, ROUND(BA14, 1)<0.9), 90, "") | AY15: =INDEX('Calcs-control2'!$AH$86:$AY$156, 'Graph-outputs'!$B15, 'Graph-outputs'!AY$2) -> 11.05599 | AZ15: 11 | BA15: =INDEX('Calcs-control2'!$AH$170:$AY$240, 'Graph-outputs'!$B15, 'Graph-outputs'!$AL$1) -> 0.89950358 | BC15: =IF(AND(ROUND(BH15, 1)>=0.1, ROUND(BH14, 1)<0.1), 10, "") | BD15: =IF(AND(ROUND(BH15, 1)>=0.5, ROUND(BH14, 1)<0.5), 50, "") | BE15: =IF(AND(ROUND(BH15, 1)>=0.9, ROUND(BH14, 1)<0.9), 90, "") | BF15: =INDEX('Calcs-control2'!$G$386:$X$456, 'Graph-outputs'!$B15, 'Graph-outputs'!BF$2) -> 15526.139 | BG15: 11 | BH15: =INDEX('Calcs-control2'!$G$170:$X$240, 'Graph-outputs'!$B15, 'Graph-outputs'!$AL$1) -> 0.9613936 | BJ15: =IF(AND(ROUND(BO15, 1)>=0.1, ROUND(BO14, 1)<0.1), 10, "") | BK15: =IF(AND(ROUND(BO15, 1)>=0.5, ROUND(BO14, 1)<0.5), 50, "") | BL15: =IF(AND(ROUND(BO15, 1)>=0.9, ROUND(BO14, 1)<0.9), 90, "") | BM15: =INDEX('Calcs-control2'!$AH$386:$AY$456, 'Graph-outputs'!$B15, 'Graph-outputs'!BM$2) -> 11117.433 | BN15: 11 | BO15: =INDEX('Calcs-control2'!$AH$170:$AY$240, 'Graph-outputs'!$B15, 'Graph-outputs'!$AL$1) -> 0.89950358 | BR15: 11 | BS15: =IF(Settings!$N$5=1, 'Graph-outputs'!$BZ15, 'Graph-outputs'!$CG15) -> 10.023234 | BU15: =IF(Settings!$N$5=1, 'Graph-outputs'!$CN15, 'Graph-outputs'!$CU15) -> 1052.4396 | BW15: =IF(AND(ROUND(CB15, 1)>=0.1, ROUND(CB14, 1)<0.1), 10, "") | BX15: =IF(AND(ROUND(CB15, 1)>=0.5, ROUND(CB14, 1)<0.5), 50, "") | BY15: =IF(AND(ROUND(CB15, 1)>=0.9, ROUND(CB14, 1)<0.9), 90, "") | BZ15: =INDEX('Calcs-control3'!$G$86:$X$156, 'Graph-outputs'!$B15, 'Graph-outputs'!BZ$2) -> 10.023234 | CA15: 11 | CB15: =INDEX('Calcs-control3'!$G$170:$X$240, 'Graph-outputs'!$B15, 'Graph-outputs'!$BT$1) -> 0 | CD15: =IF(AND(ROUND(CI15, 1)>=0.1, ROUND(CI14, 1)<0.1), 10, "") | CE15: =IF(AND(ROUND(CI15, 1)>=0.5, ROUND(CI14, 1)<0.5), 50, "") | CF15: =IF(AND(ROUND(CI15, 1)>=0.9, ROUND(CI14, 1)<0.9), 90, "") | CG15: =INDEX('Calcs-control3'!$AH$86:$AY$156, 'Graph-outputs'!$B15, 'Graph-outputs'!CG$2) -> 7.4713999 | CH15: 11 | CI15: =INDEX('Calcs-control2'!$AH$170:$AY$240, 'Graph-outputs'!$B15, 'Graph-outputs'!$BT$1) -> 0 | CK15: =IF(AND(ROUND(CP15, 1)>=0.1, ROUND(CP14, 1)<0.1), 10, "") | CL15: =IF(AND(ROUND(CP15, 1)>=0.5, ROUND(CP14, 1)<0.5), 50, "") | CM15: =IF(AND(ROUND(CP15, 1)>=0.9, ROUND(CP14, 1)<0.9), 90, "") | CN15: =INDEX('Calcs-control3'!$G$386:$X$456, 'Graph-outputs'!$B15, 'Graph-outputs'!CN$2) -> 1052.4396 | CO15: 11 | CP15: =INDEX('Calcs-control2'!$G$170:$X$240, 'Graph-outputs'!$B15, 'Graph-outputs'!$BT$1) -> 0 | CR15: =IF(AND(ROUND(CW15, 1)>=0.1, ROUND(CW14, 1)<0.1), 10, "") | CS15: =IF(AND(ROUND(CW15, 1)>=0.5, ROUND(CW14, 1)<0.5), 50, "") | CT15: =IF(AND(ROUND(CW15, 1)>=0.9, ROUND(CW14, 1)<0.9), 90, "") | CU15: =INDEX('Calcs-control3'!$AH$386:$AY$456, 'Graph-outputs'!$B15, 'Graph-outputs'!CU$2) -> 784.49699 | CV15: 11 | CW15: =INDEX('Calcs-control2'!$AH$170:$AY$240, 'Graph-outputs'!$B15, 'Graph-outputs'!$BT$1) -> 0 | CZ15: 11 | DA15: =IF(Settings!$N$5=1, 'Graph-outputs'!$DH15, 'Graph-outputs'!$DO15) -> #REF! | DC15: =IF(Settings!$N$5=1, 'Graph-outputs'!$DV15, 'Graph-outputs'!$EC15) -> #REF! | DE15: =IF(AND(ROUND(DJ15, 1)>=0.1, ROUND(DJ14, 1)<0.1), 10, "") -> #REF! | DF15: =IF(AND(ROUND(DJ15, 1)>=0.5, ROUND(DJ14, 1)<0.5), 50, "") -> #REF! | DG15: =IF(AND(ROUND(DJ15, 1)>=0.9, ROUND(DJ14, 1)<0.9), 90, "") -> #REF! | DH15: =INDEX('Calcs-control4'!$G$86:$X$156, 'Graph-outputs'!$B15, 'Graph-outputs'!DH$2) -> #REF! | DI15: 11 | DJ15: =INDEX('Calcs-control4'!$G$170:$X$240, 'Graph-outputs'!$B15, 'Graph-outputs'!$DB$1) -> #REF! | DL15: =IF(AND(ROUND(DQ15, 1)>=0.1, ROUND(DQ14, 1)<0.1), 10, "") -> #REF! | DM15: =IF(AND(ROUND(DQ15, 1)>=0.5, ROUND(DQ14, 1)<0.5), 50, "") -> #REF! | DN15: =IF(AND(ROUND(DQ15, 1)>=0.9, ROUND(DQ14, 1)<0.9), 90, "") -> #REF! | DO15: =INDEX('Calcs-control4'!$AH$86:$AY$156, 'Graph-outputs'!$B15, 'Graph-outputs'!DO$2) -> #REF! | DP15: 11 | DQ15: =INDEX('Calcs-control4'!$AH$170:$AY$240, 'Graph-outputs'!$B15, 'Graph-outputs'!$DB$1) -> #REF! | DS15: =IF(AND(ROUND(DX15, 1)>=0.1, ROUND(DX14, 1)<0.1), 10, "") -> #REF! | DT15: =IF(AND(ROUND(DX15, 1)>=0.5, ROUND(DX14, 1)<0.5), 50, "") -> #REF! | DU15: =IF(AND(ROUND(DX15, 1)>=0.9, ROUND(DX14, 1)<0.9), 90, "") -> #REF! | DV15: =INDEX('Calcs-control4'!$G$386:$X$456, 'Graph-outputs'!$B15, 'Graph-outputs'!DV$2) -> #REF! | DW15: 11 | DX15: =INDEX('Calcs-control4'!$G$170:$X$240, 'Graph-outputs'!$B15, 'Graph-outputs'!$DB$1) -> #REF! | DZ15: =IF(AND(ROUND(EE15, 1)>=0.1, ROUND(EE14, 1)<0.1), 10, "") -> #REF! | EA15: =IF(AND(ROUND(EE15, 1)>=0.5, ROUND(EE14, 1)<0.5), 50, "") -> #REF! | EB15: =IF(AND(ROUND(EE15, 1)>=0.9, ROUND(EE14, 1)<0.9), 90, "") -> #REF! | EC15: =INDEX('Calcs-control4'!$AH$386:$AY$456, 'Graph-outputs'!$B15, 'Graph-outputs'!EC$2) -> #REF! | ED15: 11 | EE15: =INDEX('Calcs-control4'!$AH$170:$AY$240, 'Graph-outputs'!$B15, 'Graph-outputs'!$DB$1) -> #REF!
A16: 12 | B16: 13 | C16: =IF(Settings!$N$5=1, 'Graph-outputs'!$J16, 'Graph-outputs'!$Q16) -> 15.927902 | E16: =IF(Settings!$N$5=1, 'Graph-outputs'!$X16, 'Graph-outputs'!$AE16) -> 11133.641 | G16: =IF(AND(ROUND(L16, 1)>=0.1, ROUND(L15, 1)<0.1), 10, "") | H16: =IF(AND(ROUND(L16, 1)>=0.5, ROUND(L15, 1)<0.5), 50, "") | I16: =IF(AND(ROUND(L16, 1)>=0.9, ROUND(L15, 1)<0.9), 90, "") | J16: =INDEX('Calcs-control1'!$G$86:$X$156, 'Graph-outputs'!$B16, 'Graph-outputs'!J$2) -> 15.927902 | K16: 12 | L16: =INDEX('Calcs-control1'!$G$170:$X$240, 'Graph-outputs'!$B16, 'Graph-outputs'!$D$1) -> 0.44442103 | N16: =IF(AND(ROUND(S16, 1)>=0.1, ROUND(S15, 1)<0.1), 10, "") | O16: =IF(AND(ROUND(S16, 1)>=0.5, ROUND(S15, 1)<0.5), 50, "") | P16: =IF(AND(ROUND(S16, 1)>=0.9, ROUND(S15, 1)<0.9), 90, "") | Q16: =INDEX('Calcs-control1'!$AH$86:$AY$156, 'Graph-outputs'!$B16, 'Graph-outputs'!Q$2) -> 4.1404265 | R16: 12 | S16: =INDEX('Calcs-control1'!$AH$170:$AY$240, 'Graph-outputs'!$B16, 'Graph-outputs'!$Q$2) -> 0 | U16: =IF(AND(ROUND(Z16, 1)>=0.1, ROUND(Z15, 1)<0.1), 10, "") | V16: =IF(AND(ROUND(Z16, 1)>=0.5, ROUND(Z15, 1)<0.5), 50, "") | W16: =IF(AND(ROUND(Z16, 1)>=0.9, ROUND(Z15, 1)<0.9), 90, "") | X16: =INDEX('Calcs-control1'!$G$386:$X$456, 'Graph-outputs'!$B16, 'Graph-outputs'!X$2) -> 11133.641 | Y16: 12 | Z16: =INDEX('Calcs-control1'!$G$170:$X$240, 'Graph-outputs'!$B16, 'Graph-outputs'!$J$2) -> 0.44442103 | AB16: =IF(AND(ROUND(AG16, 1)>=0.1, ROUND(AG15, 1)<0.1), 10, "") | AC16: =IF(AND(ROUND(AG16, 1)>=0.5, ROUND(AG15, 1)<0.5), 50, "") | AD16: =IF(AND(ROUND(AG16, 1)>=0.9, ROUND(AG15, 1)<0.9), 90, "") | AE16: =INDEX('Calcs-control1'!$AH$386:$AY$456, 'Graph-outputs'!$B16, 'Graph-outputs'!AE$2) -> 1900.5178 | AF16: 12 | AG16: =INDEX('Calcs-control1'!$AH$170:$AY$240, 'Graph-outputs'!$B16, 'Graph-outputs'!$Q$2) -> 0 | AJ16: 12 | AK16: =IF(Settings!$N$5=1, 'Graph-outputs'!$AR16, 'Graph-outputs'!$AY16) -> 16.993445 | AM16: =IF(Settings!$N$5=1, 'Graph-outputs'!$BF16, 'Graph-outputs'!$BM16) -> 17393.145 | AO16: =IF(AND(ROUND(AT16, 1)>=0.1, ROUND(AT15, 1)<0.1), 10, "") | AP16: =IF(AND(ROUND(AT16, 1)>=0.5, ROUND(AT15, 1)<0.5), 50, "") | AQ16: =IF(AND(ROUND(AT16, 1)>=0.9, ROUND(AT15, 1)<0.9), 90, "") | AR16: =INDEX('Calcs-control2'!$G$86:$X$156, 'Graph-outputs'!$B16, 'Graph-outputs'!AR$2) -> 16.993445 | AS16: 12 | AT16: =INDEX('Calcs-control2'!$G$170:$X$240, 'Graph-outputs'!$B16, 'Graph-outputs'!$AL$1) -> 0.97435093 | AV16: =IF(AND(ROUND(BA16, 1)>=0.1, ROUND(BA15, 1)<0.1), 10, "") | AW16: =IF(AND(ROUND(BA16, 1)>=0.5, ROUND(BA15, 1)<0.5), 50, "") | AX16: =IF(AND(ROUND(BA16, 1)>=0.9, ROUND(BA15, 1)<0.9), 90, "") | AY16: =INDEX('Calcs-control2'!$AH$86:$AY$156, 'Graph-outputs'!$B16, 'Graph-outputs'!AY$2) -> 11.816976 | AZ16: 12 | BA16: =INDEX('Calcs-control2'!$AH$170:$AY$240, 'Graph-outputs'!$B16, 'Graph-outputs'!$AL$1) -> 0.91563984 | BC16: =IF(AND(ROUND(BH16, 1)>=0.1, ROUND(BH15, 1)<0.1), 10, "") | BD16: =IF(AND(ROUND(BH16, 1)>=0.5, ROUND(BH15, 1)<0.5), 50, "") | BE16: =IF(AND(ROUND(BH16, 1)>=0.9, ROUND(BH15, 1)<0.9), 90, "") | BF16: =INDEX('Calcs-control2'!$G$386:$X$456, 'Graph-outputs'!$B16, 'Graph-outputs'!BF$2) -> 17393.145 | BG16: 12 | BH16: =INDEX('Calcs-control2'!$G$170:$X$240, 'Graph-outputs'!$B16, 'Graph-outputs'!$AL$1) -> 0.97435093 | BJ16: =IF(AND(ROUND(BO16, 1)>=0.1, ROUND(BO15, 1)<0.1), 10, "") | BK16: =IF(AND(ROUND(BO16, 1)>=0.5, ROUND(BO15, 1)<0.5), 50, "") | BL16: =IF(AND(ROUND(BO16, 1)>=0.9, ROUND(BO15, 1)<0.9), 90, "") | BM16: =INDEX('Calcs-control2'!$AH$386:$AY$456, 'Graph-outputs'!$B16, 'Graph-outputs'!BM$2) -> 11928.412 | BN16: 12 | BO16: =INDEX('Calcs-control2'!$AH$170:$AY$240, 'Graph-outputs'!$B16, 'Graph-outputs'!$AL$1) -> 0.91563984 | BR16: 12 | BS16: =IF(Settings!$N$5=1, 'Graph-outputs'!$BZ16, 'Graph-outputs'!$CG16) -> 11.092935 | BU16: =IF(Settings!$N$5=1, 'Graph-outputs'!$CN16, 'Graph-outputs'!$CU16) -> 1164.7581 | BW16: =IF(AND(ROUND(CB16, 1)>=0.1, ROUND(CB15, 1)<0.1), 10, "") | BX16: =IF(AND(ROUND(CB16, 1)>=0.5, ROUND(CB15, 1)<0.5), 50, "") | BY16: =IF(AND(ROUND(CB16, 1)>=0.9, ROUND(CB15, 1)<0.9), 90, "") | BZ16: =INDEX('Calcs-control3'!$G$86:$X$156, 'Graph-outputs'!$B16, 'Graph-outputs'!BZ$2) -> 11.092935 | CA16: 12 | CB16: =INDEX('Calcs-control3'!$G$170:$X$240, 'Graph-outputs'!$B16, 'Graph-outputs'!$BT$1) -> 0 | CD16: =IF(AND(ROUND(CI16, 1)>=0.1, ROUND(CI15, 1)<0.1), 10, "") | CE16: =IF(AND(ROUND(CI16, 1)>=0.5, ROUND(CI15, 1)<0.5), 50, "") | CF16: =IF(AND(ROUND(CI16, 1)>=0.9, ROUND(CI15, 1)<0.9), 90, "") | CG16: =INDEX('Calcs-control3'!$AH$86:$AY$156, 'Graph-outputs'!$B16, 'Graph-outputs'!CG$2) -> 7.9439709 | CH16: 12 | CI16: =INDEX('Calcs-control2'!$AH$170:$AY$240, 'Graph-outputs'!$B16, 'Graph-outputs'!$BT$1) -> 0 | CK16: =IF(AND(ROUND(CP16, 1)>=0.1, ROUND(CP15, 1)<0.1), 10, "") | CL16: =IF(AND(ROUND(CP16, 1)>=0.5, ROUND(CP15, 1)<0.5), 50, "") | CM16: =IF(AND(ROUND(CP16, 1)>=0.9, ROUND(CP15, 1)<0.9), 90, "") | CN16: =INDEX('Calcs-control3'!$G$386:$X$456, 'Graph-outputs'!$B16, 'Graph-outputs'!CN$2) -> 1164.7581 | CO16: 12 | CP16: =INDEX('Calcs-control2'!$G$170:$X$240, 'Graph-outputs'!$B16, 'Graph-outputs'!$BT$1) -> 0 | CR16: =IF(AND(ROUND(CW16, 1)>=0.1, ROUND(CW15, 1)<0.1), 10, "") | CS16: =IF(AND(ROUND(CW16, 1)>=0.5, ROUND(CW15, 1)<0.5), 50, "") | CT16: =IF(AND(ROUND(CW16, 1)>=0.9, ROUND(CW15, 1)<0.9), 90, "") | CU16: =INDEX('Calcs-control3'!$AH$386:$AY$456, 'Graph-outputs'!$B16, 'Graph-outputs'!CU$2) -> 834.11695 | CV16: 12 | CW16: =INDEX('Calcs-control2'!$AH$170:$AY$240, 'Graph-outputs'!$B16, 'Graph-outputs'!$BT$1) -> 0 | CZ16: 12 | DA16: =IF(Settings!$N$5=1, 'Graph-outputs'!$DH16, 'Graph-outputs'!$DO16) -> #REF! | DC16: =IF(Settings!$N$5=1, 'Graph-outputs'!$DV16, 'Graph-outputs'!$EC16) -> #REF! | DE16: =IF(AND(ROUND(DJ16, 1)>=0.1, ROUND(DJ15, 1)<0.1), 10, "") -> #REF! | DF16: =IF(AND(ROUND(DJ16, 1)>=0.5, ROUND(DJ15, 1)<0.5), 50, "") -> #REF! | DG16: =IF(AND(ROUND(DJ16, 1)>=0.9, ROUND(DJ15, 1)<0.9), 90, "") -> #REF! | DH16: =INDEX('Calcs-control4'!$G$86:$X$156, 'Graph-outputs'!$B16, 'Graph-outputs'!DH$2) -> #REF! | DI16: 12 | DJ16: =INDEX('Calcs-control4'!$G$170:$X$240, 'Graph-outputs'!$B16, 'Graph-outputs'!$DB$1) -> #REF! | DL16: =IF(AND(ROUND(DQ16, 1)>=0.1, ROUND(DQ15, 1)<0.1), 10, "") -> #REF! | DM16: =IF(AND(ROUND(DQ16, 1)>=0.5, ROUND(DQ15, 1)<0.5), 50, "") -> #REF! | DN16: =IF(AND(ROUND(DQ16, 1)>=0.9, ROUND(DQ15, 1)<0.9), 90, "") -> #REF! | DO16: =INDEX('Calcs-control4'!$AH$86:$AY$156, 'Graph-outputs'!$B16, 'Graph-outputs'!DO$2) -> #REF! | DP16: 12 | DQ16: =INDEX('Calcs-control4'!$AH$170:$AY$240, 'Graph-outputs'!$B16, 'Graph-outputs'!$DB$1) -> #REF! | DS16: =IF(AND(ROUND(DX16, 1)>=0.1, ROUND(DX15, 1)<0.1), 10, "") -> #REF! | DT16: =IF(AND(ROUND(DX16, 1)>=0.5, ROUND(DX15, 1)<0.5), 50, "") -> #REF! | DU16: =IF(AND(ROUND(DX16, 1)>=0.9, ROUND(DX15, 1)<0.9), 90, "") -> #REF! | DV16: =INDEX('Calcs-control4'!$G$386:$X$456, 'Graph-outputs'!$B16, 'Graph-outputs'!DV$2) -> #REF! | DW16: 12 | DX16: =INDEX('Calcs-control4'!$G$170:$X$240, 'Graph-outputs'!$B16, 'Graph-outputs'!$DB$1) -> #REF! | DZ16: =IF(AND(ROUND(EE16, 1)>=0.1, ROUND(EE15, 1)<0.1), 10, "") -> #REF! | EA16: =IF(AND(ROUND(EE16, 1)>=0.5, ROUND(EE15, 1)<0.5), 50, "") -> #REF! | EB16: =IF(AND(ROUND(EE16, 1)>=0.9, ROUND(EE15, 1)<0.9), 90, "") -> #REF! | EC16: =INDEX('Calcs-control4'!$AH$386:$AY$456, 'Graph-outputs'!$B16, 'Graph-outputs'!EC$2) -> #REF! | ED16: 12 | EE16: =INDEX('Calcs-control4'!$AH$170:$AY$240, 'Graph-outputs'!$B16, 'Graph-outputs'!$DB$1) -> #REF!
... A74: 70 | B74: 71 | C74: =IF(Settings!$N$5=1, 'Graph-outputs'!$J74, 'Graph-outputs'!$Q74) -> 58.067027 | E74: =IF(Settings!$N$5=1, 'Graph-outputs'!$X74, 'Graph-outputs'!$AE74) -> 57918.009 | G74: =IF(AND(ROUND(L74, 1)>=0.1, ROUND(L73, 1)<0.1), 10, "") | H74: =IF(AND(ROUND(L74, 1)>=0.5, ROUND(L73, 1)<0.5), 50, "") | I74: =IF(AND(ROUND(L74, 1)>=0.9, ROUND(L73, 1)<0.9), 90, "") | J74: =INDEX('Calcs-control1'!$G$86:$X$156, 'Graph-outputs'!$B74, 'Graph-outputs'!J$2) -> 58.067027 | K74: 70 | L74: =INDEX('Calcs-control1'!$G$170:$X$240, 'Graph-outputs'!$B74, 'Graph-outputs'!$D$1) -> 0.99707165 | N74: =IF(AND(ROUND(S74, 1)>=0.1, ROUND(S73, 1)<0.1), 10, "") | O74: =IF(AND(ROUND(S74, 1)>=0.5, ROUND(S73, 1)<0.5), 50, "") | P74: =IF(AND(ROUND(S74, 1)>=0.9, ROUND(S73, 1)<0.9), 90, "") | Q74: =INDEX('Calcs-control1'!$AH$86:$AY$156, 'Graph-outputs'!$B74, 'Graph-outputs'!Q$2) -> 56.454755 | R74: 70 | S74: =INDEX('Calcs-control1'!$AH$170:$AY$240, 'Graph-outputs'!$B74, 'Graph-outputs'!$Q$2) -> 0.99665905 | U74: =IF(AND(ROUND(Z74, 1)>=0.1, ROUND(Z73, 1)<0.1), 10, "") | V74: =IF(AND(ROUND(Z74, 1)>=0.5, ROUND(Z73, 1)<0.5), 50, "") | W74: =IF(AND(ROUND(Z74, 1)>=0.9, ROUND(Z73, 1)<0.9), 90, "") | X74: =INDEX('Calcs-control1'!$G$386:$X$456, 'Graph-outputs'!$B74, 'Graph-outputs'!X$2) -> 57918.009 | Y74: 70 | Z74: =INDEX('Calcs-control1'!$G$170:$X$240, 'Graph-outputs'!$B74, 'Graph-outputs'!$J$2) -> 0.99707165 | AB74: =IF(AND(ROUND(AG74, 1)>=0.1, ROUND(AG73, 1)<0.1), 10, "") | AC74: =IF(AND(ROUND(AG74, 1)>=0.5, ROUND(AG73, 1)<0.5), 50, "") | AD74: =IF(AND(ROUND(AG74, 1)>=0.9, ROUND(AG73, 1)<0.9), 90, "") | AE74: =INDEX('Calcs-control1'!$AH$386:$AY$456, 'Graph-outputs'!$B74, 'Graph-outputs'!AE$2) -> 56297.296 | AF74: 70 | AG74: =INDEX('Calcs-control1'!$AH$170:$AY$240, 'Graph-outputs'!$B74, 'Graph-outputs'!$Q$2) -> 0.99665905 | AJ74: 70 | AK74: =IF(Settings!$N$5=1, 'Graph-outputs'!$AR74, 'Graph-outputs'!$AY74) -> 88.274398 | AM74: =IF(Settings!$N$5=1, 'Graph-outputs'!$BF74, 'Graph-outputs'!$BM74) -> 90894.08 | AO74: =IF(AND(ROUND(AT74, 1)>=0.1, ROUND(AT73, 1)<0.1), 10, "") | AP74: =IF(AND(ROUND(AT74, 1)>=0.5, ROUND(AT73, 1)<0.5), 50, "") | AQ74: =IF(AND(ROUND(AT74, 1)>=0.9, ROUND(AT73, 1)<0.9), 90, "") | AR74: =INDEX('Calcs-control2'!$G$86:$X$156, 'Graph-outputs'!$B74, 'Graph-outputs'!AR$2) -> 88.274398 | AS74: 70 | AT74: =INDEX('Calcs-control2'!$G$170:$X$240, 'Graph-outputs'!$B74, 'Graph-outputs'!$AL$1) -> 1 | AV74: =IF(AND(ROUND(BA74, 1)>=0.1, ROUND(BA73, 1)<0.1), 10, "") | AW74: =IF(AND(ROUND(BA74, 1)>=0.5, ROUND(BA73, 1)<0.5), 50, "") | AX74: =IF(AND(ROUND(BA74, 1)>=0.9, ROUND(BA73, 1)<0.9), 90, "") | AY74: =INDEX('Calcs-control2'!$AH$86:$AY$156, 'Graph-outputs'!$B74, 'Graph-outputs'!AY$2) -> 79.352745 | AZ74: 70 | BA74: =INDEX('Calcs-control2'!$AH$170:$AY$240, 'Graph-outputs'!$B74, 'Graph-outputs'!$AL$1) -> 0.99999998 | BC74: =IF(AND(ROUND(BH74, 1)>=0.1, ROUND(BH73, 1)<0.1), 10, "") | BD74: =IF(AND(ROUND(BH74, 1)>=0.5, ROUND(BH73, 1)<0.5), 50, "") | BE74: =IF(AND(ROUND(BH74, 1)>=0.9, ROUND(BH73, 1)<0.9), 90, "") | BF74: =INDEX('Calcs-control2'!$G$386:$X$456, 'Graph-outputs'!$B74, 'Graph-outputs'!BF$2) -> 90894.08 | BG74: 70 | BH74: =INDEX('Calcs-control2'!$G$170:$X$240, 'Graph-outputs'!$B74, 'Graph-outputs'!$AL$1) -> 1 | BJ74: =IF(AND(ROUND(BO74, 1)>=0.1, ROUND(BO73, 1)<0.1), 10, "") | BK74: =IF(AND(ROUND(BO74, 1)>=0.5, ROUND(BO73, 1)<0.5), 50, "") | BL74: =IF(AND(ROUND(BO74, 1)>=0.9, ROUND(BO73, 1)<0.9), 90, "") | BM74: =INDEX('Calcs-control2'!$AH$386:$AY$456, 'Graph-outputs'!$B74, 'Graph-outputs'!BM$2) -> 81707.663 | BN74: 70 | BO74: =INDEX('Calcs-control2'!$AH$170:$AY$240, 'Graph-outputs'!$B74, 'Graph-outputs'!$AL$1) -> 0.99999998 | BR74: 70 | BS74: =IF(Settings!$N$5=1, 'Graph-outputs'!$BZ74, 'Graph-outputs'!$CG74) -> 48.101671 | BU74: =IF(Settings!$N$5=1, 'Graph-outputs'!$CN74, 'Graph-outputs'!$CU74) -> 5050.6755 | BW74: =IF(AND(ROUND(CB74, 1)>=0.1, ROUND(CB73, 1)<0.1), 10, "") | BX74: =IF(AND(ROUND(CB74, 1)>=0.5, ROUND(CB73, 1)<0.5), 50, "") | BY74: =IF(AND(ROUND(CB74, 1)>=0.9, ROUND(CB73, 1)<0.9), 90, "") | BZ74: =INDEX('Calcs-control3'!$G$86:$X$156, 'Graph-outputs'!$B74, 'Graph-outputs'!BZ$2) -> 48.101671 | CA74: 70 | CB74: =INDEX('Calcs-control3'!$G$170:$X$240, 'Graph-outputs'!$B74, 'Graph-outputs'!$BT$1) -> 0 | CD74: =IF(AND(ROUND(CI74, 1)>=0.1, ROUND(CI73, 1)<0.1), 10, "") | CE74: =IF(AND(ROUND(CI74, 1)>=0.5, ROUND(CI73, 1)<0.5), 50, "") | CF74: =IF(AND(ROUND(CI74, 1)>=0.9, ROUND(CI73, 1)<0.9), 90, "") | CG74: =INDEX('Calcs-control3'!$AH$86:$AY$156, 'Graph-outputs'!$B74, 'Graph-outputs'!CG$2) -> 44.020529 | CH74: 70 | CI74: =INDEX('Calcs-control2'!$AH$170:$AY$240, 'Graph-outputs'!$B74, 'Graph-outputs'!$BT$1) -> 0 | CK74: =IF(AND(ROUND(CP74, 1)>=0.1, ROUND(CP73, 1)<0.1), 10, "") | CL74: =IF(AND(ROUND(CP74, 1)>=0.5, ROUND(CP73, 1)<0.5), 50, "") | CM74: =IF(AND(ROUND(CP74, 1)>=0.9, ROUND(CP73, 1)<0.9), 90, "") | CN74: =INDEX('Calcs-control3'!$G$386:$X$456, 'Graph-outputs'!$B74, 'Graph-outputs'!CN$2) -> 5050.6755 | CO74: 70 | CP74: =INDEX('Calcs-control2'!$G$170:$X$240, 'Graph-outputs'!$B74, 'Graph-outputs'!$BT$1) -> 0 | CR74: =IF(AND(ROUND(CW74, 1)>=0.1, ROUND(CW73, 1)<0.1), 10, "") | CS74: =IF(AND(ROUND(CW74, 1)>=0.5, ROUND(CW73, 1)<0.5), 50, "") | CT74: =IF(AND(ROUND(CW74, 1)>=0.9, ROUND(CW73, 1)<0.9), 90, "") | CU74: =INDEX('Calcs-control3'!$AH$386:$AY$456, 'Graph-outputs'!$B74, 'Graph-outputs'!CU$2) -> 4622.1555 | CV74: 70 | CW74: =INDEX('Calcs-control2'!$AH$170:$AY$240, 'Graph-outputs'!$B74, 'Graph-outputs'!$BT$1) -> 0 | CZ74: 70 | DA74: =IF(Settings!$N$5=1, 'Graph-outputs'!$DH74, 'Graph-outputs'!$DO74) -> #REF! | DC74: =IF(Settings!$N$5=1, 'Graph-outputs'!$DV74, 'Graph-outputs'!$EC74) -> #REF! | DE74: =IF(AND(ROUND(DJ74, 1)>=0.1, ROUND(DJ73, 1)<0.1), 10, "") -> #REF! | DF74: =IF(AND(ROUND(DJ74, 1)>=0.5, ROUND(DJ73, 1)<0.5), 50, "") -> #REF! | DG74: =IF(AND(ROUND(DJ74, 1)>=0.9, ROUND(DJ73, 1)<0.9), 90, "") -> #REF! | DH74: =INDEX('Calcs-control4'!$G$86:$X$156, 'Graph-outputs'!$B74, 'Graph-outputs'!DH$2) -> #REF! | DI74: 70 | DJ74: =INDEX('Calcs-control4'!$G$170:$X$240, 'Graph-outputs'!$B74, 'Graph-outputs'!$DB$1) -> #REF! | DL74: =IF(AND(ROUND(DQ74, 1)>=0.1, ROUND(DQ73, 1)<0.1), 10, "") -> #REF! | DM74: =IF(AND(ROUND(DQ74, 1)>=0.5, ROUND(DQ73, 1)<0.5), 50, "") -> #REF! | DN74: =IF(AND(ROUND(DQ74, 1)>=0.9, ROUND(DQ73, 1)<0.9), 90, "") -> #REF! | DO74: =INDEX('Calcs-control4'!$AH$86:$AY$156, 'Graph-outputs'!$B74, 'Graph-outputs'!DO$2) -> #REF! | DP74: 70 | DQ74: =INDEX('Calcs-control4'!$AH$170:$AY$240, 'Graph-outputs'!$B74, 'Graph-outputs'!$DB$1) -> #REF! | DS74: =IF(AND(ROUND(DX74, 1)>=0.1, ROUND(DX73, 1)<0.1), 10, "") -> #REF! | DT74: =IF(AND(ROUND(DX74, 1)>=0.5, ROUND(DX73, 1)<0.5), 50, "") -> #REF! | DU74: =IF(AND(ROUND(DX74, 1)>=0.9, ROUND(DX73, 1)<0.9), 90, "") -> #REF! | DV74: =INDEX('Calcs-control4'!$G$386:$X$456, 'Graph-outputs'!$B74, 'Graph-outputs'!DV$2) -> #REF! | DW74: 70 | DX74: =INDEX('Calcs-control4'!$G$170:$X$240, 'Graph-outputs'!$B74, 'Graph-outputs'!$DB$1) -> #REF! | DZ74: =IF(AND(ROUND(EE74, 1)>=0.1, ROUND(EE73, 1)<0.1), 10, "") -> #REF! | EA74: =IF(AND(ROUND(EE74, 1)>=0.5, ROUND(EE73, 1)<0.5), 50, "") -> #REF! | EB74: =IF(AND(ROUND(EE74, 1)>=0.9, ROUND(EE73, 1)<0.9), 90, "") -> #REF! | EC74: =INDEX('Calcs-control4'!$AH$386:$AY$456, 'Graph-outputs'!$B74, 'Graph-outputs'!EC$2) -> #REF! | ED74: 70 | EE74: =INDEX('Calcs-control4'!$AH$170:$AY$240, 'Graph-outputs'!$B74, 'Graph-outputs'!$DB$1) -> #REF!
G75: Fire type | N75: Fire type | U75: Fire type | AB75: Fire type | AO75: Fire type | AV75: Fire type | BC75: Fire type | BJ75: Fire type | BW75: Fire type | CD75: Fire type | CK75: Fire type | CR75: Fire type | DE75: Fire type | DL75: Fire type | DS75: Fire type | DZ75: Fire type
A76: Fire Type Output1 | B76: ROS | C76: ISI/WS | G76: transition | H76: ROS | I76: ISI/WS | N76: transition | O76: ROS | P76: ISI/WS | U76: transition | V76: ROS | W76: ISI/WS | AB76: transition | AC76: ROS | AD76: ISI/WS | AI76: Fire Type Output2 | AJ76: ROS | AK76: ISI/WS | AO76: transition | AP76: ROS | AQ76: ISI/WS | AV76: transition | AW76: ROS | AX76: ISI/WS | BC76: transition | BD76: HFI | BE76: ISI/WS | BJ76: transition | BK76: HFI | BL76: ISI/WS | BQ76: Fire Type Output3 | BR76: ROS | BS76: ISI/WS | BW76: transition | BX76: ROS | BY76: ISI/WS | CD76: transition | CE76: ROS | CF76: ISI/WS | CK76: transition | CL76: HFI | CM76: ISI/WS | CR76: transition | CS76: HFI | CT76: ISI/WS | CY76: Fire Type Output4 | CZ76: ROS | DA76: ISI/WS | DE76: transition | DF76: ROS | DG76: ISI/WS | DL76: transition | DM76: ROS | DN76: ISI/WS | DS76: transition | DT76: HFI | DU76: ISI/WS | DZ76: transition | EA76: HFI | EB76: ISI/WS
A77: IC | B77: =IF(Settings!$N$5=1, 'Graph-outputs'!H77, 'Graph-outputs'!O77) -> 7.0466762 | C77: =IF(Settings!$N$5=1, 'Graph-outputs'!I77, 'Graph-outputs'!P77) -> 10 | G77: IC | H77: =IF(H81=TRUE, VLOOKUP(10, G$4:J$74, 4), 100) -> 7.0466762 | I77: =IF(H81=TRUE, VLOOKUP(H77, J$4:K$74, 2), 100) -> 10 | N77: IC | O77: =IF(O81=TRUE,VLOOKUP(10, N$4:Q$74, 4), 100) -> 7.1153631 | P77: =IF(O81=TRUE,VLOOKUP(O77, Q$4:R$74, 2),100) -> 14 | U77: IC | V77: =IF(V81=TRUE, VLOOKUP(10, U$4:X$74, 4), 100) -> 3646.116 | W77: =IF(V81=TRUE, VLOOKUP(V77, X$4:Y$74, 2), 100) -> 10 | AB77: IC | AC77: =IF(AC81=TRUE,VLOOKUP(10, AB$4:AE$74, 4), 100) -> 3692.7535 | AD77: =IF(AC81=TRUE,VLOOKUP(AC77, AE$4:AF$74, 2),100) -> 14 | AI77: IC | AJ77: =IF(Settings!$N$5=1, 'Graph-outputs'!AP77, 'Graph-outputs'!AW77) -> 1.4186943 | AK77: =IF(Settings!$N$5=1, 'Graph-outputs'!AQ77, 'Graph-outputs'!AX77) -> 2 | AO77: IC | AP77: =IF(AP81=TRUE, VLOOKUP(10, AO$4:AR$74, 4), 100) -> 1.4186943 | AQ77: =IF(AP81=TRUE, VLOOKUP(AP77, AR$4:AS$74, 2), 100) -> 2 | AV77: IC | AW77: =IF(AW81=TRUE,VLOOKUP(10, AV$4:AY$74, 4), 100) -> #N/A | AX77: =IF(AW81=TRUE,VLOOKUP(AW77, AY$4:AZ$74, 2),100) -> #N/A | BC77: IC | BD77: =IF(BD81=TRUE, VLOOKUP(10, BC$4:BF$74, 4), 100) -> 1146.819 | BE77: =IF(BD81=TRUE, VLOOKUP(BD77, BF$4:BG$74, 2), 100) -> 2 | BJ77: IC | BK77: =IF(BK81=TRUE,VLOOKUP(10, BJ$4:BM$74, 4), 100) -> #N/A | BL77: =IF(BK81=TRUE,VLOOKUP(BK77, BM$4:BN$74, 2),100) -> #N/A | BQ77: IC | BR77: =IF(Settings!$N$5=1, 'Graph-outputs'!BX77, 'Graph-outputs'!CE77) -> 100 | BS77: =IF(Settings!$N$5=1, 'Graph-outputs'!BY77, 'Graph-outputs'!CF77) -> 100 | BW77: IC | BX77: =IF(BX81=TRUE, VLOOKUP(10, BW$4:BZ$74, 4), 100) -> 100 | BY77: =IF(BX81=TRUE, VLOOKUP(BX77, BZ$4:CA$74, 2), 100) -> 100 | CD77: IC | CE77: =IF(CE81=TRUE,VLOOKUP(10, CD$4:CG$74, 4), 100) -> 100 | CF77: =IF(CE81=TRUE,VLOOKUP(CE77, CG$4:CH$74, 2),100) -> 100 | CK77: IC | CL77: =IF(CL81=TRUE, VLOOKUP(10, CK$4:CN$74, 4), 100) -> 100 | CM77: =IF(CL81=TRUE, VLOOKUP(CL77, CN$4:CO$74, 2), 100) -> 100 | CR77: IC | CS77: =IF(CS81=TRUE,VLOOKUP(10, CR$4:CU$74, 4), 100) -> 100 | CT77: =IF(CS81=TRUE,VLOOKUP(CS77, CU$4:CV$74, 2),100) -> 100 | CY77: IC | CZ77: =IF(Settings!$N$5=1, 'Graph-outputs'!DF77, 'Graph-outputs'!DM77) -> 100 | DA77: =IF(Settings!$N$5=1, 'Graph-outputs'!DG77, 'Graph-outputs'!DN77) -> 100 | DE77: IC | DF77: =IF(DF81=TRUE, VLOOKUP(10, DE$4:DH$74, 4), 100) -> 100 | DG77: =IF(DF81=TRUE, VLOOKUP(DF77, DH$4:DI$74, 2), 100) -> 100 | DL77: IC | DM77: =IF(DM81=TRUE,VLOOKUP(10, DL$4:DO$74, 4), 100) -> 100 | DN77: =IF(DM81=TRUE,VLOOKUP(DM77, DO$4:DP$74, 2),100) -> 100 | DS77: IC | DT77: =IF(DT81=TRUE, VLOOKUP(10, DS$4:DV$74, 4), 100) -> 100 | DU77: =IF(DT81=TRUE, VLOOKUP(DT77, DV$4:DW$74, 2), 100) -> 100 | DZ77: IC | EA77: =IF(EA81=TRUE,VLOOKUP(10, DZ$4:EC$74, 4), 100) -> 100 | EB77: =IF(EA81=TRUE,VLOOKUP(EA77, EC$4:ED$74, 2),100) -> 100
A78: CFB50 | B78: =IF(Settings!$N$5=1, 'Graph-outputs'!H78, 'Graph-outputs'!O78) -> 19.695881 | C78: =IF(Settings!$N$5=1, 'Graph-outputs'!I78, 'Graph-outputs'!P78) -> 13 | G78: CFB50 | H78: =IF(H81=TRUE, VLOOKUP(50, H$4:J$74, 3), 100) -> 19.695881 | I78: =IF(H81=TRUE, VLOOKUP(H78, J$4:K$74, 2),100) -> 13 | N78: CFB50 | O78: =IF(O81=TRUE,VLOOKUP(50, O$4:Q$74, 3),100) -> 16.915885 | P78: =IF(O81=TRUE,VLOOKUP(O78, Q$4:R$74, 2),100) -> 18 | U78: CFB50 | V78: =IF(V81=TRUE, VLOOKUP(50, V$4:X$74, 3), 100) -> 15053.026 | W78: =IF(V81=TRUE, VLOOKUP(V78, X$4:Y$74, 2),100) -> 13 | AB78: CFB50 | AC78: =IF(AC81=TRUE,VLOOKUP(50, AC$4:AE$74, 3),100) -> 12125.228 | AD78: =IF(AC81=TRUE,VLOOKUP(AC78, AE$4:AF$74, 2),100) -> 18 | AI78: CFB50 | AJ78: =IF(Settings!$N$5=1, 'Graph-outputs'!AP78, 'Graph-outputs'!AW78) -> 3.8487717 | AK78: =IF(Settings!$N$5=1, 'Graph-outputs'!AQ78, 'Graph-outputs'!AX78) -> 4 | AO78: CFB50 | AP78: =IF(AP81=TRUE, VLOOKUP(50, AP$4:AR$74, 3), 100) -> 3.8487717 | AQ78: =IF(AP81=TRUE, VLOOKUP(AP78, AR$4:AS$74, 2),100) -> 4 | AV78: CFB50 | AW78: =IF(AW81=TRUE,VLOOKUP(50, AW$4:AY$74, 3),100) -> #N/A | AX78: =IF(AW81=TRUE,VLOOKUP(AW78, AY$4:AZ$74, 2),100) -> #N/A | BC78: CFB50 | BD78: =IF(BD81=TRUE, VLOOKUP(50, BD$4:BF$74, 3), 100) -> 3475.9142 | BE78: =IF(BD81=TRUE, VLOOKUP(BD78, BF$4:BG$74, 2),100) -> 4 | BJ78: CFB50 | BK78: =IF(BK81=TRUE,VLOOKUP(50, BK$4:BM$74, 3),100) -> #N/A | BL78: =IF(BK81=TRUE,VLOOKUP(BK78, BM$4:BN$74, 2),100) -> #N/A | BQ78: CFB50 | BR78: =IF(Settings!$N$5=1, 'Graph-outputs'!BX78, 'Graph-outputs'!CE78) -> 100 | BS78: =IF(Settings!$N$5=1, 'Graph-outputs'!BY78, 'Graph-outputs'!CF78) -> 100 | BW78: CFB50 | BX78: =IF(BX81=TRUE, VLOOKUP(50, BX$4:BZ$74, 3), 100) -> 100 | BY78: =IF(BX81=TRUE, VLOOKUP(BX78, BZ$4:CA$74, 2),100) -> 100 | CD78: CFB50 | CE78: =IF(CE81=TRUE,VLOOKUP(50, CE$4:CG$74, 3),100) -> 100 | CF78: =IF(CE81=TRUE,VLOOKUP(CE78, CG$4:CH$74, 2),100) -> 100 | CK78: CFB50 | CL78: =IF(CL81=TRUE, VLOOKUP(50, CL$4:CN$74, 3), 100) -> 100 | CM78: =IF(CL81=TRUE, VLOOKUP(CL78, CN$4:CO$74, 2),100) -> 100 | CR78: CFB50 | CS78: =IF(CS81=TRUE,VLOOKUP(50, CS$4:CU$74, 3),100) -> 100 | CT78: =IF(CS81=TRUE,VLOOKUP(CS78, CU$4:CV$74, 2),100) -> 100 | CY78: CFB50 | CZ78: =IF(Settings!$N$5=1, 'Graph-outputs'!DF78, 'Graph-outputs'!DM78) -> 100 | DA78: =IF(Settings!$N$5=1, 'Graph-outputs'!DG78, 'Graph-outputs'!DN78) -> 100 | DE78: CFB50 | DF78: =IF(DF81=TRUE, VLOOKUP(50, DF$4:DH$74, 3), 100) -> 100 | DG78: =IF(DF81=TRUE, VLOOKUP(DF78, DH$4:DI$74, 2),100) -> 100 | DL78: CFB50 | DM78: =IF(DM81=TRUE,VLOOKUP(50, DM$4:DO$74, 3),100) -> 100 | DN78: =IF(DM81=TRUE,VLOOKUP(DM78, DO$4:DP$74, 2),100) -> 100 | DS78: CFB50 | DT78: =IF(DT81=TRUE, VLOOKUP(50, DT$4:DV$74, 3), 100) -> 100 | DU78: =IF(DT81=TRUE, VLOOKUP(DT78, DV$4:DW$74, 2),100) -> 100 | DZ78: CFB50 | EA78: =IF(EA81=TRUE,VLOOKUP(50, EA$4:EC$74, 3),100) -> 100 | EB78: =IF(EA81=TRUE,VLOOKUP(EA78, EC$4:ED$74, 2),100) -> 100
A79: CC | B79: =IF(Settings!$N$5=1, 'Graph-outputs'!H79, 'Graph-outputs'!O79) -> 32.620413 | C79: =IF(Settings!$N$5=1, 'Graph-outputs'!I79, 'Graph-outputs'!P79) -> 18 | G79: CC | H79: =IF(H81=TRUE, VLOOKUP(90, I$5:J$74, 2), 100) -> 32.620413 | I79: =IF(H81=TRUE, VLOOKUP(H79, J$4:K$74, 2), 100) -> 18 | N79: CC | O79: =IF(O81=TRUE,VLOOKUP(90, P$5:Q$74, 2),100) -> 31.534452 | P79: =IF(O81=TRUE,VLOOKUP(O79, Q$4:R$74, 2),100) -> 25 | U79: CC | V79: =IF(V81=TRUE, VLOOKUP(90, W$5:X$74, 2), 100) -> 30307.09 | W79: =IF(V81=TRUE, VLOOKUP(V79, X$4:Y$74, 2), 100) -> 18 | AB79: CC | AC79: =IF(AC81=TRUE,VLOOKUP(90, AD$5:AE$74, 2),100) -> 28987.023 | AD79: =IF(AC81=TRUE,VLOOKUP(AC79, AE$4:AF$74, 2),100) -> 25 | AI79: CC | AJ79: =IF(Settings!$N$5=1, 'Graph-outputs'!AP79, 'Graph-outputs'!AW79) -> 10.026778 | AK79: =IF(Settings!$N$5=1, 'Graph-outputs'!AQ79, 'Graph-outputs'!AX79) -> 8 | AO79: CC | AP79: =IF(AP81=TRUE, VLOOKUP(90, AQ$5:AR$74, 2), 100) -> 10.026778 | AQ79: =IF(AP81=TRUE, VLOOKUP(AP79, AR$4:AS$74, 2), 100) -> 8 | AV79: CC | AW79: =IF(AW81=TRUE,VLOOKUP(90, AX$5:AY$74, 2),100) -> 9.6657309 | AX79: =IF(AW81=TRUE,VLOOKUP(AW79, AY$4:AZ$74, 2),100) -> 9 | BC79: CC | BD79: =IF(BD81=TRUE, VLOOKUP(90, BE$5:BF$74, 2), 100) -> 10017.91 | BE79: =IF(BD81=TRUE, VLOOKUP(BD79, BF$4:BG$74, 2), 100) -> 8 | BJ79: CC | BK79: =IF(BK81=TRUE,VLOOKUP(90, BL$5:BM$74, 2),100) -> 9631.6053 | BL79: =IF(BK81=TRUE,VLOOKUP(BK79, BM$4:BN$74, 2),100) -> 9 | BQ79: CC | BR79: =IF(Settings!$N$5=1, 'Graph-outputs'!BX79, 'Graph-outputs'!CE79) -> 100 | BS79: =IF(Settings!$N$5=1, 'Graph-outputs'!BY79, 'Graph-outputs'!CF79) -> 100 | BW79: CC | BX79: =IF(BX81=TRUE, VLOOKUP(90, BY$5:BZ$74, 2), 100) -> 100 | BY79: =IF(BX81=TRUE, VLOOKUP(BX79, BZ$4:CA$74, 2), 100) -> 100 | CD79: CC | CE79: =IF(CE81=TRUE,VLOOKUP(90, CF$5:CG$74, 2),100) -> 100 | CF79: =IF(CE81=TRUE,VLOOKUP(CE79, CG$4:CH$74, 2),100) -> 100 | CK79: CC | CL79: =IF(CL81=TRUE, VLOOKUP(90, CM$5:CN$74, 2), 100) -> 100 | CM79: =IF(CL81=TRUE, VLOOKUP(CL79, CN$4:CO$74, 2), 100) -> 100 | CR79: CC | CS79: =IF(CS81=TRUE,VLOOKUP(90, CT$5:CU$74, 2),100) -> 100 | CT79: =IF(CS81=TRUE,VLOOKUP(CS79, CU$4:CV$74, 2),100) -> 100 | CY79: CC | CZ79: =IF(Settings!$N$5=1, 'Graph-outputs'!DF79, 'Graph-outputs'!DM79) -> 100 | DA79: =IF(Settings!$N$5=1, 'Graph-outputs'!DG79, 'Graph-outputs'!DN79) -> 100 | DE79: CC | DF79: =IF(DF81=TRUE, VLOOKUP(90, DG$5:DH$74, 2), 100) -> 100 | DG79: =IF(DF81=TRUE, VLOOKUP(DF79, DH$4:DI$74, 2), 100) -> 100 | DL79: CC | DM79: =IF(DM81=TRUE,VLOOKUP(90, DN$5:DO$74, 2),100) -> 100 | DN79: =IF(DM81=TRUE,VLOOKUP(DM79, DO$4:DP$74, 2),100) -> 100 | DS79: CC | DT79: =IF(DT81=TRUE, VLOOKUP(90, DU$5:DV$74, 2), 100) -> 100 | DU79: =IF(DT81=TRUE, VLOOKUP(DT79, DV$4:DW$74, 2), 100) -> 100 | DZ79: CC | EA79: =IF(EA81=TRUE,VLOOKUP(90, EB$5:EC$74, 2),100) -> 100 | EB79: =IF(EA81=TRUE,VLOOKUP(EA79, EC$4:ED$74, 2),100) -> 100
A81: Fire Type Output1 | B81: HFI | C81: ISI/WS | G81: Fire type: | H81: TRUE | N81: Fire type: | O81: =H81 -> TRUE | U81: Fire type: | V81: =H81 -> TRUE | AB81: Fire type: | AC81: =H81 -> TRUE | AI81: Fire Type Output2 | AJ81: HFI | AK81: ISI/WS | AO81: Fire type: | AP81: TRUE | AV81: Fire type: | AW81: =AP81 -> TRUE | BC81: Fire type: | BD81: =AP81 -> TRUE | BJ81: Fire type: | BK81: =AP81 -> TRUE | BQ81: Fire Type Output3 | BR81: HFI | BS81: ISI/WS | BW81: Fire type: | BX81: FALSE | CD81: Fire type: | CE81: =BX81 -> FALSE | CK81: Fire type: | CL81: =BX81 -> FALSE | CR81: Fire type: | CS81: =BX81 -> FALSE | CY81: Fire Type Output4 | CZ81: HFI | DA81: ISI/WS | DE81: Fire type: | DF81: FALSE | DL81: Fire type: | DM81: =DF81 -> FALSE | DS81: Fire type: | DT81: =DF81 -> FALSE | DZ81: Fire type: | EA81: =DF81 -> FALSE
A82: IC | B82: =IF(Settings!$N$5=1, 'Graph-outputs'!V77, 'Graph-outputs'!AC77) -> 3646.116 | C82: =IF(Settings!$N$5=1, 'Graph-outputs'!W77, 'Graph-outputs'!AD77) -> 10 | AI82: IC | AJ82: =IF(Settings!$N$5=1, 'Graph-outputs'!BD77, 'Graph-outputs'!BK77) -> 1146.819 | AK82: =IF(Settings!$N$5=1, 'Graph-outputs'!BE77, 'Graph-outputs'!BL77) -> 2 | BQ82: IC | BR82: =IF(Settings!$N$5=1, 'Graph-outputs'!CL77, 'Graph-outputs'!CS77) -> 100 | BS82: =IF(Settings!$N$5=1, 'Graph-outputs'!CM77, 'Graph-outputs'!CT77) -> 100 | CY82: IC | CZ82: =IF(Settings!$N$5=1, 'Graph-outputs'!DT77, 'Graph-outputs'!EA77) -> 100 | DA82: =IF(Settings!$N$5=1, 'Graph-outputs'!DU77, 'Graph-outputs'!EB77) -> 100
A83: CFB50 | B83: =IF(Settings!$N$5=1, 'Graph-outputs'!V78, 'Graph-outputs'!AC78) -> 15053.026 | C83: =IF(Settings!$N$5=1, 'Graph-outputs'!W78, 'Graph-outputs'!AD78) -> 13 | AI83: CFB50 | AJ83: =IF(Settings!$N$5=1, 'Graph-outputs'!BD78, 'Graph-outputs'!BK78) -> 3475.9142 | AK83: =IF(Settings!$N$5=1, 'Graph-outputs'!BE78, 'Graph-outputs'!BL78) -> 4 | BQ83: CFB50 | BR83: =IF(Settings!$N$5=1, 'Graph-outputs'!CL78, 'Graph-outputs'!CS78) -> 100 | BS83: =IF(Settings!$N$5=1, 'Graph-outputs'!CM78, 'Graph-outputs'!CT78) -> 100 | CY83: CFB50 | CZ83: =IF(Settings!$N$5=1, 'Graph-outputs'!DT78, 'Graph-outputs'!EA78) -> 100 | DA83: =IF(Settings!$N$5=1, 'Graph-outputs'!DU78, 'Graph-outputs'!EB78) -> 100
A84: CC | B84: =IF(Settings!$N$5=1, 'Graph-outputs'!V79, 'Graph-outputs'!AC79) -> 30307.09 | C84: =IF(Settings!$N$5=1, 'Graph-outputs'!W79, 'Graph-outputs'!AD79) -> 18 | AI84: CC | AJ84: =IF(Settings!$N$5=1, 'Graph-outputs'!BD79, 'Graph-outputs'!BK79) -> 10017.91 | AK84: =IF(Settings!$N$5=1, 'Graph-outputs'!BE79, 'Graph-outputs'!BL79) -> 8 | BQ84: CC | BR84: =IF(Settings!$N$5=1, 'Graph-outputs'!CL79, 'Graph-outputs'!CS79) -> 100 | BS84: =IF(Settings!$N$5=1, 'Graph-outputs'!CM79, 'Graph-outputs'!CT79) -> 100 | CY84: CC | CZ84: =IF(Settings!$N$5=1, 'Graph-outputs'!DT79, 'Graph-outputs'!EA79) -> 100 | DA84: =IF(Settings!$N$5=1, 'Graph-outputs'!DU79, 'Graph-outputs'!EB79) -> 100

Sheet Settings
A1: Graph Settings
A2: #Comments | H2: # Settings from ROS and Intensity graph control boxes; FFMC only active when 'Wind Speed' selected
A3: ISI or | B3: Range - | C3: Range - | E3: Range - | F3: Range- | G3: Range-
A4: Windspeed | B4: FMC | C4: BUI | D4: FFMC | E4: FFMC-display | F4: GFL | G4: C6 CBH | H4: FMC | I4: BUI | J4: FFMC | K4: GFL | L4: C6 CBH | N4: ISI/WS
A5: ISI (Initial Spread Index) | B5: 80 | C5: 0 | D5: 80 | E5: =IF($N$5=2, CONCATENATE("FFMC: ", D5), "") | F5: 0.5 | G5: 0.5 | H5: 18 | I5: 14 | J5: 17 | K5: 13 | L5: 11 | N5: 1 | P5: C-1
A6: Wind Speed (km/h) | B6: 81 | C6: 5 | D6: 81 | E6: =IF($N$5=2, CONCATENATE("FFMC: ", D6), "") | F6: 0.75 | G6: 1 | H6: =79+H5 -> 97 | I6: =INDEX(C5:C46, I5) -> 65 | J6: =IF($N$5=2, INDEX(Settings!$D$5:$D$44, J5), 91) -> 91 | K6: =INDEX(Settings!$F$5:$F$43, K5) -> 3.5 | L6: =L5*0.5 -> 5.5 | P6: C-2
B7: 82 | C7: 10 | D7: 82 | E7: =IF($N$5=2, CONCATENATE("FFMC: ", D7), "") | F7: 1 | G7: 1.5 | P7: C-3
B8: 83 | C8: 15 | D8: 83 | E8: =IF($N$5=2, CONCATENATE("FFMC: ", D8), "") | F8: 1.25 | G8: 2 | P8: C-4
B9: 84 | C9: 20 | D9: 84 | E9: =IF($N$5=2, CONCATENATE("FFMC: ", D9), "") | F9: 1.5 | G9: 2.5 | P9: C-5
B10: 85 | C10: 25 | D10: 85 | E10: =IF($N$5=2, CONCATENATE("FFMC: ", D10), "") | F10: 1.75 | G10: 3 | P10: C-6
B11: 86 | C11: 30 | D11: 86 | E11: =IF($N$5=2, CONCATENATE("FFMC: ", D11), "") | F11: 2 | G11: 3.5 | P11: C-7
B12: 87 | C12: 35 | D12: 87 | E12: =IF($N$5=2, CONCATENATE("FFMC: ", D12), "") | F12: 2.25 | G12: 4 | P12: D-1
B13: 88 | C13: 40 | D13: 88 | E13: =IF($N$5=2, CONCATENATE("FFMC: ", D13), "") | F13: 2.5 | G13: 4.5 | P13: D-2
B14: 89 | C14: 45 | D14: 88.5 | E14: =IF($N$5=2, CONCATENATE("FFMC: ", D14), "") | F14: 2.75 | G14: 5 | P14: S-1
B15: 90 | C15: 50 | D15: 89 | E15: =IF($N$5=2, CONCATENATE("FFMC: ", D15), "") | F15: 3 | G15: 5.5 | P15: S-2
B16: 91 | C16: 55 | D16: 89.5 | E16: =IF($N$5=2, CONCATENATE("FFMC: ", D16), "") | F16: 3.25 | G16: 6 | P16: S-3
B17: 92 | C17: 60 | D17: 90 | E17: =IF($N$5=2, CONCATENATE("FFMC: ", D17), "") | F17: 3.5 | G17: 6.5 | P17: O-1a
B18: 93 | C18: 65 | D18: 90.5 | E18: =IF($N$5=2, CONCATENATE("FFMC: ", D18), "") | F18: 3.75 | G18: 7 | P18: O-1b
... B23: 98 | C23: 90 | D23: 93 | E23: =IF($N$5=2, CONCATENATE("FFMC: ", D23), "") | F23: 5 | G23: 9.5 | P23: None
B24: 99 | C24: 95 | D24: 93.5 | E24: =IF($N$5=2, CONCATENATE("FFMC: ", D24), "") | F24: 5.25 | G24: 10
B25: 100 | C25: 100 | D25: 94 | E25: =IF($N$5=2, CONCATENATE("FFMC: ", D25), "") | F25: 5.5 | G25: 10.5
B26: 101 | C26: 105 | D26: 94.5 | E26: =IF($N$5=2, CONCATENATE("FFMC: ", D26), "") | F26: 5.75 | G26: 11
B27: 102 | C27: 110 | D27: 95 | E27: =IF($N$5=2, CONCATENATE("FFMC: ", D27), "") | F27: 6 | G27: 11.5
B28: 103 | C28: 115 | D28: 95.5 | E28: =IF($N$5=2, CONCATENATE("FFMC: ", D28), "") | F28: 6.25 | G28: 12
B29: 104 | C29: 120 | D29: 96 | E29: =IF($N$5=2, CONCATENATE("FFMC: ", D29), "") | F29: 6.5 | G29: 12.5
B30: 105 | C30: 125 | D30: 96.5 | E30: =IF($N$5=2, CONCATENATE("FFMC: ", D30), "") | F30: 6.75 | G30: 13
B31: 106 | C31: 130 | D31: 97 | E31: =IF($N$5=2, CONCATENATE("FFMC: ", D31), "") | F31: 7 | G31: 13.5
B32: 107 | C32: 135 | D32: 97.5 | E32: =IF($N$5=2, CONCATENATE("FFMC: ", D32), "") | F32: 7.25 | G32: 14
B33: 108 | C33: 140 | D33: 98 | E33: =IF($N$5=2, CONCATENATE("FFMC: ", D33), "") | F33: 7.5 | G33: 14.5
B34: 109 | C34: 145 | D34: 98.5 | E34: =IF($N$5=2, CONCATENATE("FFMC: ", D34), "") | F34: 7.75 | G34: 15
B35: 110 | C35: 150 | D35: 99 | E35: =IF($N$5=2, CONCATENATE("FFMC: ", D35), "") | F35: 8 | G35: 15.5
B36: 111 | C36: 155 | F36: 8.25 | G36: 16
B37: 112 | C37: 160 | F37: 8.5 | G37: 16.5
B38: 113 | C38: 165 | F38: 8.75 | G38: 17
B39: 114 | C39: 170 | F39: 9 | G39: 17.5
B40: 115 | C40: 175 | F40: 9.25 | G40: 18
B41: 116 | C41: 180 | F41: 9.5 | G41: 18.5
B42: 117 | C42: 185 | F42: 9.75 | G42: 19
B43: 118 | C43: 190 | F43: 10 | G43: 19.5
B44: 119 | C44: 195 | G44: 20
B45: 120 | C45: 200
B46: 121 | C46: Std/No ROS effect
B47: 122
B48: 123
B49: 124
B50: 125
B51: 126
B52: 127
B53: 128
B54: 129
B55: 130

Sheet Calcs-control1
A1: Control1 | C1: # Comments; see also column BD
B2: Range - | C2: # %Modifier from Graph control box | F2: #FTs used for FT drop-down in Graph control boxes
A3: Index | B3: % C, %c or %DF | C3: % Modifier: | D3: #Modifier calculated (0-100 step 5) if Fuel Type is O- or M-type; FT from Graph control box | F3: Fuel Type | G3: C-1 | H3: C-2 | I3: C-3 | J3: C-4 | K3: C-5 | L3: C-6 | M3: C-7 | N3: D-1 | O3: D-2 | P3: S-1 | Q3: S-2 | R3: S-3 | S3: O-1a | T3: O-1b | U3: M1 | V3: M2 | W3: M3 | X3: M4 | Y3: None | Z3: C-6 (surf) | AA3: C-6 (crwn) | AG3: Fuel Type | AH3: C-1 | AI3: C-2 | AJ3: C-3 | AK3: C-4 | AL3: C-5 | AM3: C-6 | AN3: C-7 | AO3: D-1 | AP3: D-2 | AQ3: S-1 | AR3: S-2 | AS3: S-3 | AT3: O-1a | AU3: O-1b | AV3: M1 | AW3: M2 | AX3: M3 | AY3: M4 | AZ3: None | BA3: C-6 (surf) | BB3: C-6 (crwn)
A4: 1 | B4: =IF(AND('Graph-outputs'!$D$1>12, 'Graph-outputs'!$D$1<19), A4*5-5, "") | C4: 19 | D4: #Base ROS parameters, STX-3, Table 6 | F4: a | G4: 90 | H4: 110 | I4: 110 | J4: 110 | K4: 30 | M4: 45 | N4: 30 | O4: 30 | P4: 75 | Q4: 40 | R4: 55 | S4: 190 | T4: 250 | W4: 120 | X4: 100 | Z4: 30 | AA4: 60 | AG4: a | AH4: 90 | AI4: 110 | AJ4: 110 | AK4: 110 | AL4: 30 | AN4: 45 | AO4: 30 | AP4: 30 | AQ4: 75 | AR4: 40 | AS4: 55 | AT4: 190 | AU4: 250 | AX4: 120 | AY4: 100 | BA4: 30 | BB4: 60
A5: 2 | B5: =IF(AND('Graph-outputs'!$D$1>12, 'Graph-outputs'!$D$1<19), A5*5-5, "") | C5: =C4*5-5 -> 90 | F5: b | G5: 0.0649 | H5: 0.0282 | I5: 0.0444 | J5: 0.0293 | K5: 0.0697 | M5: 0.0305 | N5: 0.0232 | O5: 0.0232 | P5: 0.0297 | Q5: 0.0438 | R5: 0.0829 | S5: 0.031 | T5: 0.035 | W5: 0.0572 | X5: 0.0404 | Z5: 0.08 | AA5: 0.0497 | AG5: b | AH5: 0.0649 | AI5: 0.0282 | AJ5: 0.0444 | AK5: 0.0293 | AL5: 0.0697 | AN5: 0.0305 | AO5: 0.0232 | AP5: 0.0232 | AQ5: 0.0297 | AR5: 0.0438 | AS5: 0.0829 | AT5: 0.031 | AU5: 0.035 | AX5: 0.0572 | AY5: 0.0404 | BA5: 0.08 | BB5: 0.0497
A6: 3 | B6: =IF(AND('Graph-outputs'!$D$1>12, 'Graph-outputs'!$D$1<19), A6*5-5, "") | F6: c | G6: 4.5 | H6: 1.5 | I6: 3 | J6: 1.5 | K6: 4 | M6: 2 | N6: 1.6 | O6: 1.6 | P6: 1.3 | Q6: 1.7 | R6: 3.2 | S6: 1.4 | T6: 1.7 | W6: 1.4 | X6: 1.48 | Z6: 3 | AA6: 1 | AG6: c | AH6: 4.5 | AI6: 1.5 | AJ6: 3 | AK6: 1.5 | AL6: 4 | AN6: 2 | AO6: 1.6 | AP6: 1.6 | AQ6: 1.3 | AR6: 1.7 | AS6: 3.2 | AT6: 1.4 | AU6: 1.7 | AX6: 1.4 | AY6: 1.48 | BA6: 3 | BB6: 1
A7: 4 | B7: =IF(AND('Graph-outputs'!$D$1>12, 'Graph-outputs'!$D$1<19), A7*5-5, "") | F7: %C, %c or %DF | S7: =$C$5 -> 90 | T7: =$C$5 -> 90 | U7: =$C$5 -> 90 | V7: =$C$5 -> 90 | W7: =$C$5 -> 90 | X7: =$C$5 -> 90 | AG7: %C, %c or %DF | AT7: =$C$5 -> 90 | AU7: =$C$5 -> 90 | AV7: =$C$5 -> 90 | AW7: =$C$5 -> 90 | AX7: =$C$5 -> 90 | AY7: =$C$5 -> 90
A8: 5 | B8: =IF(AND('Graph-outputs'!$D$1>12, 'Graph-outputs'!$D$1<19), A8*5-5, "") | F8: Curing factor | S8: =IF(S7<58.8, 0.005*(EXP(0.061*S7)-1), 0.176+0.02*(S7-58.8)) -> 0.8 | T8: =IF(T7<58.8, 0.005*(EXP(0.061*T7)-1), 0.176+0.02*(T7-58.8)) -> 0.8 | AG8: Curing factor | AT8: =IF(AT7<58.8, 0.005*(EXP(0.061*AT7)-1), 0.176+0.02*(AT7-58.8)) -> 0.8 | AU8: =IF(AU7<58.8, 0.005*(EXP(0.061*AU7)-1), 0.176+0.02*(AU7-58.8)) -> 0.8
A9: 6 | B9: =IF(AND('Graph-outputs'!$D$1>12, 'Graph-outputs'!$D$1<19), A9*5-5, "") | F9: q | G9: 0.9 | H9: 0.7 | I9: 0.75 | J9: 0.8 | K9: 0.8 | M9: 0.85 | N9: 0.9 | O9: 0.9 | P9: 0.75 | Q9: 0.75 | R9: 0.75 | U9: 0.8 | V9: 0.8 | W9: 0.8 | X9: 0.8 | Z9: 0.8 | AG9: q | AH9: 0.9 | AI9: 0.7 | AJ9: 0.75 | AK9: 0.8 | AL9: 0.8 | AN9: 0.85 | AO9: 0.9 | AP9: 0.9 | AQ9: 0.75 | AR9: 0.75 | AS9: 0.75 | AV9: 0.8 | AW9: 0.8 | AX9: 0.8 | AY9: 0.8 | BA9: 0.8
A10: 7 | B10: =IF(AND('Graph-outputs'!$D$1>12, 'Graph-outputs'!$D$1<19), A10*5-5, "") | F10: BUIo | G10: 72 | H10: 64 | I10: 62 | J10: 66 | K10: 56 | L10: 62 | M10: 106 | N10: 32 | O10: 32 | P10: 38 | Q10: 63 | R10: 31 | U10: 50 | V10: 50 | W10: 50 | X10: 50 | Z10: 62 | AG10: BUIo | AH10: 72 | AI10: 64 | AJ10: 62 | AK10: 66 | AL10: 56 | AM10: 62 | AN10: 106 | AO10: 32 | AP10: 32 | AQ10: 38 | AR10: 63 | AS10: 31 | AV10: 50 | AW10: 50 | AX10: 50 | AY10: 50 | BA10: 62
A11: 8 | B11: =IF(AND('Graph-outputs'!$D$1>12, 'Graph-outputs'!$D$1<19), A11*5-5, "") | F11: Actual BUI | G11: =IF(Settings!$I$6=Settings!$C$46, G10, Settings!$I$6) -> 65 | H11: =IF(Settings!$I$6=Settings!$C$46, H10, Settings!$I$6) -> 65 | I11: =IF(Settings!$I$6=Settings!$C$46, I10, Settings!$I$6) -> 65 | J11: =IF(Settings!$I$6=Settings!$C$46, J10, Settings!$I$6) -> 65 | K11: =IF(Settings!$I$6=Settings!$C$46, K10, Settings!$I$6) -> 65 | L11: =IF(Settings!$I$6=Settings!$C$46, L10, Settings!$I$6) -> 65 | M11: =IF(Settings!$I$6=Settings!$C$46, M10, Settings!$I$6) -> 65 | N11: =IF(Settings!$I$6=Settings!$C$46, N10, Settings!$I$6) -> 65 | ... R11: =IF(Settings!$I$6=Settings!$C$46, R10, Settings!$I$6) -> 65 | U11: =IF(Settings!$I$6=Settings!$C$46, U10, Settings!$I$6) -> 65 | V11: =IF(Settings!$I$6=Settings!$C$46, V10, Settings!$I$6) -> 65 | W11: =IF(Settings!$I$6=Settings!$C$46, W10, Settings!$I$6) -> 65 | X11: =IF(Settings!$I$6=Settings!$C$46, X10, Settings!$I$6) -> 65 | Z11: =IF(Settings!$I$6=Settings!$C$46, Z10, Settings!$I$6) -> 65 | AG11: Actual BUI | AH11: =IF(Settings!$I$6=Settings!$C$46, AH10, Settings!$I$6) -> 65 | AI11: =IF(Settings!$I$6=Settings!$C$46, AI10, Settings!$I$6) -> 65 | AJ11: =IF(Settings!$I$6=Settings!$C$46, AJ10, Settings!$I$6) -> 65 | AK11: =IF(Settings!$I$6=Settings!$C$46, AK10, Settings!$I$6) -> 65 | AL11: =IF(Settings!$I$6=Settings!$C$46, AL10, Settings!$I$6) -> 65 | AM11: =IF(Settings!$I$6=Settings!$C$46, AM10, Settings!$I$6) -> 65 | AN11: =IF(Settings!$I$6=Settings!$C$46, AN10, Settings!$I$6) -> 65 | AO11: =IF(Settings!$I$6=Settings!$C$46, AO10, Settings!$I$6) -> 65 | ... AS11: =IF(Settings!$I$6=Settings!$C$46, AS10, Settings!$I$6) -> 65 | AV11: =IF(Settings!$I$6=Settings!$C$46, AV10, Settings!$I$6) -> 65 | AW11: =IF(Settings!$I$6=Settings!$C$46, AW10, Settings!$I$6) -> 65 | AX11: =IF(Settings!$I$6=Settings!$C$46, AX10, Settings!$I$6) -> 65 | AY11: =IF(Settings!$I$6=Settings!$C$46, AY10, Settings!$I$6) -> 65 | BA11: =IF(Settings!$I$6=Settings!$C$46, BA10, Settings!$I$6) -> 65
A12: 9 | B12: =IF(AND('Graph-outputs'!$D$1>12, 'Graph-outputs'!$D$1<19), A12*5-5, "") | F12: BE | G12: =EXP(50*LN(G$9)*(1/G$11-1/G$10)) -> 0.99215144 | H12: =EXP(50*LN(H$9)*(1/H$11-1/H$10)) -> 1.0042962 | I12: =EXP(50*LN(I$9)*(1/I$11-1/I$10)) -> 1.0107653 | J12: =EXP(50*LN(J$9)*(1/J$11-1/J$10)) -> 0.99740264 | K12: =EXP(50*LN(K$9)*(1/K$11-1/K$10)) -> 1.0279705 | M12: =EXP(50*LN(M$9)*(1/M$11-1/M$10)) -> 0.95279578 | N12: =EXP(50*LN(N$9)*(1/N$11-1/N$10)) -> 1.0871714 | O12: =EXP(50*LN(O$9)*(1/O$11-1/O$10)) -> 1.0871714 | P12: =EXP(50*LN(P$9)*(1/P$11-1/P$10)) -> 1.1702708 | Q12: =EXP(50*LN(Q$9)*(1/Q$11-1/Q$10)) -> 1.0070499 | R12: =EXP(50*LN(R$9)*(1/R$11-1/R$10)) -> 1.2746982 | U12: =EXP(50*LN(U$9)*(1/U$11-1/U$10)) -> 1.0528436 | V12: =EXP(50*LN(V$9)*(1/V$11-1/V$10)) -> 1.0528436 | W12: =EXP(50*LN(W$9)*(1/W$11-1/W$10)) -> 1.0528436 | X12: =EXP(50*LN(X$9)*(1/X$11-1/X$10)) -> 1.0528436 | Z12: =EXP(50*LN(Z$9)*(1/Z$11-1/Z$10)) -> 1.0083402 | AG12: BE | AH12: =EXP(50*LN(AH$9)*(1/AH$11-1/AH$10)) -> 0.99215144 | AI12: =EXP(50*LN(AI$9)*(1/AI$11-1/AI$10)) -> 1.0042962 | AJ12: =EXP(50*LN(AJ$9)*(1/AJ$11-1/AJ$10)) -> 1.0107653 | AK12: =EXP(50*LN(AK$9)*(1/AK$11-1/AK$10)) -> 0.99740264 | AL12: =EXP(50*LN(AL$9)*(1/AL$11-1/AL$10)) -> 1.0279705 | AN12: =EXP(50*LN(AN$9)*(1/AN$11-1/AN$10)) -> 0.95279578 | AO12: =EXP(50*LN(AO$9)*(1/AO$11-1/AO$10)) -> 1.0871714 | AP12: =EXP(50*LN(AP$9)*(1/AP$11-1/AP$10)) -> 1.0871714 | AQ12: =EXP(50*LN(AQ$9)*(1/AQ$11-1/AQ$10)) -> 1.1702708 | AR12: =EXP(50*LN(AR$9)*(1/AR$11-1/AR$10)) -> 1.0070499 | AS12: =EXP(50*LN(AS$9)*(1/AS$11-1/AS$10)) -> 1.2746982 | AV12: =EXP(50*LN(AV$9)*(1/AV$11-1/AV$10)) -> 1.0528436 | AW12: =EXP(50*LN(AW$9)*(1/AW$11-1/AW$10)) -> 1.0528436 | AX12: =EXP(50*LN(AX$9)*(1/AX$11-1/AX$10)) -> 1.0528436 | AY12: =EXP(50*LN(AY$9)*(1/AY$11-1/AY$10)) -> 1.0528436 | BA12: =EXP(50*LN(BA$9)*(1/BA$11-1/BA$10)) -> 1.0083402
A13: 10 | B13: =IF(AND('Graph-outputs'!$D$1>12, 'Graph-outputs'!$D$1<19), A13*5-5, "") | AC13: Wind Spd | AD13: m | AE13: ISI
A14: 11 | B14: =IF(AND('Graph-outputs'!$D$1>12, 'Graph-outputs'!$D$1<19), A14*5-5, "") | E14: Rsi | F14: 0 | G14: =G$4*(1-EXP(-G$5*$F14))^G$6 -> 0 | H14: =H$4*(1-EXP(-H$5*$F14))^H$6 -> 0 | I14: =I$4*(1-EXP(-I$5*$F14))^I$6 -> 0 | J14: =J$4*(1-EXP(-J$5*$F14))^J$6 -> 0 | K14: =K$4*(1-EXP(-K$5*$F14))^K$6 -> 0 | M14: =M$4*(1-EXP(-M$5*$F14))^M$6 -> 0 | N14: =N$4*(1-EXP(-N$5*$F14))^N$6 -> 0 | O14: =IF(Settings!$I$6>69, 0.2*(N14), 0) -> 0 | P14: =P$4*(1-EXP(-P$5*$F14))^P$6 -> 0 | Q14: =Q$4*(1-EXP(-Q$5*$F14))^Q$6 -> 0 | R14: =R$4*(1-EXP(-R$5*$F14))^R$6 -> 0 | S14: =S$8*(S$4*(1-EXP(-S$5*F14))^S$6) -> 0 | T14: =T$8*(T$4*(1-EXP(-T$5*F14))^T$6) -> 0 | U14: =(U$7/100*$H14)+((100-U$7)/100*$N14) -> 0 | V14: =(V$7/100*$H14)+((100-V$7)/100*$O14) -> 0 | W14: =$W$7/100*(($W$4*(1-EXP(-$W$5*F14))^$W$6)) + ((100-$W$7)/100*N14) -> 0 | X14: =$X$7/100*(($X$4*(1-EXP(-$X$5*F14))^$X$6)) + ((100-$X$7)/100*O14) -> 0 | Z14: =Z$4*(1-EXP(-Z$5*$F14))^Z$6 -> 0 | AA14: =AA$4*(1-EXP(-AA$5*$F14))^AA$6 -> 0 | AC14: 0 | AD14: =147.2*(101-AC158)/(59.5+AC158) -> 9.7807309 | AE14: =0.208*EXP(0.05039*AC14)*91.9*(EXP(-0.1386*$AD$14)*(1+($AD$14^5.31/(4.93*10^7)))) -> 4.9458521 | AF14: Rsi | AG14: =AE14 -> 4.9458521 | AH14: =AH$4*(1-EXP(-AH$5*$AG14))^AH$6 -> 0.26801316 | AI14: =AI$4*(1-EXP(-AI$5*$AG14))^AI$6 -> 5.1668599 | AJ14: =AJ$4*(1-EXP(-AJ$5*$AG14))^AJ$6 -> 0.84300057 | AK14: =AK$4*(1-EXP(-AK$5*$AG14))^AK$6 -> 5.4503498 | AL14: =AL$4*(1-EXP(-AL$5*$AG14))^AL$6 -> 0.21686272 | AN14: =AN$4*(1-EXP(-AN$5*$AG14))^AN$6 -> 0.88227741 | AO14: =AO$4*(1-EXP(-AO$5*$AG14))^AO$6 -> 0.85743838 | AP14: =IF(Settings!$I$6>69, 0.2*(AO14), 0) -> 0 | AQ14: =AQ$4*(1-EXP(-AQ$5*$AG14))^AQ$6 -> 5.6389639 | AR14: =AR$4*(1-EXP(-AR$5*$AG14))^AR$6 -> 2.4788516 | AS14: =AS$4*(1-EXP(-AS$5*$AG14))^AS$6 -> 1.6831576 | AT14: =AT$8*(AT$4*(1-EXP(-AT$5*AG14))^AT$6) -> 9.9008459 | AU14: =AU$8*(AU$4*(1-EXP(-AU$5*AG14))^AU$6) -> 8.7735522 | AV14: =(AV$7/100*$AI14)+((100-AV$7)/100*$AO14) -> 4.7359178 | AW14: =(AW$7/100*$AI14)+((100-AW$7)/100*$AP14) -> 4.6501739 | AX14: =$W$7/100*(($W$4*(1-EXP(-$W$5*AG14))^$W$6)) + ((100-$W$7)/100*AO14) -> 15.282042 | AY14: =$X$7/100*(($X$4*(1-EXP(-$X$5*AG14))^$X$6)) + ((100-$X$7)/100*AP14) -> 7.1782303 | BA14: =BA$4*(1-EXP(-BA$5*$AG14))^BA$6 -> 1.0467611 | BB14: =BB$4*(1-EXP(-BB$5*$AG14))^BB$6 -> 13.075698
A15: 12 | B15: =IF(AND('Graph-outputs'!$D$1>12, 'Graph-outputs'!$D$1<19), A15*5-5, "") | F15: 1 | G15: =G$4*(1-EXP(-G$5*$F15))^G$6 -> 0.00035177807 | H15: =H$4*(1-EXP(-H$5*$F15))^H$6 -> 0.51003808 | I15: =I$4*(1-EXP(-I$5*$F15))^I$6 -> 0.009009996 | J15: =J$4*(1-EXP(-J$5*$F15))^J$6 -> 0.53972657 | K15: =K$4*(1-EXP(-K$5*$F15))^K$6 -> 0.00061640101 | M15: =M$4*(1-EXP(-M$5*$F15))^M$6 -> 0.040606904 | N15: =N$4*(1-EXP(-N$5*$F15))^N$6 -> 0.071426128 | O15: =IF(Settings!$I$6>69, 0.2*(N15), 0) -> 0 | P15: =P$4*(1-EXP(-P$5*$F15))^P$6 -> 0.76081899 | Q15: =Q$4*(1-EXP(-Q$5*$F15))^Q$6 -> 0.18899757 | R15: =R$4*(1-EXP(-R$5*$F15))^R$6 -> 0.016692843 | S15: =S$8*(S$4*(1-EXP(-S$5*F15))^S$6) -> 1.1490796 | T15: =T$8*(T$4*(1-EXP(-T$5*F15))^T$6) -> 0.65022415 | U15: =(U$7/100*$H15)+((100-U$7)/100*$N15) -> 0.46617689 | V15: =(V$7/100*$H15)+((100-V$7)/100*$O15) -> 0.45903427 | W15: =$W$7/100*(($W$4*(1-EXP(-$W$5*F15))^$W$6)) + ((100-$W$7)/100*N15) -> 1.8971867 | X15: =$X$7/100*(($X$4*(1-EXP(-$X$5*F15))^$X$6)) + ((100-$X$7)/100*O15) -> 0.75639208 | Z15: =Z$4*(1-EXP(-Z$5*$F15))^Z$6 -> 0.013634 | AA15: =AA$4*(1-EXP(-AA$5*$F15))^AA$6 -> 2.9091098 | AC15: 1 | AE15: =0.208*EXP(0.05039*AC15)*91.9*(EXP(-0.1386*$AD$14)*(1+($AD$14^5.31/(4.93*10^7)))) -> 5.2014595 | AG15: =AE15 -> 5.2014595 | AH15: =AH$4*(1-EXP(-AH$5*$AG15))^AH$6 -> 0.32457307 | AI15: =AI$4*(1-EXP(-AI$5*$AG15))^AI$6 -> 5.5432053 | AJ15: =AJ$4*(1-EXP(-AJ$5*$AG15))^AJ$6 -> 0.96463789 | AK15: =AK$4*(1-EXP(-AK$5*$AG15))^AK$6 -> 5.8461711 | AL15: =AL$4*(1-EXP(-AL$5*$AG15))^AL$6 -> 0.25654102 | AN15: =AN$4*(1-EXP(-AN$5*$AG15))^AN$6 -> 0.96844481 | AO15: =AO$4*(1-EXP(-AO$5*$AG15))^AO$6 -> 0.92511892 | AP15: =IF(Settings!$I$6>69, 0.2*(AO15), 0) -> 0 | AQ15: =AQ$4*(1-EXP(-AQ$5*$AG15))^AQ$6 -> 5.9918291 | AR15: =AR$4*(1-EXP(-AR$5*$AG15))^AR$6 -> 2.6759228 | AS15: =AS$4*(1-EXP(-AS$5*$AG15))^AS$6 -> 1.9162794 | AT15: =AT$8*(AT$4*(1-EXP(-AT$5*AG15))^AT$6) -> 10.567306 | AU15: =AU$8*(AU$4*(1-EXP(-AU$5*AG15))^AU$6) -> 9.4879767 | AV15: =(AV$7/100*$AI15)+((100-AV$7)/100*$AO15) -> 5.0813967 | AW15: =(AW$7/100*$AI15)+((100-AW$7)/100*$AP15) -> 4.9888848 | AX15: =$W$7/100*(($W$4*(1-EXP(-$W$5*AG15))^$W$6)) + ((100-$W$7)/100*AO15) -> 16.241505 | AY15: =$X$7/100*(($X$4*(1-EXP(-$X$5*AG15))^$X$6)) + ((100-$X$7)/100*AP15) -> 7.6771572 | BA15: =BA$4*(1-EXP(-BA$5*$AG15))^BA$6 -> 1.1832526 | BB15: =BB$4*(1-EXP(-BB$5*$AG15))^BB$6 -> 13.668039
A16: 13 | B16: =IF(AND('Graph-outputs'!$D$1>12, 'Graph-outputs'!$D$1<19), A16*5-5, "") | F16: 2 | G16: =G$4*(1-EXP(-G$5*$F16))^G$6 -> 0.0068946888 | H16: =H$4*(1-EXP(-H$5*$F16))^H$6 -> 1.4126254 | I16: =I$4*(1-EXP(-I$5*$F16))^I$6 -> 0.067485676 | J16: =J$4*(1-EXP(-J$5*$F16))^J$6 -> 1.493637 | K16: =K$4*(1-EXP(-K$5*$F16))^K$6 -> 0.0085999788 | M16: =M$4*(1-EXP(-M$5*$F16))^M$6 -> 0.157585 | N16: =N$4*(1-EXP(-N$5*$F16))^N$6 -> 0.2125648 | O16: =IF(Settings!$I$6>69, 0.2*(N16), 0) -> 0 | P16: =P$4*(1-EXP(-P$5*$F16))^P$6 -> 1.8378012 | Q16: =Q$4*(1-EXP(-Q$5*$F16))^Q$6 -> 0.59185518 | R16: =R$4*(1-EXP(-R$5*$F16))^R$6 -> 0.1347147 | S16: =S$8*(S$4*(1-EXP(-S$5*F16))^S$6) -> 2.9678432 | T16: =T$8*(T$4*(1-EXP(-T$5*F16))^T$6) -> 2.0511946 | U16: =(U$7/100*$H16)+((100-U$7)/100*$N16) -> 1.2926194 | V16: =(V$7/100*$H16)+((100-V$7)/100*$O16) -> 1.2713629 | W16: =$W$7/100*(($W$4*(1-EXP(-$W$5*F16))^$W$6)) + ((100-$W$7)/100*N16) -> 4.8160886 | X16: =$X$7/100*(($X$4*(1-EXP(-$X$5*F16))^$X$6)) + ((100-$X$7)/100*O16) -> 2.0484191 | Z16: =Z$4*(1-EXP(-Z$5*$F16))^Z$6 -> 0.096970575 | AA16: =AA$4*(1-EXP(-AA$5*$F16))^AA$6 -> 5.677171 | AC16: 2 | AE16: =0.208*EXP(0.05039*AC16)*91.9*(EXP(-0.1386*$AD$14)*(1+($AD$14^5.31/(4.93*10^7)))) -> 5.4702771 | AG16: =AE16 -> 5.4702771 | AH16: =AH$4*(1-EXP(-AH$5*$AG16))^AH$6 -> 0.39239646 | AI16: =AI$4*(1-EXP(-AI$5*$AG16))^AI$6 -> 5.945383 | AJ16: =AJ$4*(1-EXP(-AJ$5*$AG16))^AJ$6 -> 1.1029303 | AK16: =AK$4*(1-EXP(-AK$5*$AG16))^AK$6 -> 6.2690105 | AL16: =AL$4*(1-EXP(-AL$5*$AG16))^AL$6 -> 0.30298789 | AN16: =AN$4*(1-EXP(-AN$5*$AG16))^AN$6 -> 1.0626221 | AO16: =AO$4*(1-EXP(-AO$5*$AG16))^AO$6 -> 0.99790687 | AP16: =IF(Settings!$I$6>69, 0.2*(AO16), 0) -> 0 | AQ16: =AQ$4*(1-EXP(-AQ$5*$AG16))^AQ$6 -> 6.3652353 | AR16: =AR$4*(1-EXP(-AR$5*$AG16))^AR$6 -> 2.8873488 | AS16: =AS$4*(1-EXP(-AS$5*$AG16))^AS$6 -> 2.1784153 | AT16: =AT$8*(AT$4*(1-EXP(-AT$5*AG16))^AT$6) -> 11.275568 | AU16: =AU$8*(AU$4*(1-EXP(-AU$5*AG16))^AU$6) -> 10.256789 | AV16: =(AV$7/100*$AI16)+((100-AV$7)/100*$AO16) -> 5.4506354 | AW16: =(AW$7/100*$AI16)+((100-AW$7)/100*$AP16) -> 5.3508447 | AX16: =$W$7/100*(($W$4*(1-EXP(-$W$5*AG16))^$W$6)) + ((100-$W$7)/100*AO16) -> 17.253028 | AY16: =$X$7/100*(($X$4*(1-EXP(-$X$5*AG16))^$X$6)) + ((100-$X$7)/100*AP16) -> 8.207747 | BA16: =BA$4*(1-EXP(-BA$5*$AG16))^BA$6 -> 1.3357154 | BB16: =BB$4*(1-EXP(-BB$5*$AG16))^BB$6 -> 14.282928
A17: 14 | B17: =IF(AND('Graph-outputs'!$D$1>12, 'Graph-outputs'!$D$1<19), A17*5-5, "") | F17: 3 | G17: =G$4*(1-EXP(-G$5*$F17))^G$6 -> 0.037086993 | H17: =H$4*(1-EXP(-H$5*$F17))^H$6 -> 2.5414789 | I17: =I$4*(1-EXP(-I$5*$F17))^I$6 -> 0.21335182 | J17: =J$4*(1-EXP(-J$5*$F17))^J$6 -> 2.6850652 | K17: =K$4*(1-EXP(-K$5*$F17))^K$6 -> 0.03802586 | M17: =M$4*(1-EXP(-M$5*$F17))^M$6 -> 0.34404855 | N17: =N$4*(1-EXP(-N$5*$F17))^N$6 -> 0.39925905 | O17: =IF(Settings!$I$6>69, 0.2*(N17), 0) -> 0 | P17: =P$4*(1-EXP(-P$5*$F17))^P$6 -> 3.054477 | Q17: =Q$4*(1-EXP(-Q$5*$F17))^Q$6 -> 1.1368334 | R17: =R$4*(1-EXP(-R$5*$F17))^R$6 -> 0.43380093 | S17: =S$8*(S$4*(1-EXP(-S$5*F17))^S$6) -> 5.124674 | T17: =T$8*(T$4*(1-EXP(-T$5*F17))^T$6) -> 3.9685344 | U17: =(U$7/100*$H17)+((100-U$7)/100*$N17) -> 2.3272569 | V17: =(V$7/100*$H17)+((100-V$7)/100*$O17) -> 2.287331 | W17: =$W$7/100*(($W$4*(1-EXP(-$W$5*F17))^$W$6)) + ((100-$W$7)/100*N17) -> 8.1743406 | X17: =$X$7/100*(($X$4*(1-EXP(-$X$5*F17))^$X$6)) + ((100-$X$7)/100*O17) -> 3.6246722 | Z17: =Z$4*(1-EXP(-Z$5*$F17))^Z$6 -> 0.29143009 | AA17: =AA$4*(1-EXP(-AA$5*$F17))^AA$6 -> 8.3110223 | AC17: 3 | AE17: =0.208*EXP(0.05039*AC17)*91.9*(EXP(-0.1386*$AD$14)*(1+($AD$14^5.31/(4.93*10^7)))) -> 5.7529874 | AG17: =AE17 -> 5.7529874 | AH17: =AH$4*(1-EXP(-AH$5*$AG17))^AH$6 -> 0.47354419 | AI17: =AI$4*(1-EXP(-AI$5*$AG17))^AI$6 -> 6.3749629 | AJ17: =AJ$4*(1-EXP(-AJ$5*$AG17))^AJ$6 -> 1.2599765 | AK17: =AK$4*(1-EXP(-AK$5*$AG17))^AK$6 -> 6.7204905 | AL17: =AL$4*(1-EXP(-AL$5*$AG17))^AL$6 -> 0.35723919 | AN17: =AN$4*(1-EXP(-AN$5*$AG17))^AN$6 -> 1.1654913 | AO17: =AO$4*(1-EXP(-AO$5*$AG17))^AO$6 -> 1.076156 | AP17: =IF(Settings!$I$6>69, 0.2*(AO17), 0) -> 0 | AQ17: =AQ$4*(1-EXP(-AQ$5*$AG17))^AQ$6 -> 6.7601969 | AR17: =AR$4*(1-EXP(-AR$5*$AG17))^AR$6 -> 3.1139971 | AS17: =AS$4*(1-EXP(-AS$5*$AG17))^AS$6 -> 2.4725351 | AT17: =AT$8*(AT$4*(1-EXP(-AT$5*AG17))^AT$6) -> 12.027879 | AU17: =AU$8*(AU$4*(1-EXP(-AU$5*AG17))^AU$6) -> 11.083609 | AV17: =(AV$7/100*$AI17)+((100-AV$7)/100*$AO17) -> 5.8450822 | AW17: =(AW$7/100*$AI17)+((100-AW$7)/100*$AP17) -> 5.7374666 | AX17: =$W$7/100*(($W$4*(1-EXP(-$W$5*AG17))^$W$6)) + ((100-$W$7)/100*AO17) -> 18.318469 | AY17: =$X$7/100*(($X$4*(1-EXP(-$X$5*AG17))^$X$6)) + ((100-$X$7)/100*AP17) -> 8.7716317 | BA17: =BA$4*(1-EXP(-BA$5*$AG17))^BA$6 -> 1.5056756 | BB17: =BB$4*(1-EXP(-BB$5*$AG17))^BB$6 -> 14.920793
A18: 15 | B18: =IF(AND('Graph-outputs'!$D$1>12, 'Graph-outputs'!$D$1<19), A18*5-5, "") | F18: 4 | G18: =G$4*(1-EXP(-G$5*$F18))^G$6 -> 0.1176053 | H18: =H$4*(1-EXP(-H$5*$F18))^H$6 -> 3.8323075 | I18: =I$4*(1-EXP(-I$5*$F18))^I$6 -> 0.47395529 | J18: =J$4*(1-EXP(-J$5*$F18))^J$6 -> 4.0455951 | K18: =K$4*(1-EXP(-K$5*$F18))^K$6 -> 0.10513621 | M18: =M$4*(1-EXP(-M$5*$F18))^M$6 -> 0.59359038 | N18: =N$4*(1-EXP(-N$5*$F18))^N$6 -> 0.62116262 | O18: =IF(Settings!$I$6>69, 0.2*(N18), 0) -> 0 | P18: =P$4*(1-EXP(-P$5*$F18))^P$6 -> 4.3563061 | Q18: =Q$4*(1-EXP(-Q$5*$F18))^Q$6 -> 1.7878737 | R18: =R$4*(1-EXP(-R$5*$F18))^R$6 -> 0.96000016 | S18: =S$8*(S$4*(1-EXP(-S$5*F18))^S$6) -> 7.5045848 | T18: =T$8*(T$4*(1-EXP(-T$5*F18))^T$6) -> 6.2859288 | U18: =(U$7/100*$H18)+((100-U$7)/100*$N18) -> 3.511193 | V18: =(V$7/100*$H18)+((100-V$7)/100*$O18) -> 3.4490768 | W18: =$W$7/100*(($W$4*(1-EXP(-$W$5*F18))^$W$6)) + ((100-$W$7)/100*N18) -> 11.768728 | X18: =$X$7/100*(($X$4*(1-EXP(-$X$5*F18))^$X$6)) + ((100-$X$7)/100*O18) -> 5.3889019 | Z18: =Z$4*(1-EXP(-Z$5*$F18))^Z$6 -> 0.61611825 | AA18: =AA$4*(1-EXP(-AA$5*$F18))^AA$6 -> 10.817171 | AC18: 4 | AE18: =0.208*EXP(0.05039*AC18)*91.9*(EXP(-0.1386*$AD$14)*(1+($AD$14^5.31/(4.93*10^7)))) -> 6.0503085 | AG18: =AE18 -> 6.0503085 | AH18: =AH$4*(1-EXP(-AH$5*$AG18))^AH$6 -> 0.57040617 | AI18: =AI$4*(1-EXP(-AI$5*$AG18))^AI$6 -> 6.8335839 | AJ18: =AJ$4*(1-EXP(-AJ$5*$AG18))^AJ$6 -> 1.4381036 | AK18: =AK$4*(1-EXP(-AK$5*$AG18))^AK$6 -> 7.2023021 | AL18: =AL$4*(1-EXP(-AL$5*$AG18))^AL$6 -> 0.42046131 | AN18: =AN$4*(1-EXP(-AN$5*$AG18))^AN$6 -> 1.2777828 | AO18: =AO$4*(1-EXP(-AO$5*$AG18))^AO$6 -> 1.1602401 | AP18: =IF(Settings!$I$6>69, 0.2*(AO18), 0) -> 0 | AQ18: =AQ$4*(1-EXP(-AQ$5*$AG18))^AQ$6 -> 7.1777562 | AR18: =AR$4*(1-EXP(-AR$5*$AG18))^AR$6 -> 3.3567634 | AS18: =AS$4*(1-EXP(-AS$5*$AG18))^AS$6 -> 2.8017893 | AT18: =AT$8*(AT$4*(1-EXP(-AT$5*AG18))^AT$6) -> 12.826559 | AU18: =AU$8*(AU$4*(1-EXP(-AU$5*AG18))^AU$6) -> 11.972224 | AV18: =(AV$7/100*$AI18)+((100-AV$7)/100*$AO18) -> 6.2662496 | AW18: =(AW$7/100*$AI18)+((100-AW$7)/100*$AP18) -> 6.1502255 | AX18: =$W$7/100*(($W$4*(1-EXP(-$W$5*AG18))^$W$6)) + ((100-$W$7)/100*AO18) -> 19.439631 | AY18: =$X$7/100*(($X$4*(1-EXP(-$X$5*AG18))^$X$6)) + ((100-$X$7)/100*AP18) -> 9.370479 | BA18: =BA$4*(1-EXP(-BA$5*$AG18))^BA$6 -> 1.6947415 | BB18: =BB$4*(1-EXP(-BB$5*$AG18))^BB$6 -> 15.582025
A19: 16 | B19: =IF(AND('Graph-outputs'!$D$1>12, 'Graph-outputs'!$D$1<19), A19*5-5, "") | F19: 5 | G19: =G$4*(1-EXP(-G$5*$F19))^G$6 -> 0.27937434 | H19: =H$4*(1-EXP(-H$5*$F19))^H$6 -> 5.2460722 | I19: =I$4*(1-EXP(-I$5*$F19))^I$6 -> 0.86797241 | J19: =J$4*(1-EXP(-J$5*$F19))^J$6 -> 5.5336727 | K19: =K$4*(1-EXP(-K$5*$F19))^K$6 -> 0.22491129 | M19: =M$4*(1-EXP(-M$5*$F19))^M$6 -> 0.90025139 | N19: =N$4*(1-EXP(-N$5*$F19))^N$6 -> 0.87164784 | O19: =IF(Settings!$I$6>69, 0.2*(N19), 0) -> 0 | P19: =P$4*(1-EXP(-P$5*$F19))^P$6 -> 5.7135239 | Q19: =Q$4*(1-EXP(-Q$5*$F19))^Q$6 -> 2.5202631 | R19: =R$4*(1-EXP(-R$5*$F19))^R$6 -> 1.7312179 | S19: =S$8*(S$4*(1-EXP(-S$5*F19))^S$6) -> 10.041429 | T19: =T$8*(T$4*(1-EXP(-T$5*F19))^T$6) -> 8.9235002 | U19: =(U$7/100*$H19)+((100-U$7)/100*$N19) -> 4.8086297 | V19: =(V$7/100*$H19)+((100-V$7)/100*$O19) -> 4.721465 | W19: =$W$7/100*(($W$4*(1-EXP(-$W$5*F19))^$W$6)) + ((100-$W$7)/100*N19) -> 15.485056 | X19: =$X$7/100*(($X$4*(1-EXP(-$X$5*F19))^$X$6)) + ((100-$X$7)/100*O19) -> 7.2834412 | Z19: =Z$4*(1-EXP(-Z$5*$F19))^Z$6 -> 1.0749763 | AA19: =AA$4*(1-EXP(-AA$5*$F19))^AA$6 -> 13.201808 | AC19: 5 | AE19: =0.208*EXP(0.05039*AC19)*91.9*(EXP(-0.1386*$AD$14)*(1+($AD$14^5.31/(4.93*10^7)))) -> 6.3629956 | AG19: =AE19 -> 6.3629956 | AH19: =AH$4*(1-EXP(-AH$5*$AG19))^AH$6 -> 0.68574148 | AI19: =AI$4*(1-EXP(-AI$5*$AG19))^AI$6 -> 7.3229537 | AJ19: =AJ$4*(1-EXP(-AJ$5*$AG19))^AJ$6 -> 1.6398841 | AK19: =AK$4*(1-EXP(-AK$5*$AG19))^AK$6 -> 7.7162042 | AL19: =AL$4*(1-EXP(-AL$5*$AG19))^AL$6 -> 0.49396116 | AN19: =AN$4*(1-EXP(-AN$5*$AG19))^AN$6 -> 1.4002771 | AO19: =AO$4*(1-EXP(-AO$5*$AG19))^AO$6 -> 1.2505541 | AP19: =IF(Settings!$I$6>69, 0.2*(AO19), 0) -> 0 | AQ19: =AQ$4*(1-EXP(-AQ$5*$AG19))^AQ$6 -> 7.6189819 | AR19: =AR$4*(1-EXP(-AR$5*$AG19))^AR$6 -> 3.6165687 | AS19: =AS$4*(1-EXP(-AS$5*$AG19))^AS$6 -> 3.1694958 | AT19: =AT$8*(AT$4*(1-EXP(-AT$5*AG19))^AT$6) -> 13.673999 | AU19: =AU$8*(AU$4*(1-EXP(-AU$5*AG19))^AU$6) -> 12.92659 | AV19: =(AV$7/100*$AI19)+((100-AV$7)/100*$AO19) -> 6.7157138 | AW19: =(AW$7/100*$AI19)+((100-AW$7)/100*$AP19) -> 6.5906583 | AX19: =$W$7/100*(($W$4*(1-EXP(-$W$5*AG19))^$W$6)) + ((100-$W$7)/100*AO19) -> 20.618249 | AY19: =$X$7/100*(($X$4*(1-EXP(-$X$5*AG19))^$X$6)) + ((100-$X$7)/100*AP19) -> 10.005987 | BA19: =BA$4*(1-EXP(-BA$5*$AG19))^BA$6 -> 1.9045967 | BB19: =BB$4*(1-EXP(-BB$5*$AG19))^BB$6 -> 16.266969
A20: 17 | B20: =IF(AND('Graph-outputs'!$D$1>12, 'Graph-outputs'!$D$1<19), A20*5-5, "") | F20: 6 | G20: =G$4*(1-EXP(-G$5*$F20))^G$6 -> 0.55315781 | H20: =H$4*(1-EXP(-H$5*$F20))^H$6 -> 6.7555101 | I20: =I$4*(1-EXP(-I$5*$F20))^I$6 -> 1.4070245 | J20: =J$4*(1-EXP(-J$5*$F20))^J$6 -> 7.1202941 | K20: =K$4*(1-EXP(-K$5*$F20))^K$6 -> 0.40931166 | M20: =M$4*(1-EXP(-M$5*$F20))^M$6 -> 1.258492 | N20: =N$4*(1-EXP(-N$5*$F20))^N$6 -> 1.1458873 | O20: =IF(Settings!$I$6>69, 0.2*(N20), 0) -> 0 | P20: =P$4*(1-EXP(-P$5*$F20))^P$6 -> 7.1069583 | Q20: =Q$4*(1-EXP(-Q$5*$F20))^Q$6 -> 3.3153834 | R20: =R$4*(1-EXP(-R$5*$F20))^R$6 -> 2.7446639 | S20: =S$8*(S$4*(1-EXP(-S$5*F20))^S$6) -> 12.69091 | T20: =T$8*(T$4*(1-EXP(-T$5*F20))^T$6) -> 11.820541 | U20: =(U$7/100*$H20)+((100-U$7)/100*$N20) -> 6.1945478 | V20: =(V$7/100*$H20)+((100-V$7)/100*$O20) -> 6.0799591 | W20: =$W$7/100*(($W$4*(1-EXP(-$W$5*F20))^$W$6)) + ((100-$W$7)/100*N20) -> 19.249925 | X20: =$X$7/100*(($X$4*(1-EXP(-$X$5*F20))^$X$6)) + ((100-$X$7)/100*O20) -> 9.2687597 | Z20: =Z$4*(1-EXP(-Z$5*$F20))^Z$6 -> 1.6620217 | AA20: =AA$4*(1-EXP(-AA$5*$F20))^AA$6 -> 15.470826 | AC20: 6 | AE20: =0.208*EXP(0.05039*AC20)*91.9*(EXP(-0.1386*$AD$14)*(1+($AD$14^5.31/(4.93*10^7)))) -> 6.6918426 | AG20: =AE20 -> 6.6918426 | AH20: =AH$4*(1-EXP(-AH$5*$AG20))^AH$6 -> 0.82272018 | AI20: =AI$4*(1-EXP(-AI$5*$AG20))^AI$6 -> 7.8448471 | AJ20: =AJ$4*(1-EXP(-AJ$5*$AG20))^AJ$6 -> 1.868154 | AK20: =AK$4*(1-EXP(-AK$5*$AG20))^AK$6 -> 8.2640216 | AL20: =AL$4*(1-EXP(-AL$5*$AG20))^AL$6 -> 0.57919527 | AN20: =AN$4*(1-EXP(-AN$5*$AG20))^AN$6 -> 1.533807 | AO20: =AO$4*(1-EXP(-AO$5*$AG20))^AO$6 -> 1.3475139 | AP20: =IF(Settings!$I$6>69, 0.2*(AO20), 0) -> 0 | AQ20: =AQ$4*(1-EXP(-AQ$5*$AG20))^AQ$6 -> 8.0849665 | AR20: =AR$4*(1-EXP(-AR$5*$AG20))^AR$6 -> 3.8943559 | AS20: =AS$4*(1-EXP(-AS$5*$AG20))^AS$6 -> 3.5791201 | AT20: =AT$8*(AT$4*(1-EXP(-AT$5*AG20))^AT$6) -> 14.572652 | AU20: =AU$8*(AU$4*(1-EXP(-AU$5*AG20))^AU$6) -> 13.950822 | AV20: =(AV$7/100*$AI20)+((100-AV$7)/100*$AO20) -> 7.1951138 | AW20: =(AW$7/100*$AI20)+((100-AW$7)/100*$AP20) -> 7.0603624 | AX20: =$W$7/100*(($W$4*(1-EXP(-$W$5*AG20))^$W$6)) + ((100-$W$7)/100*AO20) -> 21.855962 | AY20: =$X$7/100*(($X$4*(1-EXP(-$X$5*AG20))^$X$6)) + ((100-$X$7)/100*AP20) -> 10.679875 | BA20: =BA$4*(1-EXP(-BA$5*$AG20))^BA$6 -> 2.1369884 | BB20: =BB$4*(1-EXP(-BB$5*$AG20))^BB$6 -> 16.975919
A21: 18 | B21: =IF(AND('Graph-outputs'!$D$1>12, 'Graph-outputs'!$D$1<19), A21*5-5, "") | F21: 7 | G21: =G$4*(1-EXP(-G$5*$F21))^G$6 -> 0.96635636 | H21: =H$4*(1-EXP(-H$5*$F21))^H$6 -> 8.3401422 | I21: =I$4*(1-EXP(-I$5*$F21))^I$6 -> 2.097043 | J21: =J$4*(1-EXP(-J$5*$F21))^J$6 -> 8.7836949 | K21: =K$4*(1-EXP(-K$5*$F21))^K$6 -> 0.66658616 | M21: =M$4*(1-EXP(-M$5*$F21))^M$6 -> 1.6631654 | N21: =N$4*(1-EXP(-N$5*$F21))^N$6 -> 1.4401203 | O21: =IF(Settings!$I$6>69, 0.2*(N21), 0) -> 0 | P21: =P$4*(1-EXP(-P$5*$F21))^P$6 -> 8.5231499 | Q21: =Q$4*(1-EXP(-Q$5*$F21))^Q$6 -> 4.1585381 | R21: =R$4*(1-EXP(-R$5*$F21))^R$6 -> 3.9834783 | S21: =S$8*(S$4*(1-EXP(-S$5*F21))^S$6) -> 15.420923 | T21: =T$8*(T$4*(1-EXP(-T$5*F21))^T$6) -> 14.928498 | U21: =(U$7/100*$H21)+((100-U$7)/100*$N21) -> 7.65014 | V21: =(V$7/100*$H21)+((100-V$7)/100*$O21) -> 7.506128 | W21: =$W$7/100*(($W$4*(1-EXP(-$W$5*F21))^$W$6)) + ((100-$W$7)/100*N21) -> 23.01303 | X21: =$X$7/100*(($X$4*(1-EXP(-$X$5*F21))^$X$6)) + ((100-$X$7)/100*O21) -> 11.31584 | Z21: =Z$4*(1-EXP(-Z$5*$F21))^Z$6 -> 2.3651465 | AA21: =AA$4*(1-EXP(-AA$5*$F21))^AA$6 -> 17.629831 | AC21: 7 | AE21: =0.208*EXP(0.05039*AC21)*91.9*(EXP(-0.1386*$AD$14)*(1+($AD$14^5.31/(4.93*10^7)))) -> 7.0376849 | AG21: =AE21 -> 7.0376849 | AH21: =AH$4*(1-EXP(-AH$5*$AG21))^AH$6 -> 0.98496599 | AI21: =AI$4*(1-EXP(-AI$5*$AG21))^AI$6 -> 8.4011045 | AJ21: =AJ$4*(1-EXP(-AJ$5*$AG21))^AJ$6 -> 2.1260291 | AK21: =AK$4*(1-EXP(-AK$5*$AG21))^AK$6 -> 8.8476427 | AL21: =AL$4*(1-EXP(-AL$5*$AG21))^AL$6 -> 0.67777762 | AN21: =AN$4*(1-EXP(-AN$5*$AG21))^AN$6 -> 1.6792588 | AO21: =AO$4*(1-EXP(-AO$5*$AG21))^AO$6 -> 1.4515571 | AP21: =IF(Settings!$I$6>69, 0.2*(AO21), 0) -> 0 | AQ21: =AQ$4*(1-EXP(-AQ$5*$AG21))^AQ$6 -> 8.5768231 | AR21: =AR$4*(1-EXP(-AR$5*$AG21))^AR$6 -> 4.1910859 | AS21: =AS$4*(1-EXP(-AS$5*$AG21))^AS$6 -> 4.0342486 | AT21: =AT$8*(AT$4*(1-EXP(-AT$5*AG21))^AT$6) -> 15.525034 | AU21: =AU$8*(AU$4*(1-EXP(-AU$5*AG21))^AU$6) -> 15.049191 | AV21: =(AV$7/100*$AI21)+((100-AV$7)/100*$AO21) -> 7.7061498 | AW21: =(AW$7/100*$AI21)+((100-AW$7)/100*$AP21) -> 7.5609941 | AX21: =$W$7/100*(($W$4*(1-EXP(-$W$5*AG21))^$W$6)) + ((100-$W$7)/100*AO21) -> 23.154298 | AY21: =$X$7/100*(($X$4*(1-EXP(-$X$5*AG21))^$X$6)) + ((100-$X$7)/100*AP21) -> 11.39388 | BA21: =BA$4*(1-EXP(-BA$5*$AG21))^BA$6 -> 2.393714 | BB21: =BB$4*(1-EXP(-BB$5*$AG21))^BB$6 -> 17.709113
A22: 19 | B22: =IF(AND('Graph-outputs'!$D$1>12, 'Graph-outputs'!$D$1<19), A22*5-5, "") | F22: 8 | G22: =G$4*(1-EXP(-G$5*$F22))^G$6 -> 1.541018 | H22: =H$4*(1-EXP(-H$5*$F22))^H$6 -> 9.9838855 | I22: =I$4*(1-EXP(-I$5*$F22))^I$6 -> 2.9394189 | J22: =J$4*(1-EXP(-J$5*$F22))^J$6 -> 10.506808 | K22: =K$4*(1-EXP(-K$5*$F22))^K$6 -> 1.0012305 | M22: =M$4*(1-EXP(-M$5*$F22))^M$6 -> 2.1094922 | N22: =N$4*(1-EXP(-N$5*$F22))^N$6 -> 1.7512939 | O22: =IF(Settings!$I$6>69, 0.2*(N22), 0) -> 0 | P22: =P$4*(1-EXP(-P$5*$F22))^P$6 -> 9.9521428 | Q22: =Q$4*(1-EXP(-Q$5*$F22))^Q$6 -> 5.0378109 | R22: =R$4*(1-EXP(-R$5*$F22))^R$6 -> 5.4220422 | S22: =S$8*(S$4*(1-EXP(-S$5*F22))^S$6) -> 18.207057 | T22: =T$8*(T$4*(1-EXP(-T$5*F22))^T$6) -> 18.207351 | U22: =(U$7/100*$H22)+((100-U$7)/100*$N22) -> 9.1606263 | V22: =(V$7/100*$H22)+((100-V$7)/100*$O22) -> 8.9854969 | W22: =$W$7/100*(($W$4*(1-EXP(-$W$5*F22))^$W$6)) + ((100-$W$7)/100*N22) -> 26.738709 | X22: =$X$7/100*(($X$4*(1-EXP(-$X$5*F22))^$X$6)) + ((100-$X$7)/100*O22) -> 13.402502 | Z22: =Z$4*(1-EXP(-Z$5*$F22))^Z$6 -> 3.16883 | AA22: =AA$4*(1-EXP(-AA$5*$F22))^AA$6 -> 19.684155 | AC22: 8 | AE22: =0.208*EXP(0.05039*AC22)*91.9*(EXP(-0.1386*$AD$14)*(1+($AD$14^5.31/(4.93*10^7)))) -> 7.4014007 | AG22: =AE22 -> 7.4014007 | AH22: =AH$4*(1-EXP(-AH$5*$AG22))^AH$6 -> 1.1765985 | AI22: =AI$4*(1-EXP(-AI$5*$AG22))^AI$6 -> 8.993629 | AJ22: =AJ$4*(1-EXP(-AJ$5*$AG22))^AJ$6 -> 2.4169209 | AK22: =AK$4*(1-EXP(-AK$5*$AG22))^AK$6 -> 9.4690159 | AL22: =AL$4*(1-EXP(-AL$5*$AG22))^AL$6 -> 0.79148555 | AN22: =AN$4*(1-EXP(-AN$5*$AG22))^AN$6 -> 1.8375735 | AO22: =AO$4*(1-EXP(-AO$5*$AG22))^AO$6 -> 1.5631431 | AP22: =IF(Settings!$I$6>69, 0.2*(AO22), 0) -> 0 | AQ22: =AQ$4*(1-EXP(-AQ$5*$AG22))^AQ$6 -> 9.0956819 | AR22: =AR$4*(1-EXP(-AR$5*$AG22))^AR$6 -> 4.5077322 | AS22: =AS$4*(1-EXP(-AS$5*$AG22))^AS$6 -> 4.5385545 | AT22: =AT$8*(AT$4*(1-EXP(-AT$5*AG22))^AT$6) -> 16.533711 | AU22: =AU$8*(AU$4*(1-EXP(-AU$5*AG22))^AU$6) -> 16.226114 | AV22: =(AV$7/100*$AI22)+((100-AV$7)/100*$AO22) -> 8.2505804 | AW22: =(AW$7/100*$AI22)+((100-AW$7)/100*$AP22) -> 8.0942661 | AX22: =$W$7/100*(($W$4*(1-EXP(-$W$5*AG22))^$W$6)) + ((100-$W$7)/100*AO22) -> 24.514645 | AY22: =$X$7/100*(($X$4*(1-EXP(-$X$5*AG22))^$X$6)) + ((100-$X$7)/100*AP22) -> 12.14974 | BA22: =BA$4*(1-EXP(-BA$5*$AG22))^BA$6 -> 2.6766029 | BB22: =BB$4*(1-EXP(-BB$5*$AG22))^BB$6 -> 18.466724
A23: 20 | B23: =IF(AND('Graph-outputs'!$D$1>12, 'Graph-outputs'!$D$1<19), A23*5-5, "") | F23: 9 | G23: =G$4*(1-EXP(-G$5*$F23))^G$6 -> 2.2928597 | H23: =H$4*(1-EXP(-H$5*$F23))^H$6 -> 11.67373 | I23: =I$4*(1-EXP(-I$5*$F23))^I$6 -> 3.9319685 | J23: =J$4*(1-EXP(-J$5*$F23))^J$6 -> 12.275853 | K23: =K$4*(1-EXP(-K$5*$F23))^K$6 -> 1.4143164 | M23: =M$4*(1-EXP(-M$5*$F23))^M$6 -> 2.5930368 | N23: =N$4*(1-EXP(-N$5*$F23))^N$6 -> 2.0768604 | O23: =IF(Settings!$I$6>69, 0.2*(N23), 0) -> 0 | P23: =P$4*(1-EXP(-P$5*$F23))^P$6 -> 11.386315 | Q23: =Q$4*(1-EXP(-Q$5*$F23))^Q$6 -> 5.9433775 | R23: =R$4*(1-EXP(-R$5*$F23))^R$6 -> 7.0300082 | S23: =S$8*(S$4*(1-EXP(-S$5*F23))^S$6) -> 21.030156 | T23: =T$8*(T$4*(1-EXP(-T$5*F23))^T$6) -> 21.623475 | U23: =(U$7/100*$H23)+((100-U$7)/100*$N23) -> 10.714043 | V23: =(V$7/100*$H23)+((100-V$7)/100*$O23) -> 10.506357 | W23: =$W$7/100*(($W$4*(1-EXP(-$W$5*F23))^$W$6)) + ((100-$W$7)/100*N23) -> 30.401261 | X23: =$X$7/100*(($X$4*(1-EXP(-$X$5*F23))^$X$6)) + ((100-$X$7)/100*O23) -> 15.51135 | Z23: =Z$4*(1-EXP(-Z$5*$F23))^Z$6 -> 4.0560416 | AA23: =AA$4*(1-EXP(-AA$5*$F23))^AA$6 -> 21.638876 | AC23: 9 | AE23: =0.208*EXP(0.05039*AC23)*91.9*(EXP(-0.1386*$AD$14)*(1+($AD$14^5.31/(4.93*10^7)))) -> 7.7839138 | AG23: =AE23 -> 7.7839138 | AH23: =AH$4*(1-EXP(-AH$5*$AG23))^AH$6 -> 1.4022738 | AI23: =AI$4*(1-EXP(-AI$5*$AG23))^AI$6 -> 9.624383 | AJ23: =AJ$4*(1-EXP(-AJ$5*$AG23))^AJ$6 -> 2.7445515 | AK23: =AK$4*(1-EXP(-AK$5*$AG23))^AK$6 -> 10.130145 | AL23: =AL$4*(1-EXP(-AL$5*$AG23))^AL$6 -> 0.92226314 | AN23: =AN$4*(1-EXP(-AN$5*$AG23))^AN$6 -> 2.0097477 | AO23: =AO$4*(1-EXP(-AO$5*$AG23))^AO$6 -> 1.6827536 | AP23: =IF(Settings!$I$6>69, 0.2*(AO23), 0) -> 0 | AQ23: =AQ$4*(1-EXP(-AQ$5*$AG23))^AQ$6 -> 9.6426856 | AR23: =AR$4*(1-EXP(-AR$5*$AG23))^AR$6 -> 4.8452755 | AS23: =AS$4*(1-EXP(-AS$5*$AG23))^AS$6 -> 5.0957544 | AT23: =AT$8*(AT$4*(1-EXP(-AT$5*AG23))^AT$6) -> 17.601289 | AU23: =AU$8*(AU$4*(1-EXP(-AU$5*AG23))^AU$6) -> 17.48614 | AV23: =(AV$7/100*$AI23)+((100-AV$7)/100*$AO23) -> 8.83022 | AW23: =(AW$7/100*$AI23)+((100-AW$7)/100*$AP23) -> 8.6619447 | AX23: =$W$7/100*(($W$4*(1-EXP(-$W$5*AG23))^$W$6)) + ((100-$W$7)/100*AO23) -> 25.938229 | AY23: =$X$7/100*(($X$4*(1-EXP(-$X$5*AG23))^$X$6)) + ((100-$X$7)/100*AP23) -> 12.949188 | BA23: =BA$4*(1-EXP(-BA$5*$AG23))^BA$6 -> 2.9874954 | BB23: =BB$4*(1-EXP(-BB$5*$AG23))^BB$6 -> 19.248851
A24: 21 | B24: =IF(AND('Graph-outputs'!$D$1>12, 'Graph-outputs'!$D$1<19), A24*5-5, "") | F24: 10 | G24: =G$4*(1-EXP(-G$5*$F24))^G$6 -> 3.2310526 | H24: =H$4*(1-EXP(-H$5*$F24))^H$6 -> 13.398932 | I24: =I$4*(1-EXP(-I$5*$F24))^I$6 -> 5.0697417 | J24: =J$4*(1-EXP(-J$5*$F24))^J$6 -> 14.079475 | K24: =K$4*(1-EXP(-K$5*$F24))^K$6 -> 1.9040073 | M24: =M$4*(1-EXP(-M$5*$F24))^M$6 -> 3.1096854 | N24: =N$4*(1-EXP(-N$5*$F24))^N$6 -> 2.4146525 | O24: =IF(Settings!$I$6>69, 0.2*(N24), 0) -> 0 | P24: =P$4*(1-EXP(-P$5*$F24))^P$6 -> 12.819693 | Q24: =Q$4*(1-EXP(-Q$5*$F24))^Q$6 -> 6.8670521 | R24: =R$4*(1-EXP(-R$5*$F24))^R$6 -> 8.7752372 | S24: =S$8*(S$4*(1-EXP(-S$5*F24))^S$6) -> 23.874852 | T24: =T$8*(T$4*(1-EXP(-T$5*F24))^T$6) -> 25.148242 | U24: =(U$7/100*$H24)+((100-U$7)/100*$N24) -> 12.300504 | V24: =(V$7/100*$H24)+((100-V$7)/100*$O24) -> 12.059039 | W24: =$W$7/100*(($W$4*(1-EXP(-$W$5*F24))^$W$6)) + ((100-$W$7)/100*N24) -> 33.982083 | X24: =$X$7/100*(($X$4*(1-EXP(-$X$5*F24))^$X$6)) + ((100-$X$7)/100*O24) -> 17.628505 | Z24: =Z$4*(1-EXP(-Z$5*$F24))^Z$6 -> 5.0095413 | AA24: =AA$4*(1-EXP(-AA$5*$F24))^AA$6 -> 23.498821 | AC24: 10 | AE24: =0.208*EXP(0.05039*AC24)*91.9*(EXP(-0.1386*$AD$14)*(1+($AD$14^5.31/(4.93*10^7)))) -> 8.1861956 | AG24: =AE24 -> 8.1861956 | AH24: =AH$4*(1-EXP(-AH$5*$AG24))^AH$6 -> 1.6672208 | AI24: =AI$4*(1-EXP(-AI$5*$AG24))^AI$6 -> 10.295383 | AJ24: =AJ$4*(1-EXP(-AJ$5*$AG24))^AJ$6 -> 3.1129646 | AK24: =AK$4*(1-EXP(-AK$5*$AG24))^AK$6 -> 10.833085 | AL24: =AL$4*(1-EXP(-AL$5*$AG24))^AL$6 -> 1.0722211 | AN24: =AN$4*(1-EXP(-AN$5*$AG24))^AN$6 -> 2.1968338 | AO24: =AO$4*(1-EXP(-AO$5*$AG24))^AO$6 -> 1.810892 | AP24: =IF(Settings!$I$6>69, 0.2*(AO24), 0) -> 0 | AQ24: =AQ$4*(1-EXP(-AQ$5*$AG24))^AQ$6 -> 10.218985 | AR24: =AR$4*(1-EXP(-AR$5*$AG24))^AR$6 -> 5.2046965 | AS24: =AS$4*(1-EXP(-AS$5*$AG24))^AS$6 -> 5.7095567 | AT24: =AT$8*(AT$4*(1-EXP(-AT$5*AG24))^AT$6) -> 18.73041 | AU24: =AU$8*(AU$4*(1-EXP(-AU$5*AG24))^AU$6) -> 18.833937 | AV24: =(AV$7/100*$AI24)+((100-AV$7)/100*$AO24) -> 9.446934 | AW24: =(AW$7/100*$AI24)+((100-AW$7)/100*$AP24) -> 9.2658448 | AX24: =$W$7/100*(($W$4*(1-EXP(-$W$5*AG24))^$W$6)) + ((100-$W$7)/100*AO24) -> 27.426083 | AY24: =$X$7/100*(($X$4*(1-EXP(-$X$5*AG24))^$X$6)) + ((100-$X$7)/100*AP24) -> 13.793937 | BA24: =BA$4*(1-EXP(-BA$5*$AG24))^BA$6 -> 3.3282163 | BB24: =BB$4*(1-EXP(-BB$5*$AG24))^BB$6 -> 20.055514
A25: 22 | F25: 11 | G25: =G$4*(1-EXP(-G$5*$F25))^G$6 -> 4.3585365 | H25: =H$4*(1-EXP(-H$5*$F25))^H$6 -> 15.150484 | I25: =I$4*(1-EXP(-I$5*$F25))^I$6 -> 6.3456944 | J25: =J$4*(1-EXP(-J$5*$F25))^J$6 -> 15.908179 | K25: =K$4*(1-EXP(-K$5*$F25))^K$6 -> 2.4661411 | M25: =M$4*(1-EXP(-M$5*$F25))^M$6 -> 3.655625 | N25: =N$4*(1-EXP(-N$5*$F25))^N$6 -> 2.7627995 | O25: =IF(Settings!$I$6>69, 0.2*(N25), 0) -> 0 | P25: =P$4*(1-EXP(-P$5*$F25))^P$6 -> 14.247515 | Q25: =Q$4*(1-EXP(-Q$5*$F25))^Q$6 -> 7.8019669 | R25: =R$4*(1-EXP(-R$5*$F25))^R$6 -> 10.625852 | S25: =S$8*(S$4*(1-EXP(-S$5*F25))^S$6) -> 26.728625 | T25: =T$8*(T$4*(1-EXP(-T$5*F25))^T$6) -> 28.757063 | U25: =(U$7/100*$H25)+((100-U$7)/100*$N25) -> 13.911716 | V25: =(V$7/100*$H25)+((100-V$7)/100*$O25) -> 13.635436 | W25: =$W$7/100*(($W$4*(1-EXP(-$W$5*F25))^$W$6)) + ((100-$W$7)/100*N25) -> 37.467797 | X25: =$X$7/100*(($X$4*(1-EXP(-$X$5*F25))^$X$6)) + ((100-$X$7)/100*O25) -> 19.742775 | Z25: =Z$4*(1-EXP(-Z$5*$F25))^Z$6 -> 6.0127376 | AA25: =AA$4*(1-EXP(-AA$5*$F25))^AA$6 -> 25.268587 | AC25: 11 | AE25: =0.208*EXP(0.05039*AC25)*91.9*(EXP(-0.1386*$AD$14)*(1+($AD$14^5.31/(4.93*10^7)))) -> 8.6092677 | AG25: =AE25 -> 8.6092677 | AH25: =AH$4*(1-EXP(-AH$5*$AG25))^AH$6 -> 1.9772719 | AI25: =AI$4*(1-EXP(-AI$5*$AG25))^AI$6 -> 11.008695 | AJ25: =AJ$4*(1-EXP(-AJ$5*$AG25))^AJ$6 -> 3.5265351 | AK25: =AK$4*(1-EXP(-AK$5*$AG25))^AK$6 -> 11.579934 | AL25: =AL$4*(1-EXP(-AL$5*$AG25))^AL$6 -> 1.2436329 | AN25: =AN$4*(1-EXP(-AN$5*$AG25))^AN$6 -> 2.3999398 | AO25: =AO$4*(1-EXP(-AO$5*$AG25))^AO$6 -> 1.9480836 | AP25: =IF(Settings!$I$6>69, 0.2*(AO25), 0) -> 0 | AQ25: =AQ$4*(1-EXP(-AQ$5*$AG25))^AQ$6 -> 10.825734 | AR25: =AR$4*(1-EXP(-AR$5*$AG25))^AR$6 -> 5.5869685 | AS25: =AS$4*(1-EXP(-AS$5*$AG25))^AS$6 -> 6.3835997 | AT25: =AT$8*(AT$4*(1-EXP(-AT$5*AG25))^AT$6) -> 19.923733 | AU25: =AU$8*(AU$4*(1-EXP(-AU$5*AG25))^AU$6) -> 20.274272 | AV25: =(AV$7/100*$AI25)+((100-AV$7)/100*$AO25) -> 10.102634 | AW25: =(AW$7/100*$AI25)+((100-AW$7)/100*$AP25) -> 9.9078255 | AX25: =$W$7/100*(($W$4*(1-EXP(-$W$5*AG25))^$W$6)) + ((100-$W$7)/100*AO25) -> 28.979018 | AY25: =$X$7/100*(($X$4*(1-EXP(-$X$5*AG25))^$X$6)) + ((100-$X$7)/100*AP25) -> 14.685667 | BA25: =BA$4*(1-EXP(-BA$5*$AG25))^BA$6 -> 3.7005449 | BB25: =BB$4*(1-EXP(-BB$5*$AG25))^BB$6 -> 20.886646
A26: 23 | F26: 12 | G26: =G$4*(1-EXP(-G$5*$F26))^G$6 -> 5.672671 | H26: =H$4*(1-EXP(-H$5*$F26))^H$6 -> 16.920751 | I26: =I$4*(1-EXP(-I$5*$F26))^I$6 -> 7.7512475 | J26: =J$4*(1-EXP(-J$5*$F26))^J$6 -> 17.753935 | K26: =K$4*(1-EXP(-K$5*$F26))^K$6 -> 3.0948085 | M26: =M$4*(1-EXP(-M$5*$F26))^M$6 -> 4.227324 | N26: =N$4*(1-EXP(-N$5*$F26))^N$6 -> 3.1196693 | O26: =IF(Settings!$I$6>69, 0.2*(N26), 0) -> 0 | P26: =P$4*(1-EXP(-P$5*$F26))^P$6 -> 15.665943 | Q26: =Q$4*(1-EXP(-Q$5*$F26))^Q$6 -> 8.7423367 | R26: =R$4*(1-EXP(-R$5*$F26))^R$6 -> 12.551606 | S26: =S$8*(S$4*(1-EXP(-S$5*F26))^S$6) -> 29.581159 | T26: =T$8*(T$4*(1-EXP(-T$5*F26))^T$6) -> 32.428676 | U26: =(U$7/100*$H26)+((100-U$7)/100*$N26) -> 15.540643 | V26: =(V$7/100*$H26)+((100-V$7)/100*$O26) -> 15.228676 | W26: =$W$7/100*(($W$4*(1-EXP(-$W$5*F26))^$W$6)) + ((100-$W$7)/100*N26) -> 40.84896 | X26: =$X$7/100*(($X$4*(1-EXP(-$X$5*F26))^$X$6)) + ((100-$X$7)/100*O26) -> 21.845066 | Z26: =Z$4*(1-EXP(-Z$5*$F26))^Z$6 -> 7.050224 | AA26: =AA$4*(1-EXP(-AA$5*$F26))^AA$6 -> 26.952545 | AC26: 12 | AE26: =0.208*EXP(0.05039*AC26)*91.9*(EXP(-0.1386*$AD$14)*(1+($AD$14^5.31/(4.93*10^7)))) -> 9.0542048 | AG26: =AE26 -> 9.0542048 | AH26: =AH$4*(1-EXP(-AH$5*$AG26))^AH$6 -> 2.3388846 | AI26: =AI$4*(1-EXP(-AI$5*$AG26))^AI$6 -> 11.766426 | AJ26: =AJ$4*(1-EXP(-AJ$5*$AG26))^AJ$6 -> 3.9899741 | AK26: =AK$4*(1-EXP(-AK$5*$AG26))^AK$6 -> 12.372825 | AL26: =AL$4*(1-EXP(-AL$5*$AG26))^AL$6 -> 1.4389248 | AN26: =AN$4*(1-EXP(-AN$5*$AG26))^AN$6 -> 2.6202287 | AO26: =AO$4*(1-EXP(-AO$5*$AG26))^AO$6 -> 2.094875 | AP26: =IF(Settings!$I$6>69, 0.2*(AO26), 0) -> 0 | AQ26: =AQ$4*(1-EXP(-AQ$5*$AG26))^AQ$6 -> 11.464079 | AR26: =AR$4*(1-EXP(-AR$5*$AG26))^AR$6 -> 5.9930481 | AS26: =AS$4*(1-EXP(-AS$5*$AG26))^AS$6 -> 7.1213807 | AT26: =AT$8*(AT$4*(1-EXP(-AT$5*AG26))^AT$6) -> 21.183922 | AU26: =AU$8*(AU$4*(1-EXP(-AU$5*AG26))^AU$6) -> 21.811987 | AV26: =(AV$7/100*$AI26)+((100-AV$7)/100*$AO26) -> 10.799271 | AW26: =(AW$7/100*$AI26)+((100-AW$7)/100*$AP26) -> 10.589783 | AX26: =$W$7/100*(($W$4*(1-EXP(-$W$5*AG26))^$W$6)) + ((100-$W$7)/100*AO26) -> 30.597594 | AY26: =$X$7/100*(($X$4*(1-EXP(-$X$5*AG26))^$X$6)) + ((100-$X$7)/100*AP26) -> 15.626008 | BA26: =BA$4*(1-EXP(-BA$5*$AG26))^BA$6 -> 4.1061802 | BB26: =BB$4*(1-EXP(-BB$5*$AG26))^BB$6 -> 21.742081
A27: 24 | F27: 13 | G27: =G$4*(1-EXP(-G$5*$F27))^G$6 -> 7.1660708 | H27: =H$4*(1-EXP(-H$5*$F27))^H$6 -> 18.703203 | I27: =I$4*(1-EXP(-I$5*$F27))^I$6 -> 9.2767473 | J27: =J$4*(1-EXP(-J$5*$F27))^J$6 -> 19.609902 | K27: =K$4*(1-EXP(-K$5*$F27))^K$6 -> 3.7828851 | M27: =M$4*(1-EXP(-M$5*$F27))^M$6 -> 4.8215136 | N27: =N$4*(1-EXP(-N$5*$F27))^N$6 -> 3.4838261 | O27: =IF(Settings!$I$6>69, 0.2*(N27), 0) -> 0 | P27: =P$4*(1-EXP(-P$5*$F27))^P$6 -> 17.071858 | Q27: =Q$4*(1-EXP(-Q$5*$F27))^Q$6 -> 9.6832779 | R27: =R$4*(1-EXP(-R$5*$F27))^R$6 -> 14.524734 | S27: =S$8*(S$4*(1-EXP(-S$5*F27))^S$6) -> 32.423886 | T27: =T$8*(T$4*(1-EXP(-T$5*F27))^T$6) -> 36.144618 | U27: =(U$7/100*$H27)+((100-U$7)/100*$N27) -> 17.181265 | V27: =(V$7/100*$H27)+((100-V$7)/100*$O27) -> 16.832883 | W27: =$W$7/100*(($W$4*(1-EXP(-$W$5*F27))^$W$6)) + ((100-$W$7)/100*N27) -> 44.11914 | X27: =$X$7/100*(($X$4*(1-EXP(-$X$5*F27))^$X$6)) + ((100-$X$7)/100*O27) -> 23.927966 | Z27: =Z$4*(1-EXP(-Z$5*$F27))^Z$6 -> 8.1080827 | AA27: =AA$4*(1-EXP(-AA$5*$F27))^AA$6 -> 28.554856 | AC27: 13 | AE27: =0.208*EXP(0.05039*AC27)*91.9*(EXP(-0.1386*$AD$14)*(1+($AD$14^5.31/(4.93*10^7)))) -> 9.5221367 | AG27: =AE27 -> 9.5221367 | AH27: =AH$4*(1-EXP(-AH$5*$AG27))^AH$6 -> 2.7591511 | AI27: =AI$4*(1-EXP(-AI$5*$AG27))^AI$6 -> 12.570716 | AJ27: =AJ$4*(1-EXP(-AJ$5*$AG27))^AJ$6 -> 4.5083283 | AK27: =AK$4*(1-EXP(-AK$5*$AG27))^AK$6 -> 13.213916 | AL27: =AL$4*(1-EXP(-AL$5*$AG27))^AL$6 -> 1.6606612 | AN27: =AN$4*(1-EXP(-AN$5*$AG27))^AN$6 -> 2.8589163 | AO27: =AO$4*(1-EXP(-AO$5*$AG27))^AO$6 -> 2.2518334 | AP27: =IF(Settings!$I$6>69, 0.2*(AO27), 0) -> 0 | AQ27: =AQ$4*(1-EXP(-AQ$5*$AG27))^AQ$6 -> 12.135159 | AR27: =AR$4*(1-EXP(-AR$5*$AG27))^AR$6 -> 6.4238653 | AS27: =AS$4*(1-EXP(-AS$5*$AG27))^AS$6 -> 7.926175 | AT27: =AT$8*(AT$4*(1-EXP(-AT$5*AG27))^AT$6) -> 22.513632 | AU27: =AU$8*(AU$4*(1-EXP(-AU$5*AG27))^AU$6) -> 23.451973 | AV27: =(AV$7/100*$AI27)+((100-AV$7)/100*$AO27) -> 11.538828 | AW27: =(AW$7/100*$AI27)+((100-AW$7)/100*$AP27) -> 11.313645 | AX27: =$W$7/100*(($W$4*(1-EXP(-$W$5*AG27))^$W$6)) + ((100-$W$7)/100*AO27) -> 32.282087 | AY27: =$X$7/100*(($X$4*(1-EXP(-$X$5*AG27))^$X$6)) + ((100-$X$7)/100*AP27) -> 16.616521 | BA27: =BA$4*(1-EXP(-BA$5*$AG27))^BA$6 -> 4.546702 | BB27: =BB$4*(1-EXP(-BB$5*$AG27))^BB$6 -> 22.621549
A28: 25 | F28: 14 | G28: =G$4*(1-EXP(-G$5*$F28))^G$6 -> 8.8275138 | H28: =H$4*(1-EXP(-H$5*$F28))^H$6 -> 20.492224 | I28: =I$4*(1-EXP(-I$5*$F28))^I$6 -> 10.911843 | J28: =J$4*(1-EXP(-J$5*$F28))^J$6 -> 21.470213 | K28: =K$4*(1-EXP(-K$5*$F28))^K$6 -> 4.5224954 | M28: =M$4*(1-EXP(-M$5*$F28))^M$6 -> 5.4351712 | N28: =N$4*(1-EXP(-N$5*$F28))^N$6 -> 3.8539983 | O28: =IF(Settings!$I$6>69, 0.2*(N28), 0) -> 0 | P28: =P$4*(1-EXP(-P$5*$F28))^P$6 -> 18.462716 | Q28: =Q$4*(1-EXP(-Q$5*$F28))^Q$6 -> 10.620667 | R28: =R$4*(1-EXP(-R$5*$F28))^R$6 -> 16.520417 | S28: =S$8*(S$4*(1-EXP(-S$5*F28))^S$6) -> 35.249654 | T28: =T$8*(T$4*(1-EXP(-T$5*F28))^T$6) -> 39.888806 | U28: =(U$7/100*$H28)+((100-U$7)/100*$N28) -> 18.828401 | V28: =(V$7/100*$H28)+((100-V$7)/100*$O28) -> 18.443001 | W28: =$W$7/100*(($W$4*(1-EXP(-$W$5*F28))^$W$6)) + ((100-$W$7)/100*N28) -> 47.27424 | X28: =$X$7/100*(($X$4*(1-EXP(-$X$5*F28))^$X$6)) + ((100-$X$7)/100*O28) -> 25.985426 | Z28: =Z$4*(1-EXP(-Z$5*$F28))^Z$6 -> 9.1740261 | AA28: =AA$4*(1-EXP(-AA$5*$F28))^AA$6 -> 30.079479 | AC28: 14 | AE28: =0.208*EXP(0.05039*AC28)*91.9*(EXP(-0.1386*$AD$14)*(1+($AD$14^5.31/(4.93*10^7)))) -> 10.014252 | AG28: =AE28 -> 10.014252 | AH28: =AH$4*(1-EXP(-AH$5*$AG28))^AH$6 -> 3.2457918 | AI28: =AI$4*(1-EXP(-AI$5*$AG28))^AI$6 -> 13.42373 | AJ28: =AJ$4*(1-EXP(-AJ$5*$AG28))^AJ$6 -> 5.0869746 | AK28: =AK$4*(1-EXP(-AK$5*$AG28))^AK$6 -> 14.105382 | AL28: =AL$4*(1-EXP(-AL$5*$AG28))^AL$6 -> 1.9115222 | AN28: =AN$4*(1-EXP(-AN$5*$AG28))^AN$6 -> 3.117269 | AO28: =AO$4*(1-EXP(-AO$5*$AG28))^AO$6 -> 2.4195457 | AP28: =IF(Settings!$I$6>69, 0.2*(AO28), 0) -> 0 | AQ28: =AQ$4*(1-EXP(-AQ$5*$AG28))^AQ$6 -> 12.840091 | AR28: =AR$4*(1-EXP(-AR$5*$AG28))^AR$6 -> 6.8803124 | AS28: =AS$4*(1-EXP(-AS$5*$AG28))^AS$6 -> 8.8009459 | AT28: =AT$8*(AT$4*(1-EXP(-AT$5*AG28))^AT$6) -> 23.915487 | AU28: =AU$8*(AU$4*(1-EXP(-AU$5*AG28))^AU$6) -> 25.199138 | AV28: =(AV$7/100*$AI28)+((100-AV$7)/100*$AO28) -> 12.323311 | AW28: =(AW$7/100*$AI28)+((100-AW$7)/100*$AP28) -> 12.081357 | AX28: =$W$7/100*(($W$4*(1-EXP(-$W$5*AG28))^$W$6)) + ((100-$W$7)/100*AO28) -> 34.032456 | AY28: =$X$7/100*(($X$4*(1-EXP(-$X$5*AG28))^$X$6)) + ((100-$X$7)/100*AP28) -> 17.658682 | BA28: =BA$4*(1-EXP(-BA$5*$AG28))^BA$6 -> 5.0235278 | BB28: =BB$4*(1-EXP(-BB$5*$AG28))^BB$6 -> 23.524666
A29: 26 | F29: 15 | G29: =G$4*(1-EXP(-G$5*$F29))^G$6 -> 10.642844 | H29: =H$4*(1-EXP(-H$5*$F29))^H$6 -> 22.282958 | I29: =I$4*(1-EXP(-I$5*$F29))^I$6 -> 12.645792 | J29: =J$4*(1-EXP(-J$5*$F29))^J$6 -> 23.329815 | K29: =K$4*(1-EXP(-K$5*$F29))^K$6 -> 5.3054017 | M29: =M$4*(1-EXP(-M$5*$F29))^M$6 -> 6.0655036 | N29: =N$4*(1-EXP(-N$5*$F29))^N$6 -> 4.2290542 | O29: =IF(Settings!$I$6>69, 0.2*(N29), 0) -> 0 | P29: =P$4*(1-EXP(-P$5*$F29))^P$6 -> 19.836435 | Q29: =Q$4*(1-EXP(-Q$5*$F29))^Q$6 -> 11.551025 | R29: =R$4*(1-EXP(-R$5*$F29))^R$6 -> 18.516979 | S29: =S$8*(S$4*(1-EXP(-S$5*F29))^S$6) -> 38.052469 | T29: =T$8*(T$4*(1-EXP(-T$5*F29))^T$6) -> 43.647204 | U29: =(U$7/100*$H29)+((100-U$7)/100*$N29) -> 20.477567 | V29: =(V$7/100*$H29)+((100-V$7)/100*$O29) -> 20.054662 | W29: =$W$7/100*(($W$4*(1-EXP(-$W$5*F29))^$W$6)) + ((100-$W$7)/100*N29) -> 50.311982 | X29: =$X$7/100*(($X$4*(1-EXP(-$X$5*F29))^$X$6)) + ((100-$X$7)/100*O29) -> 28.01252 | Z29: =Z$4*(1-EXP(-Z$5*$F29))^Z$6 -> 10.237425 | AA29: =AA$4*(1-EXP(-AA$5*$F29))^AA$6 -> 31.53018 | AC29: 15 | AE29: =0.208*EXP(0.05039*AC29)*91.9*(EXP(-0.1386*$AD$14)*(1+($AD$14^5.31/(4.93*10^7)))) -> 10.5318 | AG29: =AE29 -> 10.5318 | AH29: =AH$4*(1-EXP(-AH$5*$AG29))^AH$6 -> 3.8071299 | AI29: =AI$4*(1-EXP(-AI$5*$AG29))^AI$6 -> 14.327641 | AJ29: =AJ$4*(1-EXP(-AJ$5*$AG29))^AJ$6 -> 5.7316063 | AK29: =AK$4*(1-EXP(-AK$5*$AG29))^AK$6 -> 15.049398 | AL29: =AL$4*(1-EXP(-AL$5*$AG29))^AL$6 -> 2.1942729 | AN29: =AN$4*(1-EXP(-AN$5*$AG29))^AN$6 -> 3.3966005 | AO29: =AO$4*(1-EXP(-AO$5*$AG29))^AO$6 -> 2.5986167 | AP29: =IF(Settings!$I$6>69, 0.2*(AO29), 0) -> 0 | AQ29: =AQ$4*(1-EXP(-AQ$5*$AG29))^AQ$6 -> 13.579963 | AR29: =AR$4*(1-EXP(-AR$5*$AG29))^AR$6 -> 7.3632313 | AS29: =AS$4*(1-EXP(-AS$5*$AG29))^AS$6 -> 9.7482474 | AT29: =AT$8*(AT$4*(1-EXP(-AT$5*AG29))^AT$6) -> 25.39206 | AU29: =AU$8*(AU$4*(1-EXP(-AU$5*AG29))^AU$6) -> 27.058371 | AV29: =(AV$7/100*$AI29)+((100-AV$7)/100*$AO29) -> 13.154739 | AW29: =(AW$7/100*$AI29)+((100-AW$7)/100*$AP29) -> 12.894877 | AX29: =$W$7/100*(($W$4*(1-EXP(-$W$5*AG29))^$W$6)) + ((100-$W$7)/100*AO29) -> 35.848307 | AY29: =$X$7/100*(($X$4*(1-EXP(-$X$5*AG29))^$X$6)) + ((100-$X$7)/100*AP29) -> 18.753855 | BA29: =BA$4*(1-EXP(-BA$5*$AG29))^BA$6 -> 5.5378658 | BB29: =BB$4*(1-EXP(-BB$5*$AG29))^BB$6 -> 24.450926
A30: 27 | F30: 16 | G30: =G$4*(1-EXP(-G$5*$F30))^G$6 -> 12.595817 | H30: =H$4*(1-EXP(-H$5*$F30))^H$6 -> 24.071193 | I30: =I$4*(1-EXP(-I$5*$F30))^I$6 -> 14.467712 | J30: =J$4*(1-EXP(-J$5*$F30))^J$6 -> 25.184345 | K30: =K$4*(1-EXP(-K$5*$F30))^K$6 -> 6.1233183 | M30: =M$4*(1-EXP(-M$5*$F30))^M$6 -> 6.7099322 | N30: =N$4*(1-EXP(-N$5*$F30))^N$6 -> 4.6079818 | O30: =IF(Settings!$I$6>69, 0.2*(N30), 0) -> 0 | P30: =P$4*(1-EXP(-P$5*$F30))^P$6 -> 21.191316 | Q30: =Q$4*(1-EXP(-Q$5*$F30))^Q$6 -> 12.471428 | R30: =R$4*(1-EXP(-R$5*$F30))^R$6 -> 20.495892 | S30: =S$8*(S$4*(1-EXP(-S$5*F30))^S$6) -> 40.827303 | T30: =T$8*(T$4*(1-EXP(-T$5*F30))^T$6) -> 47.40755 | U30: =(U$7/100*$H30)+((100-U$7)/100*$N30) -> 22.124872 | V30: =(V$7/100*$H30)+((100-V$7)/100*$O30) -> 21.664074 | W30: =$W$7/100*(($W$4*(1-EXP(-$W$5*F30))^$W$6)) + ((100-$W$7)/100*N30) -> 53.231514 | X30: =$X$7/100*(($X$4*(1-EXP(-$X$5*F30))^$X$6)) + ((100-$X$7)/100*O30) -> 30.005254 | Z30: =Z$4*(1-EXP(-Z$5*$F30))^Z$6 -> 11.289262 | AA30: =AA$4*(1-EXP(-AA$5*$F30))^AA$6 -> 32.910544 | AC30: 16 | AE30: =0.208*EXP(0.05039*AC30)*91.9*(EXP(-0.1386*$AD$14)*(1+($AD$14^5.31/(4.93*10^7)))) -> 11.076096 | AG30: =AE30 -> 11.076096 | AH30: =AH$4*(1-EXP(-AH$5*$AG30))^AH$6 -> 4.4520421 | AI30: =AI$4*(1-EXP(-AI$5*$AG30))^AI$6 -> 15.284625 | AJ30: =AJ$4*(1-EXP(-AJ$5*$AG30))^AJ$6 -> 6.4482117 | AK30: =AK$4*(1-EXP(-AK$5*$AG30))^AK$6 -> 16.048126 | AL30: =AL$4*(1-EXP(-AL$5*$AG30))^AL$6 -> 2.511725 | AN30: =AN$4*(1-EXP(-AN$5*$AG30))^AN$6 -> 3.6982662 | AO30: =AO$4*(1-EXP(-AO$5*$AG30))^AO$6 -> 2.7896684 | AP30: =IF(Settings!$I$6>69, 0.2*(AO30), 0) -> 0 | AQ30: =AQ$4*(1-EXP(-AQ$5*$AG30))^AQ$6 -> 14.355825 | AR30: =AR$4*(1-EXP(-AR$5*$AG30))^AR$6 -> 7.8734001 | AS30: =AS$4*(1-EXP(-AS$5*$AG30))^AS$6 -> 10.77012 | AT30: =AT$8*(AT$4*(1-EXP(-AT$5*AG30))^AT$6) -> 26.945853 | AU30: =AU$8*(AU$4*(1-EXP(-AU$5*AG30))^AU$6) -> 29.034499 | AV30: =(AV$7/100*$AI30)+((100-AV$7)/100*$AO30) -> 14.03513 | AW30: =(AW$7/100*$AI30)+((100-AW$7)/100*$AP30) -> 13.756163 | AX30: =$W$7/100*(($W$4*(1-EXP(-$W$5*AG30))^$W$6)) + ((100-$W$7)/100*AO30) -> 37.728862 | AY30: =$X$7/100*(($X$4*(1-EXP(-$X$5*AG30))^$X$6)) + ((100-$X$7)/100*AP30) -> 19.903275 | BA30: =BA$4*(1-EXP(-BA$5*$AG30))^BA$6 -> 6.0906658 | BB30: =BB$4*(1-EXP(-BB$5*$AG30))^BB$6 -> 25.399692
A31: 28 | F31: 17 | G31: =G$4*(1-EXP(-G$5*$F31))^G$6 -> 14.668863 | H31: =H$4*(1-EXP(-H$5*$F31))^H$6 -> 25.853269 | I31: =I$4*(1-EXP(-I$5*$F31))^I$6 -> 16.366773 | J31: =J$4*(1-EXP(-J$5*$F31))^J$6 -> 27.030025 | K31: =K$4*(1-EXP(-K$5*$F31))^K$6 -> 6.9681559 | M31: =M$4*(1-EXP(-M$5*$F31))^M$6 -> 7.3660789 | N31: =N$4*(1-EXP(-N$5*$F31))^N$6 -> 4.9898738 | O31: =IF(Settings!$I$6>69, 0.2*(N31), 0) -> 0 | P31: =P$4*(1-EXP(-P$5*$F31))^P$6 -> 22.525971 | Q31: =Q$4*(1-EXP(-Q$5*$F31))^Q$6 -> 13.379422 | R31: =R$4*(1-EXP(-R$5*$F31))^R$6 -> 22.441643 | S31: =S$8*(S$4*(1-EXP(-S$5*F31))^S$6) -> 43.569938 | T31: =T$8*(T$4*(1-EXP(-T$5*F31))^T$6) -> 51.159131 | U31: =(U$7/100*$H31)+((100-U$7)/100*$N31) -> 23.766929 | V31: =(V$7/100*$H31)+((100-V$7)/100*$O31) -> 23.267942 | W31: =$W$7/100*(($W$4*(1-EXP(-$W$5*F31))^$W$6)) + ((100-$W$7)/100*N31) -> 56.033103 | X31: =$X$7/100*(($X$4*(1-EXP(-$X$5*F31))^$X$6)) + ((100-$X$7)/100*O31) -> 31.960412 | Z31: =Z$4*(1-EXP(-Z$5*$F31))^Z$6 -> 12.322034 | AA31: =AA$4*(1-EXP(-AA$5*$F31))^AA$6 -> 34.223981 | AC31: 17 | AE31: =0.208*EXP(0.05039*AC31)*91.9*(EXP(-0.1386*$AD$14)*(1+($AD$14^5.31/(4.93*10^7)))) -> 11.648522 | AG31: =AE31 -> 11.648522 | AH31: =AH$4*(1-EXP(-AH$5*$AG31))^AH$6 -> 5.1898805 | AI31: =AI$4*(1-EXP(-AI$5*$AG31))^AI$6 -> 16.296837 | AJ31: =AJ$4*(1-EXP(-AJ$5*$AG31))^AJ$6 -> 7.2430417 | AK31: =AK$4*(1-EXP(-AK$5*$AG31))^AK$6 -> 17.103699 | AL31: =AL$4*(1-EXP(-AL$5*$AG31))^AL$6 -> 2.8666886 | AN31: =AN$4*(1-EXP(-AN$5*$AG31))^AN$6 -> 4.0236584 | AO31: =AO$4*(1-EXP(-AO$5*$AG31))^AO$6 -> 2.9933368 | AP31: =IF(Settings!$I$6>69, 0.2*(AO31), 0) -> 0 | AQ31: =AQ$4*(1-EXP(-AQ$5*$AG31))^AQ$6 -> 15.168675 | AR31: =AR$4*(1-EXP(-AR$5*$AG31))^AR$6 -> 8.4115185 | AS31: =AS$4*(1-EXP(-AS$5*$AG31))^AS$6 -> 11.86798 | AT31: =AT$8*(AT$4*(1-EXP(-AT$5*AG31))^AT$6) -> 28.579265 | AU31: =AU$8*(AU$4*(1-EXP(-AU$5*AG31))^AU$6) -> 31.132237 | AV31: =(AV$7/100*$AI31)+((100-AV$7)/100*$AO31) -> 14.966487 | AW31: =(AW$7/100*$AI31)+((100-AW$7)/100*$AP31) -> 14.667154 | AX31: =$W$7/100*(($W$4*(1-EXP(-$W$5*AG31))^$W$6)) + ((100-$W$7)/100*AO31) -> 39.672928 | AY31: =$X$7/100*(($X$4*(1-EXP(-$X$5*AG31))^$X$6)) + ((100-$X$7)/100*AP31) -> 21.108017 | BA31: =BA$4*(1-EXP(-BA$5*$AG31))^BA$6 -> 6.6825671 | BB31: =BB$4*(1-EXP(-BB$5*$AG31))^BB$6 -> 26.370184
A32: 29 | F32: 18 | G32: =G$4*(1-EXP(-G$5*$F32))^G$6 -> 16.843743 | H32: =H$4*(1-EXP(-H$5*$F32))^H$6 -> 27.625996 | I32: =I$4*(1-EXP(-I$5*$F32))^I$6 -> 18.332356 | J32: =J$4*(1-EXP(-J$5*$F32))^J$6 -> 28.863582 | K32: =K$4*(1-EXP(-K$5*$F32))^K$6 -> 7.8322037 | M32: =M$4*(1-EXP(-M$5*$F32))^M$6 -> 8.0317528 | N32: =N$4*(1-EXP(-N$5*$F32))^N$6 -> 5.3739141 | O32: =IF(Settings!$I$6>69, 0.2*(N32), 0) -> 0 | P32: =P$4*(1-EXP(-P$5*$F32))^P$6 -> 23.839281 | Q32: =Q$4*(1-EXP(-Q$5*$F32))^Q$6 -> 14.272967 | R32: =R$4*(1-EXP(-R$5*$F32))^R$6 -> 24.341537 | S32: =S$8*(S$4*(1-EXP(-S$5*F32))^S$6) -> 46.276843 | T32: =T$8*(T$4*(1-EXP(-T$5*F32))^T$6) -> 54.892594 | U32: =(U$7/100*$H32)+((100-U$7)/100*$N32) -> 25.400788 | V32: =(V$7/100*$H32)+((100-V$7)/100*$O32) -> 24.863397 | W32: =$W$7/100*(($W$4*(1-EXP(-$W$5*F32))^$W$6)) + ((100-$W$7)/100*N32) -> 58.717893 | X32: =$X$7/100*(($X$4*(1-EXP(-$X$5*F32))^$X$6)) + ((100-$X$7)/100*O32) -> 33.875437 | Z32: =Z$4*(1-EXP(-Z$5*$F32))^Z$6 -> 13.329634 | AA32: =AA$4*(1-EXP(-AA$5*$F32))^AA$6 -> 35.473736 | AC32: 18 | AE32: =0.208*EXP(0.05039*AC32)*91.9*(EXP(-0.1386*$AD$14)*(1+($AD$14^5.31/(4.93*10^7)))) -> 12.250531 | AG32: =AE32 -> 12.250531 | AH32: =AH$4*(1-EXP(-AH$5*$AG32))^AH$6 -> 6.0303643 | AI32: =AI$4*(1-EXP(-AI$5*$AG32))^AI$6 -> 17.3664 | AJ32: =AJ$4*(1-EXP(-AJ$5*$AG32))^AJ$6 -> 8.122567 | AK32: =AK$4*(1-EXP(-AK$5*$AG32))^AK$6 -> 18.218198 | AL32: =AL$4*(1-EXP(-AL$5*$AG32))^AL$6 -> 3.261914 | AN32: =AN$4*(1-EXP(-AN$5*$AG32))^AN$6 -> 4.3741977 | AO32: =AO$4*(1-EXP(-AO$5*$AG32))^AO$6 -> 3.21027 | AP32: =IF(Settings!$I$6>69, 0.2*(AO32), 0) -> 0 | AQ32: =AQ$4*(1-EXP(-AQ$5*$AG32))^AQ$6 -> 16.019451 | AR32: =AR$4*(1-EXP(-AR$5*$AG32))^AR$6 -> 8.9781912 | AS32: =AS$4*(1-EXP(-AS$5*$AG32))^AS$6 -> 13.042512 | AT32: =AT$8*(AT$4*(1-EXP(-AT$5*AG32))^AT$6) -> 30.294572 | AU32: =AU$8*(AU$4*(1-EXP(-AU$5*AG32))^AU$6) -> 33.356139 | AV32: =(AV$7/100*$AI32)+((100-AV$7)/100*$AO32) -> 15.950787 | AW32: =(AW$7/100*$AI32)+((100-AW$7)/100*$AP32) -> 15.62976 | AX32: =$W$7/100*(($W$4*(1-EXP(-$W$5*AG32))^$W$6)) + ((100-$W$7)/100*AO32) -> 41.678856 | AY32: =$X$7/100*(($X$4*(1-EXP(-$X$5*AG32))^$X$6)) + ((100-$X$7)/100*AP32) -> 22.368975 | BA32: =BA$4*(1-EXP(-BA$5*$AG32))^BA$6 -> 7.3138469 | BB32: =BB$4*(1-EXP(-BB$5*$AG32))^BB$6 -> 27.36148
A33: 30 | F33: 19 | G33: =G$4*(1-EXP(-G$5*$F33))^G$6 -> 19.1021 | H33: =H$4*(1-EXP(-H$5*$F33))^H$6 -> 29.386599 | I33: =I$4*(1-EXP(-I$5*$F33))^I$6 -> 20.35417 | J33: =J$4*(1-EXP(-J$5*$F33))^J$6 -> 30.682182 | K33: =K$4*(1-EXP(-K$5*$F33))^K$6 -> 8.7082587 | M33: =M$4*(1-EXP(-M$5*$F33))^M$6 -> 8.7049374 | N33: =N$4*(1-EXP(-N$5*$F33))^N$6 -> 5.7593676 | O33: =IF(Settings!$I$6>69, 0.2*(N33), 0) -> 0 | P33: =P$4*(1-EXP(-P$5*$F33))^P$6 -> 25.130345 | Q33: =Q$4*(1-EXP(-Q$5*$F33))^Q$6 -> 15.150375 | R33: =R$4*(1-EXP(-R$5*$F33))^R$6 -> 26.185443 | S33: =S$8*(S$4*(1-EXP(-S$5*F33))^S$6) -> 48.945071 | T33: =T$8*(T$4*(1-EXP(-T$5*F33))^T$6) -> 58.599783 | U33: =(U$7/100*$H33)+((100-U$7)/100*$N33) -> 27.023876 | V33: =(V$7/100*$H33)+((100-V$7)/100*$O33) -> 26.447939 | W33: =$W$7/100*(($W$4*(1-EXP(-$W$5*F33))^$W$6)) + ((100-$W$7)/100*N33) -> 61.28771 | X33: =$X$7/100*(($X$4*(1-EXP(-$X$5*F33))^$X$6)) + ((100-$X$7)/100*O33) -> 35.748327 | Z33: =Z$4*(1-EXP(-Z$5*$F33))^Z$6 -> 14.307208 | AA33: =AA$4*(1-EXP(-AA$5*$F33))^AA$6 -> 36.662895 | AC33: 19 | AE33: =0.208*EXP(0.05039*AC33)*91.9*(EXP(-0.1386*$AD$14)*(1+($AD$14^5.31/(4.93*10^7)))) -> 12.883653 | AG33: =AE33 -> 12.883653 | AH33: =AH$4*(1-EXP(-AH$5*$AG33))^AH$6 -> 6.9834349 | AI33: =AI$4*(1-EXP(-AI$5*$AG33))^AI$6 -> 18.495381 | AJ33: =AJ$4*(1-EXP(-AJ$5*$AG33))^AJ$6 -> 9.093423 | AK33: =AK$4*(1-EXP(-AK$5*$AG33))^AK$6 -> 19.393637 | AL33: =AL$4*(1-EXP(-AL$5*$AG33))^AL$6 -> 3.7000248 | AN33: =AN$4*(1-EXP(-AN$5*$AG33))^AN$6 -> 4.7513248 | AO33: =AO$4*(1-EXP(-AO$5*$AG33))^AO$6 -> 3.4411252 | AP33: =IF(Settings!$I$6>69, 0.2*(AO33), 0) -> 0 | AQ33: =AQ$4*(1-EXP(-AQ$5*$AG33))^AQ$6 -> 16.909013 | AR33: =AR$4*(1-EXP(-AR$5*$AG33))^AR$6 -> 9.5739118 | AS33: =AS$4*(1-EXP(-AS$5*$AG33))^AS$6 -> 14.293559 | AT33: =AT$8*(AT$4*(1-EXP(-AT$5*AG33))^AT$6) -> 32.093889 | AU33: =AU$8*(AU$4*(1-EXP(-AU$5*AG33))^AU$6) -> 35.710538 | AV33: =(AV$7/100*$AI33)+((100-AV$7)/100*$AO33) -> 16.989956 | AW33: =(AW$7/100*$AI33)+((100-AW$7)/100*$AP33) -> 16.645843 | AX33: =$W$7/100*(($W$4*(1-EXP(-$W$5*AG33))^$W$6)) + ((100-$W$7)/100*AO33) -> 43.744518 | AY33: =$X$7/100*(($X$4*(1-EXP(-$X$5*AG33))^$X$6)) + ((100-$X$7)/100*AP33) -> 23.686829 | BA33: =BA$4*(1-EXP(-BA$5*$AG33))^BA$6 -> 7.9843679 | BB33: =BB$4*(1-EXP(-BB$5*$AG33))^BB$6 -> 28.372499
A34: 31 | F34: 20 | G34: =G$4*(1-EXP(-G$5*$F34))^G$6 -> 21.42591 | H34: =H$4*(1-EXP(-H$5*$F34))^H$6 -> 31.132659 | I34: =I$4*(1-EXP(-I$5*$F34))^I$6 -> 22.422346 | J34: =J$4*(1-EXP(-J$5*$F34))^J$6 -> 32.483371 | K34: =K$4*(1-EXP(-K$5*$F34))^K$6 -> 9.5897107 | M34: =M$4*(1-EXP(-M$5*$F34))^M$6 -> 9.3837793 | N34: =N$4*(1-EXP(-N$5*$F34))^N$6 -> 6.1455708 | O34: =IF(Settings!$I$6>69, 0.2*(N34), 0) -> 0 | P34: =P$4*(1-EXP(-P$5*$F34))^P$6 -> 26.398454 | Q34: =Q$4*(1-EXP(-Q$5*$F34))^Q$6 -> 16.010267 | R34: =R$4*(1-EXP(-R$5*$F34))^R$6 -> 27.96552 | S34: =S$8*(S$4*(1-EXP(-S$5*F34))^S$6) -> 51.572178 | T34: =T$8*(T$4*(1-EXP(-T$5*F34))^T$6) -> 62.273605 | U34: =(U$7/100*$H34)+((100-U$7)/100*$N34) -> 28.63395 | V34: =(V$7/100*$H34)+((100-V$7)/100*$O34) -> 28.019393 | W34: =$W$7/100*(($W$4*(1-EXP(-$W$5*F34))^$W$6)) + ((100-$W$7)/100*N34) -> 63.74491 | X34: =$X$7/100*(($X$4*(1-EXP(-$X$5*F34))^$X$6)) + ((100-$X$7)/100*O34) -> 37.577552 | Z34: =Z$4*(1-EXP(-Z$5*$F34))^Z$6 -> 15.251019 | AA34: =AA$4*(1-EXP(-AA$5*$F34))^AA$6 -> 37.794399 | AC34: 20 | AE34: =0.208*EXP(0.05039*AC34)*91.9*(EXP(-0.1386*$AD$14)*(1+($AD$14^5.31/(4.93*10^7)))) -> 13.549495 | AG34: =AE34 -> 13.549495 | AH34: =AH$4*(1-EXP(-AH$5*$AG34))^AH$6 -> 8.059073 | AI34: =AI$4*(1-EXP(-AI$5*$AG34))^AI$6 -> 19.685774 | AJ34: =AJ$4*(1-EXP(-AJ$5*$AG34))^AJ$6 -> 10.162339 | AK34: =AK$4*(1-EXP(-AK$5*$AG34))^AK$6 -> 20.631935 | AL34: =AL$4*(1-EXP(-AL$5*$AG34))^AL$6 -> 4.1834409 | AN34: =AN$4*(1-EXP(-AN$5*$AG34))^AN$6 -> 5.1564894 | AO34: =AO$4*(1-EXP(-AO$5*$AG34))^AO$6 -> 3.6865646 | AP34: =IF(Settings!$I$6>69, 0.2*(AO34), 0) -> 0 | AQ34: =AQ$4*(1-EXP(-AQ$5*$AG34))^AQ$6 -> 17.838134 | AR34: =AR$4*(1-EXP(-AR$5*$AG34))^AR$6 -> 10.199044 | AS34: =AS$4*(1-EXP(-AS$5*$AG34))^AS$6 -> 15.620019 | AT34: =AT$8*(AT$4*(1-EXP(-AT$5*AG34))^AT$6) -> 33.979138 | AU34: =AU$8*(AU$4*(1-EXP(-AU$5*AG34))^AU$6) -> 38.199475 | AV34: =(AV$7/100*$AI34)+((100-AV$7)/100*$AO34) -> 18.085853 | AW34: =(AW$7/100*$AI34)+((100-AW$7)/100*$AP34) -> 17.717197 | AX34: =$W$7/100*(($W$4*(1-EXP(-$W$5*AG34))^$W$6)) + ((100-$W$7)/100*AO34) -> 45.867278 | AY34: =$X$7/100*(($X$4*(1-EXP(-$X$5*AG34))^$X$6)) + ((100-$X$7)/100*AP34) -> 25.062017 | BA34: =BA$4*(1-EXP(-BA$5*$AG34))^BA$6 -> 8.6935301 | BB34: =BB$4*(1-EXP(-BB$5*$AG34))^BB$6 -> 29.401999
A35: 32 | F35: 21 | G35: =G$4*(1-EXP(-G$5*$F35))^G$6 -> 23.797828 | H35: =H$4*(1-EXP(-H$5*$F35))^H$6 -> 32.862072 | I35: =I$4*(1-EXP(-I$5*$F35))^I$6 -> 24.527498 | J35: =J$4*(1-EXP(-J$5*$F35))^J$6 -> 34.26503 | K35: =K$4*(1-EXP(-K$5*$F35))^K$6 -> 10.47059 | M35: =M$4*(1-EXP(-M$5*$F35))^M$6 -> 10.066577 | N35: =N$4*(1-EXP(-N$5*$F35))^N$6 -> 6.5319241 | O35: =IF(Settings!$I$6>69, 0.2*(N35), 0) -> 0 | P35: =P$4*(1-EXP(-P$5*$F35))^P$6 -> 27.643058 | Q35: =Q$4*(1-EXP(-Q$5*$F35))^Q$6 -> 16.85153 | R35: =R$4*(1-EXP(-R$5*$F35))^R$6 -> 29.675944 | S35: =S$8*(S$4*(1-EXP(-S$5*F35))^S$6) -> 54.156155 | T35: =T$8*(T$4*(1-EXP(-T$5*F35))^T$6) -> 65.907904 | U35: =(U$7/100*$H35)+((100-U$7)/100*$N35) -> 30.229057 | V35: =(V$7/100*$H35)+((100-V$7)/100*$O35) -> 29.575865 | W35: =$W$7/100*(($W$4*(1-EXP(-$W$5*F35))^$W$6)) + ((100-$W$7)/100*N35) -> 66.092252 | X35: =$X$7/100*(($X$4*(1-EXP(-$X$5*F35))^$X$6)) + ((100-$X$7)/100*O35) -> 39.361985 | Z35: =Z$4*(1-EXP(-Z$5*$F35))^Z$6 -> 16.158303 | AA35: =AA$4*(1-EXP(-AA$5*$F35))^AA$6 -> 38.871041 | AC35: 21 | AE35: =0.208*EXP(0.05039*AC35)*91.9*(EXP(-0.1386*$AD$14)*(1+($AD$14^5.31/(4.93*10^7)))) -> 14.249749 | AG35: =AE35 -> 14.249749 | AH35: =AH$4*(1-EXP(-AH$5*$AG35))^AH$6 -> 9.2670772 | AI35: =AI$4*(1-EXP(-AI$5*$AG35))^AI$6 -> 20.939471 | AJ35: =AJ$4*(1-EXP(-AJ$5*$AG35))^AJ$6 -> 11.336057 | AK35: =AK$4*(1-EXP(-AK$5*$AG35))^AK$6 -> 21.934893 | AL35: =AL$4*(1-EXP(-AL$5*$AG35))^AL$6 -> 4.7142935 | AN35: =AN$4*(1-EXP(-AN$5*$AG35))^AN$6 -> 5.5911378 | AO35: =AO$4*(1-EXP(-AO$5*$AG35))^AO$6 -> 3.9472519 | AP35: =IF(Settings!$I$6>69, 0.2*(AO35), 0) -> 0 | AQ35: =AQ$4*(1-EXP(-AQ$5*$AG35))^AQ$6 -> 18.807478 | AR35: =AR$4*(1-EXP(-AR$5*$AG35))^AR$6 -> 10.853804 | AS35: =AS$4*(1-EXP(-AS$5*$AG35))^AS$6 -> 17.019749 | AT35: =AT$8*(AT$4*(1-EXP(-AT$5*AG35))^AT$6) -> 35.952015 | AU35: =AU$8*(AU$4*(1-EXP(-AU$5*AG35))^AU$6) -> 40.826637 | AV35: =(AV$7/100*$AI35)+((100-AV$7)/100*$AO35) -> 19.240249 | AW35: =(AW$7/100*$AI35)+((100-AW$7)/100*$AP35) -> 18.845524 | AX35: =$W$7/100*(($W$4*(1-EXP(-$W$5*AG35))^$W$6)) + ((100-$W$7)/100*AO35) -> 48.043962 | AY35: =$X$7/100*(($X$4*(1-EXP(-$X$5*AG35))^$X$6)) + ((100-$X$7)/100*AP35) -> 26.494705 | BA35: =BA$4*(1-EXP(-BA$5*$AG35))^BA$6 -> 9.4402258 | BB35: =BB$4*(1-EXP(-BB$5*$AG35))^BB$6 -> 30.448572
A36: 33 | F36: 22 | G36: =G$4*(1-EXP(-G$5*$F36))^G$6 -> 26.201454 | H36: =H$4*(1-EXP(-H$5*$F36))^H$6 -> 34.573013 | I36: =I$4*(1-EXP(-I$5*$F36))^I$6 -> 26.660775 | J36: =J$4*(1-EXP(-J$5*$F36))^J$6 -> 36.025333 | K36: =K$4*(1-EXP(-K$5*$F36))^K$6 -> 11.345589 | M36: =M$4*(1-EXP(-M$5*$F36))^M$6 -> 10.751771 | N36: =N$4*(1-EXP(-N$5*$F36))^N$6 -> 6.9178856 | O36: =IF(Settings!$I$6>69, 0.2*(N36), 0) -> 0 | P36: =P$4*(1-EXP(-P$5*$F36))^P$6 -> 28.863746 | Q36: =Q$4*(1-EXP(-Q$5*$F36))^Q$6 -> 17.673284 | R36: =R$4*(1-EXP(-R$5*$F36))^R$6 -> 31.312637 | S36: =S$8*(S$4*(1-EXP(-S$5*F36))^S$6) -> 56.695367 | T36: =T$8*(T$4*(1-EXP(-T$5*F36))^T$6) -> 69.497361 | U36: =(U$7/100*$H36)+((100-U$7)/100*$N36) -> 31.8075 | V36: =(V$7/100*$H36)+((100-V$7)/100*$O36) -> 31.115712 | W36: =$W$7/100*(($W$4*(1-EXP(-$W$5*F36))^$W$6)) + ((100-$W$7)/100*N36) -> 68.332796 | X36: =$X$7/100*(($X$4*(1-EXP(-$X$5*F36))^$X$6)) + ((100-$X$7)/100*O36) -> 41.100841 | Z36: =Z$4*(1-EXP(-Z$5*$F36))^Z$6 -> 17.027138 | AA36: =AA$4*(1-EXP(-AA$5*$F36))^AA$6 -> 39.895482 | AC36: 22 | AE36: =0.208*EXP(0.05039*AC36)*91.9*(EXP(-0.1386*$AD$14)*(1+($AD$14^5.31/(4.93*10^7)))) -> 14.986192 | AG36: =AE36 -> 14.986192 | AH36: =AH$4*(1-EXP(-AH$5*$AG36))^AH$6 -> 10.616802 | AI36: =AI$4*(1-EXP(-AI$5*$AG36))^AI$6 -> 22.25824 | AJ36: =AJ$4*(1-EXP(-AJ$5*$AG36))^AJ$6 -> 12.621226 | AK36: =AK$4*(1-EXP(-AK$5*$AG36))^AK$6 -> 23.304164 | AL36: =AL$4*(1-EXP(-AL$5*$AG36))^AL$6 -> 5.2943343 | AN36: =AN$4*(1-EXP(-AN$5*$AG36))^AN$6 -> 6.0566985 | AO36: =AO$4*(1-EXP(-AO$5*$AG36))^AO$6 -> 4.223847 | AP36: =IF(Settings!$I$6>69, 0.2*(AO36), 0) -> 0 | AQ36: =AQ$4*(1-EXP(-AQ$5*$AG36))^AQ$6 -> 19.817592 | AR36: =AR$4*(1-EXP(-AR$5*$AG36))^AR$6 -> 11.538241 | AS36: =AS$4*(1-EXP(-AS$5*$AG36))^AS$6 -> 18.489493 | AT36: =AT$8*(AT$4*(1-EXP(-AT$5*AG36))^AT$6) -> 38.013949 | AU36: =AU$8*(AU$4*(1-EXP(-AU$5*AG36))^AU$6) -> 43.59527 | AV36: =(AV$7/100*$AI36)+((100-AV$7)/100*$AO36) -> 20.4548 | AW36: =(AW$7/100*$AI36)+((100-AW$7)/100*$AP36) -> 20.032416 | AX36: =$W$7/100*(($W$4*(1-EXP(-$W$5*AG36))^$W$6)) + ((100-$W$7)/100*AO36) -> 50.270842 | AY36: =$X$7/100*(($X$4*(1-EXP(-$X$5*AG36))^$X$6)) + ((100-$X$7)/100*AP36) -> 27.984756 | BA36: =BA$4*(1-EXP(-BA$5*$AG36))^BA$6 -> 10.222802 | BB36: =BB$4*(1-EXP(-BB$5*$AG36))^BB$6 -> 31.510637
... A43: 40 | F43: 29 | G43: =G$4*(1-EXP(-G$5*$F43))^G$6 -> 42.795834 | H43: =H$4*(1-EXP(-H$5*$F43))^H$6 -> 45.924256 | I43: =I$4*(1-EXP(-I$5*$F43))^I$6 -> 41.757101 | J43: =J$4*(1-EXP(-J$5*$F43))^J$6 -> 47.643844 | K43: =K$4*(1-EXP(-K$5*$F43))^K$6 -> 16.991549 | M43: =M$4*(1-EXP(-M$5*$F43))^M$6 -> 15.509801 | N43: =N$4*(1-EXP(-N$5*$F43))^N$6 -> 9.5728427 | O43: =IF(Settings!$I$6>69, 0.2*(N43), 0) -> 0 | P43: =P$4*(1-EXP(-P$5*$F43))^P$6 -> 36.72561 | Q43: =Q$4*(1-EXP(-Q$5*$F43))^Q$6 -> 22.841764 | R43: =R$4*(1-EXP(-R$5*$F43))^R$6 -> 40.622389 | S43: =S$8*(S$4*(1-EXP(-S$5*F43))^S$6) -> 73.138209 | T43: =T$8*(T$4*(1-EXP(-T$5*F43))^T$6) -> 93.059198 | U43: =(U$7/100*$H43)+((100-U$7)/100*$N43) -> 42.289115 | V43: =(V$7/100*$H43)+((100-V$7)/100*$O43) -> 41.331831 | W43: =$W$7/100*(($W$4*(1-EXP(-$W$5*F43))^$W$6)) + ((100-$W$7)/100*N43) -> 81.314897 | X43: =$X$7/100*(($X$4*(1-EXP(-$X$5*F43))^$X$6)) + ((100-$X$7)/100*O43) -> 51.982786 | Z43: =Z$4*(1-EXP(-Z$5*$F43))^Z$6 -> 21.996097 | AA43: =AA$4*(1-EXP(-AA$5*$F43))^AA$6 -> 45.802803 | AC43: 29 | AE43: =0.208*EXP(0.05039*AC43)*91.9*(EXP(-0.1386*$AD$14)*(1+($AD$14^5.31/(4.93*10^7)))) -> 21.324556 | AG43: =AE43 -> 21.324556 | AH43: =AH$4*(1-EXP(-AH$5*$AG43))^AH$6 -> 24.575226 | AI43: =AI$4*(1-EXP(-AI$5*$AG43))^AI$6 -> 33.419474 | AJ43: =AJ$4*(1-EXP(-AJ$5*$AG43))^AJ$6 -> 25.217196 | AK43: =AK$4*(1-EXP(-AK$5*$AG43))^AK$6 -> 34.838768 | AL43: =AL$4*(1-EXP(-AL$5*$AG43))^AL$6 -> 10.755459 | AN43: =AN$4*(1-EXP(-AN$5*$AG43))^AN$6 -> 10.28877 | AO43: =AO$4*(1-EXP(-AO$5*$AG43))^AO$6 -> 6.6572578 | AP43: =IF(Settings!$I$6>69, 0.2*(AO43), 0) -> 0 | AQ43: =AQ$4*(1-EXP(-AQ$5*$AG43))^AQ$6 -> 28.041877 | AR43: =AR$4*(1-EXP(-AR$5*$AG43))^AR$6 -> 17.12041 | AS43: =AS$4*(1-EXP(-AS$5*$AG43))^AS$6 -> 30.215377 | AT43: =AT$8*(AT$4*(1-EXP(-AT$5*AG43))^AT$6) -> 54.985247 | AU43: =AU$8*(AU$4*(1-EXP(-AU$5*AG43))^AU$6) -> 67.078034 | AV43: =(AV$7/100*$AI43)+((100-AV$7)/100*$AO43) -> 30.743252 | AW43: =(AW$7/100*$AI43)+((100-AW$7)/100*$AP43) -> 30.077527 | AX43: =$W$7/100*(($W$4*(1-EXP(-$W$5*AG43))^$W$6)) + ((100-$W$7)/100*AO43) -> 66.830985 | AY43: =$X$7/100*(($X$4*(1-EXP(-$X$5*AG43))^$X$6)) + ((100-$X$7)/100*AP43) -> 39.931366 | BA43: =BA$4*(1-EXP(-BA$5*$AG43))^BA$6 -> 16.444575 | BB43: =BB$4*(1-EXP(-BB$5*$AG43))^BB$6 -> 39.209126
F44: 30 | G44: =G$4*(1-EXP(-G$5*$F44))^G$6 -> 45.012871 | H44: =H$4*(1-EXP(-H$5*$F44))^H$6 -> 47.446129 | I44: =I$4*(1-EXP(-I$5*$F44))^I$6 -> 43.864855 | J44: =J$4*(1-EXP(-J$5*$F44))^J$6 -> 49.193313 | K44: =K$4*(1-EXP(-K$5*$F44))^K$6 -> 17.701214 | M44: =M$4*(1-EXP(-M$5*$F44))^M$6 -> 16.172114 | N44: =N$4*(1-EXP(-N$5*$F44))^N$6 -> 9.9414553 | O44: =IF(Settings!$I$6>69, 0.2*(N44), 0) -> 0 | P44: =P$4*(1-EXP(-P$5*$F44))^P$6 -> 37.75149 | Q44: =Q$4*(1-EXP(-Q$5*$F44))^Q$6 -> 23.495199 | R44: =R$4*(1-EXP(-R$5*$F44))^R$6 -> 41.658485 | S44: =S$8*(S$4*(1-EXP(-S$5*F44))^S$6) -> 75.292108 | T44: =T$8*(T$4*(1-EXP(-T$5*F44))^T$6) -> 96.173054 | U44: =(U$7/100*$H44)+((100-U$7)/100*$N44) -> 43.695661 | V44: =(V$7/100*$H44)+((100-V$7)/100*$O44) -> 42.701516 | W44: =$W$7/100*(($W$4*(1-EXP(-$W$5*F44))^$W$6)) + ((100-$W$7)/100*N44) -> 82.82619 | X44: =$X$7/100*(($X$4*(1-EXP(-$X$5*F44))^$X$6)) + ((100-$X$7)/100*O44) -> 53.356363 | Z44: =Z$4*(1-EXP(-Z$5*$F44))^Z$6 -> 22.553664 | AA44: =AA$4*(1-EXP(-AA$5*$F44))^AA$6 -> 46.491156 | AC44: 30 | AE44: =0.208*EXP(0.05039*AC44)*91.9*(EXP(-0.1386*$AD$14)*(1+($AD$14^5.31/(4.93*10^7)))) -> 22.426634 | AG44: =AE44 -> 22.426634 | AH44: =AH$4*(1-EXP(-AH$5*$AG44))^AH$6 -> 27.232772 | AI44: =AI$4*(1-EXP(-AI$5*$AG44))^AI$6 -> 35.29694 | AJ44: =AJ$4*(1-EXP(-AJ$5*$AG44))^AJ$6 -> 27.5774 | AK44: =AK$4*(1-EXP(-AK$5*$AG44))^AK$6 -> 36.769445 | AL44: =AL$4*(1-EXP(-AL$5*$AG44))^AL$6 -> 11.715937 | AN44: =AN$4*(1-EXP(-AN$5*$AG44))^AN$6 -> 11.044472 | AO44: =AO$4*(1-EXP(-AO$5*$AG44))^AO$6 -> 7.0823082 | AP44: =IF(Settings!$I$6>69, 0.2*(AO44), 0) -> 0 | AQ44: =AQ$4*(1-EXP(-AQ$5*$AG44))^AQ$6 -> 29.377179 | AR44: =AR$4*(1-EXP(-AR$5*$AG44))^AR$6 -> 18.017761 | AS44: =AS$4*(1-EXP(-AS$5*$AG44))^AS$6 -> 31.987785 | AT44: =AT$8*(AT$4*(1-EXP(-AT$5*AG44))^AT$6) -> 57.764725 | AU44: =AU$8*(AU$4*(1-EXP(-AU$5*AG44))^AU$6) -> 71.013949 | AV44: =(AV$7/100*$AI44)+((100-AV$7)/100*$AO44) -> 32.475477 | AW44: =(AW$7/100*$AI44)+((100-AW$7)/100*$AP44) -> 31.767246 | AX44: =$W$7/100*(($W$4*(1-EXP(-$W$5*AG44))^$W$6)) + ((100-$W$7)/100*AO44) -> 69.256988 | AY44: =$X$7/100*(($X$4*(1-EXP(-$X$5*AG44))^$X$6)) + ((100-$X$7)/100*AP44) -> 41.828695 | BA44: =BA$4*(1-EXP(-BA$5*$AG44))^BA$6 -> 17.385794 | BB44: =BB$4*(1-EXP(-BB$5*$AG44))^BB$6 -> 40.317285
F45: 31 | G45: =G$4*(1-EXP(-G$5*$F45))^G$6 -> 47.170715 | H45: =H$4*(1-EXP(-H$5*$F45))^H$6 -> 48.941454 | I45: =I$4*(1-EXP(-I$5*$F45))^I$6 -> 45.946338 | J45: =J$4*(1-EXP(-J$5*$F45))^J$6 -> 50.713779 | K45: =K$4*(1-EXP(-K$5*$F45))^K$6 -> 18.38292 | M45: =M$4*(1-EXP(-M$5*$F45))^M$6 -> 16.827761 | N45: =N$4*(1-EXP(-N$5*$F45))^N$6 -> 10.306636 | O45: =IF(Settings!$I$6>69, 0.2*(N45), 0) -> 0 | P45: =P$4*(1-EXP(-P$5*$F45))^P$6 -> 38.753543 | Q45: =Q$4*(1-EXP(-Q$5*$F45))^Q$6 -> 24.127722 | R45: =R$4*(1-EXP(-R$5*$F45))^R$6 -> 42.628079 | S45: =S$8*(S$4*(1-EXP(-S$5*F45))^S$6) -> 77.39721 | T45: =T$8*(T$4*(1-EXP(-T$5*F45))^T$6) -> 99.219744 | U45: =(U$7/100*$H45)+((100-U$7)/100*$N45) -> 45.077972 | V45: =(V$7/100*$H45)+((100-V$7)/100*$O45) -> 44.047309 | W45: =$W$7/100*(($W$4*(1-EXP(-$W$5*F45))^$W$6)) + ((100-$W$7)/100*N45) -> 84.262175 | X45: =$X$7/100*(($X$4*(1-EXP(-$X$5*F45))^$X$6)) + ((100-$X$7)/100*O45) -> 54.686443 | Z45: =Z$4*(1-EXP(-Z$5*$F45))^Z$6 -> 23.076655 | AA45: =AA$4*(1-EXP(-AA$5*$F45))^AA$6 -> 47.146135 | AC45: 31 | AE45: =0.208*EXP(0.05039*AC45)*91.9*(EXP(-0.1386*$AD$14)*(1+($AD$14^5.31/(4.93*10^7)))) -> 23.585669 | AG45: =AE45 -> 23.585669 | AH45: =AH$4*(1-EXP(-AH$5*$AG45))^AH$6 -> 30.040857 | AI45: =AI$4*(1-EXP(-AI$5*$AG45))^AI$6 -> 37.244337 | AJ45: =AJ$4*(1-EXP(-AJ$5*$AG45))^AJ$6 -> 30.080987 | AK45: =AK$4*(1-EXP(-AK$5*$AG45))^AK$6 -> 38.769056 | AL45: =AL$4*(1-EXP(-AL$5*$AG45))^AL$6 -> 12.709831 | AN45: =AN$4*(1-EXP(-AN$5*$AG45))^AN$6 -> 11.839721 | AO45: =AO$4*(1-EXP(-AO$5*$AG45))^AO$6 -> 7.5279049 | AP45: =IF(Settings!$I$6>69, 0.2*(AO45), 0) -> 0 | AQ45: =AQ$4*(1-EXP(-AQ$5*$AG45))^AQ$6 -> 30.749645 | AR45: =AR$4*(1-EXP(-AR$5*$AG45))^AR$6 -> 18.93472 | AS45: =AS$4*(1-EXP(-AS$5*$AG45))^AS$6 -> 33.750872 | AT45: =AT$8*(AT$4*(1-EXP(-AT$5*AG45))^AT$6) -> 60.626844 | AU45: =AU$8*(AU$4*(1-EXP(-AU$5*AG45))^AU$6) -> 75.086158 | AV45: =(AV$7/100*$AI45)+((100-AV$7)/100*$AO45) -> 34.272694 | AW45: =(AW$7/100*$AI45)+((100-AW$7)/100*$AP45) -> 33.519903 | AX45: =$W$7/100*(($W$4*(1-EXP(-$W$5*AG45))^$W$6)) + ((100-$W$7)/100*AO45) -> 71.674714 | AY45: =$X$7/100*(($X$4*(1-EXP(-$X$5*AG45))^$X$6)) + ((100-$X$7)/100*AP45) -> 43.763545 | BA45: =BA$4*(1-EXP(-BA$5*$AG45))^BA$6 -> 18.323281 | BB45: =BB$4*(1-EXP(-BB$5*$AG45))^BB$6 -> 41.419051
F46: 32 | G46: =G$4*(1-EXP(-G$5*$F46))^G$6 -> 49.265188 | H46: =H$4*(1-EXP(-H$5*$F46))^H$6 -> 50.409954 | I46: =I$4*(1-EXP(-I$5*$F46))^I$6 -> 47.998078 | J46: =J$4*(1-EXP(-J$5*$F46))^J$6 -> 52.205036 | K46: =K$4*(1-EXP(-K$5*$F46))^K$6 -> 19.036299 | M46: =M$4*(1-EXP(-M$5*$F46))^M$6 -> 17.47616 | N46: =N$4*(1-EXP(-N$5*$F46))^N$6 -> 10.668192 | O46: =IF(Settings!$I$6>69, 0.2*(N46), 0) -> 0 | P46: =P$4*(1-EXP(-P$5*$F46))^P$6 -> 39.732027 | Q46: =Q$4*(1-EXP(-Q$5*$F46))^Q$6 -> 24.739604 | R46: =R$4*(1-EXP(-R$5*$F46))^R$6 -> 43.534146 | S46: =S$8*(S$4*(1-EXP(-S$5*F46))^S$6) -> 79.453798 | T46: =T$8*(T$4*(1-EXP(-T$5*F46))^T$6) -> 102.19868 | U46: =(U$7/100*$H46)+((100-U$7)/100*$N46) -> 46.435777 | V46: =(V$7/100*$H46)+((100-V$7)/100*$O46) -> 45.368958 | W46: =$W$7/100*(($W$4*(1-EXP(-$W$5*F46))^$W$6)) + ((100-$W$7)/100*N46) -> 85.626199 | X46: =$X$7/100*(($X$4*(1-EXP(-$X$5*F46))^$X$6)) + ((100-$X$7)/100*O46) -> 55.973815 | Z46: =Z$4*(1-EXP(-Z$5*$F46))^Z$6 -> 23.566556 | AA46: =AA$4*(1-EXP(-AA$5*$F46))^AA$6 -> 47.769357 | AC46: 32 | AE46: =0.208*EXP(0.05039*AC46)*91.9*(EXP(-0.1386*$AD$14)*(1+($AD$14^5.31/(4.93*10^7)))) -> 24.804604 | AG46: =AE46 -> 24.804604 | AH46: =AH$4*(1-EXP(-AH$5*$AG46))^AH$6 -> 32.986291 | AI46: =AI$4*(1-EXP(-AI$5*$AG46))^AI$6 -> 39.260291 | AJ46: =AJ$4*(1-EXP(-AJ$5*$AG46))^AJ$6 -> 32.725185 | AK46: =AK$4*(1-EXP(-AK$5*$AG46))^AK$6 -> 40.835833 | AL46: =AL$4*(1-EXP(-AL$5*$AG46))^AL$6 -> 13.730961 | AN46: =AN$4*(1-EXP(-AN$5*$AG46))^AN$6 -> 12.674525 | AO46: =AO$4*(1-EXP(-AO$5*$AG46))^AO$6 -> 7.9942523 | AP46: =IF(Settings!$I$6>69, 0.2*(AO46), 0) -> 0 | AQ46: =AQ$4*(1-EXP(-AQ$5*$AG46))^AQ$6 -> 32.15758 | AR46: =AR$4*(1-EXP(-AR$5*$AG46))^AR$6 -> 19.868757 | AS46: =AS$4*(1-EXP(-AS$5*$AG46))^AS$6 -> 35.492209 | AT46: =AT$8*(AT$4*(1-EXP(-AT$5*AG46))^AT$6) -> 63.567914 | AU46: =AU$8*(AU$4*(1-EXP(-AU$5*AG46))^AU$6) -> 79.288562 | AV46: =(AV$7/100*$AI46)+((100-AV$7)/100*$AO46) -> 36.133687 | AW46: =(AW$7/100*$AI46)+((100-AW$7)/100*$AP46) -> 35.334262 | AX46: =$W$7/100*(($W$4*(1-EXP(-$W$5*AG46))^$W$6)) + ((100-$W$7)/100*AO46) -> 74.075427 | AY46: =$X$7/100*(($X$4*(1-EXP(-$X$5*AG46))^$X$6)) + ((100-$X$7)/100*AP46) -> 45.731227 | BA46: =BA$4*(1-EXP(-BA$5*$AG46))^BA$6 -> 19.250755 | BB46: =BB$4*(1-EXP(-BB$5*$AG46))^BB$6 -> 42.511286
F47: 33 | G47: =G$4*(1-EXP(-G$5*$F47))^G$6 -> 51.293032 | H47: =H$4*(1-EXP(-H$5*$F47))^H$6 -> 51.851426 | I47: =I$4*(1-EXP(-I$5*$F47))^I$6 -> 50.017025 | J47: =J$4*(1-EXP(-J$5*$F47))^J$6 -> 53.666955 | K47: =K$4*(1-EXP(-K$5*$F47))^K$6 -> 19.661242 | M47: =M$4*(1-EXP(-M$5*$F47))^M$6 -> 18.116791 | N47: =N$4*(1-EXP(-N$5*$F47))^N$6 -> 11.025952 | O47: =IF(Settings!$I$6>69, 0.2*(N47), 0) -> 0 | P47: =P$4*(1-EXP(-P$5*$F47))^P$6 -> 40.687228 | Q47: =Q$4*(1-EXP(-Q$5*$F47))^Q$6 -> 25.331162 | R47: =R$4*(1-EXP(-R$5*$F47))^R$6 -> 44.379751 | S47: =S$8*(S$4*(1-EXP(-S$5*F47))^S$6) -> 81.46224 | T47: =T$8*(T$4*(1-EXP(-T$5*F47))^T$6) -> 105.1095 | U47: =(U$7/100*$H47)+((100-U$7)/100*$N47) -> 47.768879 | V47: =(V$7/100*$H47)+((100-V$7)/100*$O47) -> 46.666284 | W47: =$W$7/100*(($W$4*(1-EXP(-$W$5*F47))^$W$6)) + ((100-$W$7)/100*N47) -> 86.921516 | X47: =$X$7/100*(($X$4*(1-EXP(-$X$5*F47))^$X$6)) + ((100-$X$7)/100*O47) -> 57.219324 | Z47: =Z$4*(1-EXP(-Z$5*$F47))^Z$6 -> 24.024902 | AA47: =AA$4*(1-EXP(-AA$5*$F47))^AA$6 -> 48.362361 | AC47: 33 | AE47: =0.208*EXP(0.05039*AC47)*91.9*(EXP(-0.1386*$AD$14)*(1+($AD$14^5.31/(4.93*10^7)))) -> 26.086535 | AG47: =AE47 -> 26.086535 | AH47: =AH$4*(1-EXP(-AH$5*$AG47))^AH$6 -> 36.052455 | AI47: =AI$4*(1-EXP(-AI$5*$AG47))^AI$6 -> 41.342903 | AJ47: =AJ$4*(1-EXP(-AJ$5*$AG47))^AJ$6 -> 35.505315 | AK47: =AK$4*(1-EXP(-AK$5*$AG47))^AK$6 -> 42.967454 | AL47: =AL$4*(1-EXP(-AL$5*$AG47))^AL$6 -> 14.77234 | AN47: =AN$4*(1-EXP(-AN$5*$AG47))^AN$6 -> 13.54859 | AO47: =AO$4*(1-EXP(-AO$5*$AG47))^AO$6 -> 8.4814518 | AP47: =IF(Settings!$I$6>69, 0.2*(AO47), 0) -> 0 | AQ47: =AQ$4*(1-EXP(-AQ$5*$AG47))^AQ$6 -> 33.598968 | AR47: =AR$4*(1-EXP(-AR$5*$AG47))^AR$6 -> 20.817045 | AS47: =AS$4*(1-EXP(-AS$5*$AG47))^AS$6 -> 37.199415 | AT47: =AT$8*(AT$4*(1-EXP(-AT$5*AG47))^AT$6) -> 66.583495 | AU47: =AU$8*(AU$4*(1-EXP(-AU$5*AG47))^AU$6) -> 83.613649 | AV47: =(AV$7/100*$AI47)+((100-AV$7)/100*$AO47) -> 38.056758 | AW47: =(AW$7/100*$AI47)+((100-AW$7)/100*$AP47) -> 37.208613 | AX47: =$W$7/100*(($W$4*(1-EXP(-$W$5*AG47))^$W$6)) + ((100-$W$7)/100*AO47) -> 76.450178 | AY47: =$X$7/100*(($X$4*(1-EXP(-$X$5*AG47))^$X$6)) + ((100-$X$7)/100*AP47) -> 47.726527 | BA47: =BA$4*(1-EXP(-BA$5*$AG47))^BA$6 -> 20.161922 | BB47: =BB$4*(1-EXP(-BB$5*$AG47))^BB$6 -> 43.590773
