Workbook
Name ISI: 'Calcs-control1_comments'!$A$5
Name ISI: 'Calcs-control3'!$A$4
Name ISI: 'Calcs-control4'!$A$4
Name ISI: #REF!

Sheet Notes
A2: FBP Fuel Type Graphing Tool
A3: v. 2.1, 2013
A4: by Daniel Perrakis, Ph.D., Fire Science Officer,
A5: BC Wildfire Management Branch, Ministry of Forests, Lands, and Natural Resource Operations
A6: Contact: | B6: Daniel.Perrakis@gov.bc.ca
B7: dperrakis@gmail.com
A8: Comments, corrections, and suggestions are welcome.
A11: Notes - General
A12: - Graphs are best viewed in Full Screen mode (select View/Full Screen)
A13: - Curve shapes may give slightly misleading inflection points, asymptotes, etc. (curves are drawn using the default MS Excel
A14: smoothing function between points and are not exact curves); the issue will be negligible for most users.
A16: Notes - Rate of Spread (ROS) Graph:
A17: - Graphs show the head fire rate of spread (ROS) for different FBP fuel types.
A18: - The fuel type modifier (M) drop-down box appears for the following fuel type parameters (and therefore affect ROS):
B19: M-1 & M-2 | C19: → | D19: % Conifer
B20: O-1a & O-1b | C20: → | D20: % cured
B21: M-3 & M-4 | C21: → | D21: % dead balsam fir
B22: In this version of FBPGraph, the modifier value disappears for other fuel types.
A24: - BUI value affects ROS for all fuel types except grass types (O-1a and O-1b); however, the BUI effect on ROS is quite small for some fuel types (e.g. D2).
A25: - If standard daily BUI is unknown or suspect, select 'Std/No ROS effect'. This calculates ROS without the influence of the BUI effect (BE = 1); and
A26: calculates HFI using the following constants (see Taylor et al. 1997, Forestry Canada Fire Danger Group 1992):
B27: C-1: | C27: 72 | E27: C-7: | F27: 106 | I27: M-4: | J27: 50
B28: C-2: | C28: 64 | E28: D-1: | F28: 32 | I28: S-1: | J28: 38
B29: C-3: | C29: 62 | E29: D-2: | F29: 32 | I29: S-2: | J29: 63
B30: C-4: | C30: 66 | E30: M-1: | F30: 50 | I30: S-3: | J30: 31
B31: C-5: | C31: 56 | E31: M-2: | F31: 50
B32: C-6: | C32: 62 | E32: M-3: | F32: 50
A34: - For the C-6 fuel type, CBH (Crown Base Height) can be modified to change the rate of crowning; this affects ROS as well as HFI
A35: - FMC (Foliar Moisture Content, % water by weight) also affects ROS for the C-6 fuel type.
A36: - For the D-2 fuel type, ROS and Headfire intensity are both zero when BUI is below 70 (as suggested by Alexander 2010).
A38: Notes - Head Fire Intensity graph (Intensity):
A39: - BUI value affects intensity for all fuel type except grass types (O-1a and O-1b).
A40: - FMC affects intensity (very slightly) for most fuel types; the effect is much greater for C-6, as crown fire is modeled differently in this fuel type.
A41: - Grass fuel load (GFL) is the only variable (other than ISI) in this graph that affects head fire intensity for the O-1a and O-1b fuel types.
A42: - The default GFL value suggested in the GLC-X-10 (Wotton et al. 2009) is 3.5 t/ha, based on the original Australian fire behaviour dataset,
A43: (Cheney et al. 1993), supplemented with more recent measurements in northern Alberta, New Zealand, and elsewhere.
A44: - For the D-2 fuel type, ROS and Headfire intensity are both zero when BUI is below 70 (as suggested by Alexander 2010).
A45: - FFMC (which affects fire intensity only for the C-1 and C-7 fuel types, and only very slightly) is set at 90.
A47: Additional Notes:
... A50: - Most programming comments are in the 'Calcs-control1' worksheet (hidden), on line 2

Sheet About
A2: Version Notes:
A4: V2.1, October 2013
A5: - New for v2.1 - BUI effect on Rate of Spread can be 'turned off'; in the BUI drop-down, select 'Std/No ROS effect' to make the BUI effect = 1 for
A6: all fuel types (uses BUI=BUIo for ROS calculations; BUI is still used to calculate fuel consumption). Note that standard BUI values will then be used for HFI
A7: calculations, and this may be slightly misleading when comparing different fuel types. For example, when 'Std/No ROS effect' is selected, comparing HFI
A8: between C5 and C7 will show HFI for C5 at BUI=56 and HFI for C7 at BUI=106. Recall that the BUI effect on ROS has not been found to be statistically significant
A9: (Forestry Canada Fire Danger Group 1992).
A10: - In this version (v2.0 and v2.1), the Independent variable (X-axis) can be toggled between ISI (Initial Spread Index), the FBP default, and
A11: Wind Speed (km/h). ROS and HFI are still calculated using the ISI-based equations (ie, altering wind speed alters the ISI, which is then used
A12: to calculate the outputs); FFMC is only selectable when viewing the Wind Speed relationship, as it is otherwise already incorporated into ISI.
A13: - In this version (v2.0 and v2.1), the settings are maintained between the 'ROS Graph' and 'Intensity Graph'; selected fuel types, modifiers, weather
A14: codes, and fuel parameters are all held constant between the two graphs.
... A33: Information Report GLC-X-10. Natural Resources Canada, Canadian Forest Service, Great Lakes Forestry Centre. Sault Ste. Marie, ON.

Sheet Graph-Settings
A1: Graph Settings
A2: #Comments | H2: # Settings from ROS and Intensity graph control boxes; FFMC only active when 'Wind Speed' selected
A3: ISI or | B3: Range - | C3: Range - | E3: Range - | F3: Range- | G3: Range-
A4: Windspeed | B4: FMC | C4: BUI | D4: FFMC | E4: FFMC-display | F4: GFL | G4: C6 CBH | H4: FMC | I4: BUI | J4: FFMC | K4: GFL | L4: C6 CBH | N4: ISI/WS | Q4: Standard BUI
A5: ISI (Initial Spread Index) | B5: 80 | C5: 0 | D5: 80 | E5: =IF($N$5=2, CONCATENATE("FFMC: ", D5), "") -> FFMC: 80 | F5: 0.5 | G5: 0.5 | H5: 18 | I5: 42 | J5: 15 | K5: 13 | L5: 12 | N5: 2 | P5: C-1
A6: Wind Speed (km/h) | B6: 81 | C6: 5 | D6: 81 | E6: =IF($N$5=2, CONCATENATE("FFMC: ", D6), "") -> FFMC: 81 | F6: 0.75 | G6: 1 | H6: =79+H5 -> 97 | I6: =INDEX(C5:C46, I5) -> Std/No ROS effect | J6: =IF($N$5=2, INDEX('Graph-Settings'!$D$5:$D$44, J5), 91) -> 91 | K6: =INDEX('Graph-Settings'!$F$5:$F$43, K5) -> 3.5 | L6: =L5*0.5 -> 6 | P6: C-2
B7: 82 | C7: 10 | D7: 82 | E7: =IF($N$5=2, CONCATENATE("FFMC: ", D7), "") -> FFMC: 82 | F7: 1 | G7: 1.5 | P7: C-3
B8: 83 | C8: 15 | D8: 83 | E8: =IF($N$5=2, CONCATENATE("FFMC: ", D8), "") -> FFMC: 83 | F8: 1.25 | G8: 2 | P8: C-4
B9: 84 | C9: 20 | D9: 84 | E9: =IF($N$5=2, CONCATENATE("FFMC: ", D9), "") -> FFMC: 84 | F9: 1.5 | G9: 2.5 | P9: C-5
B10: 85 | C10: 25 | D10: 85 | E10: =IF($N$5=2, CONCATENATE("FFMC: ", D10), "") -> FFMC: 85 | F10: 1.75 | G10: 3 | P10: C-6
B11: 86 | C11: 30 | D11: 86 | E11: =IF($N$5=2, CONCATENATE("FFMC: ", D11), "") -> FFMC: 86 | F11: 2 | G11: 3.5 | P11: C-7
B12: 87 | C12: 35 | D12: 87 | E12: =IF($N$5=2, CONCATENATE("FFMC: ", D12), "") -> FFMC: 87 | F12: 2.25 | G12: 4 | P12: D-1
B13: 88 | C13: 40 | D13: 88 | E13: =IF($N$5=2, CONCATENATE("FFMC: ", D13), "") -> FFMC: 88 | F13: 2.5 | G13: 4.5 | P13: D-2
B14: 89 | C14: 45 | D14: 88.5 | E14: =IF($N$5=2, CONCATENATE("FFMC: ", D14), "") -> FFMC: 88.5 | F14: 2.75 | G14: 5 | P14: S-1
B15: 90 | C15: 50 | D15: 89 | E15: =IF($N$5=2, CONCATENATE("FFMC: ", D15), "") -> FFMC: 89 | F15: 3 | G15: 5.5 | P15: S-2
B16: 91 | C16: 55 | D16: 89.5 | E16: =IF($N$5=2, CONCATENATE("FFMC: ", D16), "") -> FFMC: 89.5 | F16: 3.25 | G16: 6 | P16: S-3
B17: 92 | C17: 60 | D17: 90 | E17: =IF($N$5=2, CONCATENATE("FFMC: ", D17), "") -> FFMC: 90 | F17: 3.5 | G17: 6.5 | P17: O-1a
B18: 93 | C18: 65 | D18: 90.5 | E18: =IF($N$5=2, CONCATENATE("FFMC: ", D18), "") -> FFMC: 90.5 | F18: 3.75 | G18: 7 | P18: O-1b
... B23: 98 | C23: 90 | D23: 93 | E23: =IF($N$5=2, CONCATENATE("FFMC: ", D23), "") -> FFMC: 93 | F23: 5 | G23: 9.5 | P23: None
B24: 99 | C24: 95 | D24: 93.5 | E24: =IF($N$5=2, CONCATENATE("FFMC: ", D24), "") -> FFMC: 93.5 | F24: 5.25 | G24: 10
B25: 100 | C25: 100 | D25: 94 | E25: =IF($N$5=2, CONCATENATE("FFMC: ", D25), "") -> FFMC: 94 | F25: 5.5 | G25: 10.5
B26: 101 | C26: 105 | D26: 94.5 | E26: =IF($N$5=2, CONCATENATE("FFMC: ", D26), "") -> FFMC: 94.5 | F26: 5.75 | G26: 11
B27: 102 | C27: 110 | D27: 95 | E27: =IF($N$5=2, CONCATENATE("FFMC: ", D27), "") -> FFMC: 95 | F27: 6 | G27: 11.5
B28: 103 | C28: 115 | D28: 95.5 | E28: =IF($N$5=2, CONCATENATE("FFMC: ", D28), "") -> FFMC: 95.5 | F28: 6.25 | G28: 12
B29: 104 | C29: 120 | D29: 96 | E29: =IF($N$5=2, CONCATENATE("FFMC: ", D29), "") -> FFMC: 96 | F29: 6.5 | G29: 12.5
B30: 105 | C30: 125 | D30: 96.5 | E30: =IF($N$5=2, CONCATENATE("FFMC: ", D30), "") -> FFMC: 96.5 | F30: 6.75 | G30: 13
B31: 106 | C31: 130 | D31: 97 | E31: =IF($N$5=2, CONCATENATE("FFMC: ", D31), "") -> FFMC: 97 | F31: 7 | G31: 13.5
B32: 107 | C32: 135 | D32: 97.5 | E32: =IF($N$5=2, CONCATENATE("FFMC: ", D32), "") -> FFMC: 97.5 | F32: 7.25 | G32: 14
B33: 108 | C33: 140 | D33: 98 | E33: =IF($N$5=2, CONCATENATE("FFMC: ", D33), "") -> FFMC: 98 | F33: 7.5 | G33: 14.5
B34: 109 | C34: 145 | D34: 98.5 | E34: =IF($N$5=2, CONCATENATE("FFMC: ", D34), "") -> FFMC: 98.5 | F34: 7.75 | G34: 15
B35: 110 | C35: 150 | D35: 99 | E35: =IF($N$5=2, CONCATENATE("FFMC: ", D35), "") -> FFMC: 99 | F35: 8 | G35: 15.5
B36: 111 | C36: 155 | F36: 8.25 | G36: 16
B37: 112 | C37: 160 | F37: 8.5 | G37: 16.5
B38: 113 | C38: 165 | F38: 8.75 | G38: 17
B39: 114 | C39: 170 | F39: 9 | G39: 17.5
B40: 115 | C40: 175 | F40: 9.25 | G40: 18
B41: 116 | C41: 180 | F41: 9.5 | G41: 18.5
B42: 117 | C42: 185 | F42: 9.75 | G42: 19
B43: 118 | C43: 190 | F43: 10 | G43: 19.5
B44: 119 | C44: 195 | G44: 20
...

Sheet Calcs-control1_comments
A1: Control1 | AQ1: Index: | AR1: 1 | AS1: 2 | AT1: 3 | AU1: 4 | AV1: 5 | AW1: 6 | AX1: 7 | AY1: 8 | AZ1: 9 | BA1: 10 | BB1: 11 | BC1: 12 | BD1: 13 | BE1: 14 | BF1: 15 | BG1: 16 | BH1: 17 | BI1: 18 | BJ1: 19 | BK1: 20 | BL1: 21 | BM1: 22 | BN1: 23 | BO1: 24 | BP1: 25 | BQ1: 26 | BR1: 27 | BS1: 28 | BT1: 29 | BX1: FFMC = | BY1: ='Graph-Settings'!J6 -> 91 | BZ1: BUI = | CA1: ='Graph-Settings'!I6 -> Std/No ROS effect | CB1: FMC= | CC1: ='Graph-Settings'!H6 -> 97 | CD1: GFL= | CE1: ='Graph-Settings'!K6 -> 3.5 | CF1: C6 CBH: | CG1: ='Graph-Settings'!L6 -> 6 | FT1: Index: | FU1: 1 | FV1: 2 | FW1: 3 | FX1: 4 | FY1: 5 | FZ1: 6 | GA1: 7 | GB1: 8 | GC1: 9 | GD1: 10 | GE1: 11 | GF1: 12 | GG1: 13 | GH1: 14 | GI1: 15 | GJ1: 16 | GK1: 17 | GL1: 18 | GM1: 19 | GN1: 20 | GO1: 21 | GP1: 22 | GQ1: 23 | GR1: 24 | GS1: 25 | GT1: 26 | GU1: 27 | GV1: 28 | GW1: 29 | GZ1: Final ROS Output | HA1: =IF('Graph-Settings'!$N$5=1, 'Calcs-control1_comments'!HA5, 'Calcs-control1_comments'!HA9) -> 0.84300057 | HB1: =IF('Graph-Settings'!$N$5=1, 'Calcs-control1_comments'!HB5, 'Calcs-control1_comments'!HB9) -> 1.1789693 | HC1: =IF('Graph-Settings'!$N$5=1, 'Calcs-control1_comments'!HC5, 'Calcs-control1_comments'!HC9) -> 1.6398841 | HD1: =IF('Graph-Settings'!$N$5=1, 'Calcs-control1_comments'!HD5, 'Calcs-control1_comments'!HD9) -> 2.2671227 | HE1: =IF('Graph-Settings'!$N$5=1, 'Calcs-control1_comments'!HE5, 'Calcs-control1_comments'!HE9) -> 3.1129646 | HF1: =IF('Graph-Settings'!$N$5=1, 'Calcs-control1_comments'!HF5, 'Calcs-control1_comments'!HF9) -> 4.2419583 | HG1: =IF('Graph-Settings'!$N$5=1, 'Calcs-control1_comments'!HG5, 'Calcs-control1_comments'!HG9) -> 5.7316063 | HH1: =IF('Graph-Settings'!$N$5=1, 'Calcs-control1_comments'!HH5, 'Calcs-control1_comments'!HH9) -> 7.6718058 | ... IC1: =IF('Graph-Settings'!$N$5=1, 'Calcs-control1_comments'!IC5, 'Calcs-control1_comments'!IC9) -> 86.19879 | IF1: Final HFI output | IG1: =IF('Graph-Settings'!$N$5=1, 'Calcs-control1_comments'!IG5, 'Calcs-control1_comments'!IG9) -> 462.48486 | IH1: =IF('Graph-Settings'!$N$5=1, 'Calcs-control1_comments'!IH5, 'Calcs-control1_comments'!IH9) -> 646.80316 | II1: =IF('Graph-Settings'!$N$5=1, 'Calcs-control1_comments'!II5, 'Calcs-control1_comments'!II9) -> 899.66912 | IJ1: =IF('Graph-Settings'!$N$5=1, 'Calcs-control1_comments'!IJ5, 'Calcs-control1_comments'!IJ9) -> 1243.7832 | IK1: =IF('Graph-Settings'!$N$5=1, 'Calcs-control1_comments'!IK5, 'Calcs-control1_comments'!IK9) -> 1707.8268 | IL1: =IF('Graph-Settings'!$N$5=1, 'Calcs-control1_comments'!IL5, 'Calcs-control1_comments'!IL9) -> 2327.2125 | IM1: =IF('Graph-Settings'!$N$5=1, 'Calcs-control1_comments'!IM5, 'Calcs-control1_comments'!IM9) -> 3144.4595 | IN1: =IF('Graph-Settings'!$N$5=1, 'Calcs-control1_comments'!IN5, 'Calcs-control1_comments'!IN9) -> 4747.0434 | ... JI1: =IF('Graph-Settings'!$N$5=1, 'Calcs-control1_comments'!JI5, 'Calcs-control1_comments'!JI9) -> 77028.746 | JK1: [End]
A2: # Comments; see also row 54 | B2: #Modifier calculated (0-100 step 5) if Fuel Type is O- or M-type; FT from Graph control box | C2: # %Modifier from Graph control box | D2: #FTs used for FT drop-down in Graph control boxes | E2: #Base ROS parameters, STX-3, Table 6 | H2: #Fuel Type %modifier | I2: # CF from GLC-X-10 eq. 35a, b | J2: #Buildup effect, STX-3 eq. 54 | N2: #RSI from STX-3, eq. 26-28, 36; also GLC-X-10; D-2 RSI is zero if BUI<70 | AR2: #Final ROS=RSI*BE for most FT's; for C-6, ROS=RSS+CFB*(RSC-RSS), STX-3, eq. 65 | BX2: #Settings (above, in orange) from Graph-Settings worksheet | CC2: #Fuel structure constants (STX-3, Table 8), below | CE2: #CSI and RSo from STX-3, eq 56 and 57 | CG2: #FME only used for C-6; STX-3 eq 61 | CI2: #CFB=1-exp(-0.23*(ROS-RSO)) for most FT's (STX-3, eq. 58); CFB=0 for D, S, O-types | DM2: #CFC=CFL*CFB for most FT's; (0 CFB for D, S and O-types); CFC= %con*CFL*CFB for M-1 and M-2 (STX-3, p.38) | EQ2: #TFC=SFC+CFC for all fuel types | FU2: #HFI = 300 * TFC * ROS, from Byram's formula | GZ2: #Below - ROS output values based on ISI or WS depending on Graph control selection (controlled in Graph-Settings worksheet). AQ5:B22 gives ROS values for ISI; AQ32:B49 gives range for WS. | IF2: #Below - HFI output values based on ISI or WS depending on Graph control selection (controlled in Graph-Settings worksheet). FT5:GV22 gives HFI values for ISI; FT32:GV49 gives range for WS.
B3: Range - | N3: RSI | AR3: ROS | CI3: CFB: | DM3: CFC: | EQ3: TFC: | FU3: HFI: | GZ3: ISI/Wind Sp: | HA3: 0 | HB3: 2.5 | HC3: 5 | HD3: 7.5 | HE3: 10 | HF3: 12.5 | HG3: 15 | HH3: 17.5 | HI3: 20 | HJ3: 22.5 | HK3: 25 | HL3: 27.5 | HM3: 30 | HN3: 32.5 | HO3: 35 | HP3: 37.5 | HQ3: 40 | HR3: 42.5 | HS3: 45 | HT3: 47.5 | HU3: 50 | HV3: 52.5 | HW3: 55 | HX3: 57.5 | HY3: 60 | HZ3: 62.5 | IA3: 65 | IB3: 67.5 | IC3: 70 | IF3: ISI/Wind Sp | IG3: 0 | IH3: 2.5 | II3: 5 | IJ3: 7.5 | IK3: 10 | IL3: 12.5 | IM3: 15 | IN3: 17.5 | IO3: 20 | IP3: 22.5 | IQ3: 25 | IR3: 27.5 | IS3: 30 | IT3: 32.5 | IU3: 35 | IV3: 37.5 | IW3: 40 | IX3: 42.5 | IY3: 45 | IZ3: 47.5 | JA3: 50 | JB3: 52.5 | JC3: 55 | JD3: 57.5 | JE3: 60 | JF3: 62.5 | JG3: 65 | JH3: 67.5 | JI3: 70
A4: Index | B4: % C, %c or %DF | C4: % Modifier: | D4: Fuel Type | E4: a | F4: b | G4: c | H4: %C, %c or %DF | I4: Curing factor | J4: q | K4: BUIo | L4: Actual BUI | M4: BE | N4: 0 | O4: 2.5 | P4: 5 | Q4: 7.5 | R4: 10 | S4: 12.5 | T4: 15 | U4: 17.5 | V4: 20 | W4: 22.5 | X4: 25 | Y4: 27.5 | Z4: 30 | AA4: 32.5 | AB4: 35 | AC4: 37.5 | AD4: 40 | AE4: 42.5 | AF4: 45 | AG4: 47.5 | AH4: 50 | AI4: 52.5 | AJ4: 55 | AK4: 57.5 | AL4: 60 | AM4: 62.5 | AN4: 65 | AO4: 67.5 | AP4: 70 | AR4: 0 | AS4: 2.5 | AT4: 5 | AU4: 7.5 | AV4: 10 | AW4: 12.5 | AX4: 15 | AY4: 17.5 | AZ4: 20 | BA4: 22.5 | BB4: 25 | BC4: 27.5 | BD4: 30 | BE4: 32.5 | BF4: 35 | BG4: 37.5 | BH4: 40 | BI4: 42.5 | BJ4: 45 | BK4: 47.5 | BL4: 50 | BM4: 52.5 | BN4: 55 | BO4: 57.5 | BP4: 60 | BQ4: 62.5 | BR4: 65 | BS4: 67.5 | BT4: 70 | BY4: FFC | BZ4: WFC | CA4: SFC | CC4: CBH | CD4: CFL | CE4: CSI | CF4: RSo | CG4: FME | CI4: 0 | CJ4: 2.5 | CK4: 5 | CL4: 7.5 | CM4: 10 | CN4: 12.5 | CO4: 15 | CP4: 17.5 | CQ4: 20 | CR4: 22.5 | CS4: 25 | CT4: 27.5 | CU4: 30 | CV4: 32.5 | CW4: 35 | CX4: 37.5 | CY4: 40 | CZ4: 42.5 | DA4: 45 | DB4: 47.5 | DC4: 50 | DD4: 52.5 | DE4: 55 | DF4: 57.5 | DG4: 60 | DH4: 62.5 | DI4: 65 | DJ4: 67.5 | DK4: 70 | DM4: 0 | DN4: 2.5 | DO4: 5 | DP4: 7.5 | DQ4: 10 | DR4: 12.5 | DS4: 15 | DT4: 17.5 | DU4: 20 | DV4: 22.5 | DW4: 25 | DX4: 27.5 | DY4: 30 | DZ4: 32.5 | EA4: 35 | EB4: 37.5 | EC4: 40 | ED4: 42.5 | EE4: 45 | EF4: 47.5 | EG4: 50 | EH4: 52.5 | EI4: 55 | EJ4: 57.5 | EK4: 60 | EL4: 62.5 | EM4: 65 | EN4: 67.5 | EO4: 70 | EQ4: 0 | ER4: 2.5 | ES4: 5 | ET4: 7.5 | EU4: 10 | EV4: 12.5 | EW4: 15 | EX4: 17.5 | EY4: 20 | EZ4: 22.5 | FA4: 25 | FB4: 27.5 | FC4: 30 | FD4: 32.5 | FE4: 35 | FF4: 37.5 | FG4: 40 | FH4: 42.5 | FI4: 45 | FJ4: 47.5 | FK4: 50 | FL4: 52.5 | FM4: 55 | FN4: 57.5 | FO4: 60 | FP4: 62.5 | FQ4: 65 | FR4: 67.5 | FS4: 70 | FU4: 0 | FV4: 2.5 | FW4: 5 | FX4: 7.5 | FY4: 10 | FZ4: 12.5 | GA4: 15 | GB4: 17.5 | GC4: 20 | GD4: 22.5 | GE4: 25 | GF4: 27.5 | GG4: 30 | GH4: 32.5 | GI4: 35 | GJ4: 37.5 | GK4: 40 | GL4: 42.5 | GM4: 45 | GN4: 47.5 | GO4: 50 | GP4: 52.5 | GQ4: 55 | GR4: 57.5 | GS4: 60 | GT4: 62.5 | GU4: 65 | GV4: 67.5 | GW4: 70 | GZ4: ROS output values (ISI) | IF4: HFI output values (ISI)
A5: 1 | B5: =IF(AND($GZ$5>12, $GZ$5<19), A5*5-5, "") | C5: 16 | D5: C-1 | E5: 90 | F5: 0.0649 | G5: 4.5 | J5: 0.9 | K5: 72 | L5: =IF('Graph-Settings'!$I$6='Graph-Settings'!$C$46, K5, 'Graph-Settings'!$I$6) -> 72 | M5: =EXP(50*LN($J5)*(1/$L5-1/$K5)) -> 1 | N5: =$E5*(1-EXP(-$F5*N$4))^$G5 -> 0 | O5: =$E5*(1-EXP(-$F5*O$4))^$G5 -> 0.017525574 | P5: =$E5*(1-EXP(-$F5*P$4))^$G5 -> 0.27937434 | Q5: =$E5*(1-EXP(-$F5*Q$4))^$G5 -> 1.2323679 | R5: =$E5*(1-EXP(-$F5*R$4))^$G5 -> 3.2310526 | S5: =$E5*(1-EXP(-$F5*S$4))^$G5 -> 6.397585 | T5: =$E5*(1-EXP(-$F5*T$4))^$G5 -> 10.642844 | U5: =$E5*(1-EXP(-$F5*U$4))^$G5 -> 15.744724 | ... AP5: =$E5*(1-EXP(-$F5*AP$4))^$G5 -> 85.769769 | AR5: =$M5*N5 -> 0 | AS5: =$M5*O5 -> 0.017525574 | AT5: =$M5*P5 -> 0.27937434 | AU5: =$M5*Q5 -> 1.2323679 | AV5: =$M5*R5 -> 3.2310526 | AW5: =$M5*S5 -> 6.397585 | AX5: =$M5*T5 -> 10.642844 | AY5: =$M5*U5 -> 15.744724 | ... BT5: =$M5*AP5 -> 85.769769 | BW5: C-1 | CA5: =IF(BY1>84, 0.75+0.75*(1-EXP(-0.23*(BY1-84)))^0.5, 0.75-0.75*(1-EXP(0.23*(BY1-84)))^0.5) -> 1.4208675 | CC5: 2 | CD5: 0.75 | CE5: =0.001*CC5^1.5*(460+25.9*$CC$1)^1.5 -> 458.33598 | CF5: =CE5/(300*CA5) -> 1.0752492 | CI5: =IF(1-EXP(-0.23*(AR5-$CF5))<0, 0, 1-EXP(-0.23*(AR5-$CF5))) -> 0 | CJ5: =IF(1-EXP(-0.23*(AS5-$CF5))<0, 0, 1-EXP(-0.23*(AS5-$CF5))) -> 0 | CK5: =IF(1-EXP(-0.23*(AT5-$CF5))<0, 0, 1-EXP(-0.23*(AT5-$CF5))) -> 0 | CL5: =IF(1-EXP(-0.23*(AU5-$CF5))<0, 0, 1-EXP(-0.23*(AU5-$CF5))) -> 0.035492159 | CM5: =IF(1-EXP(-0.23*(AV5-$CF5))<0, 0, 1-EXP(-0.23*(AV5-$CF5))) -> 0.39093774 | CN5: =IF(1-EXP(-0.23*(AW5-$CF5))<0, 0, 1-EXP(-0.23*(AW5-$CF5))) -> 0.70598875 | CO5: =IF(1-EXP(-0.23*(AX5-$CF5))<0, 0, 1-EXP(-0.23*(AX5-$CF5))) -> 0.8892574 | CP5: =IF(1-EXP(-0.23*(AY5-$CF5))<0, 0, 1-EXP(-0.23*(AY5-$CF5))) -> 0.96574693 | ... DK5: =IF(1-EXP(-0.23*(BT5-$CF5))<0, 0, 1-EXP(-0.23*(BT5-$CF5))) -> 1 | DM5: =CI5*$CD5 -> 0 | DN5: =CJ5*$CD5 -> 0 | DO5: =CK5*$CD5 -> 0 | DP5: =CL5*$CD5 -> 0.02661912 | DQ5: =CM5*$CD5 -> 0.29320331 | DR5: =CN5*$CD5 -> 0.52949156 | DS5: =CO5*$CD5 -> 0.66694305 | DT5: =CP5*$CD5 -> 0.7243102 | ... EO5: =DK5*$CD5 -> 0.75 | EQ5: =DM5+$CA5 -> 1.4208675 | ER5: =DN5+$CA5 -> 1.4208675 | ES5: =DO5+$CA5 -> 1.4208675 | ET5: =DP5+$CA5 -> 1.4474866 | EU5: =DQ5+$CA5 -> 1.7140708 | EV5: =DR5+$CA5 -> 1.9503591 | EW5: =DS5+$CA5 -> 2.0878106 | EX5: =DT5+$CA5 -> 2.1451777 | ... FS5: =EO5+$CA5 -> 2.1708675 | FU5: =300*EQ5*AR5 -> 0 | FV5: =300*ER5*AS5 -> 7.4704554 | FW5: =300*ES5*AT5 -> 119.08618 | FX5: =300*ET5*AU5 -> 535.15084 | FY5: =300*EU5*AV5 -> 1661.4759 | FZ5: =300*EV5*AW5 -> 3743.2764 | GA5: =300*EW5*AX5 -> 6666.0723 | GB5: =300*EX5*AY5 -> 10132.569 | ... GW5: =300*FS5*BT5 -> 55858.442 | GY5: Control1 | GZ5: 3 | HA5: =INDEX($AR$5:$BT$22, $GZ5, AR$1) -> 0 | HB5: =INDEX($AR$5:$BT$22, $GZ5, AS$1) -> 0.12756173 | HC5: =INDEX($AR$5:$BT$22, $GZ5, AT$1) -> 0.86797241 | HD5: =INDEX($AR$5:$BT$22, $GZ5, AU$1) -> 2.4992491 | HE5: =INDEX($AR$5:$BT$22, $GZ5, AV$1) -> 5.0697417 | HF5: =INDEX($AR$5:$BT$22, $GZ5, AW$1) -> 8.4996386 | HG5: =INDEX($AR$5:$BT$22, $GZ5, AX$1) -> 12.645792 | HH5: =INDEX($AR$5:$BT$22, $GZ5, AY$1) -> 17.341902 | ... IC5: =INDEX($AR$5:$BT$22, $GZ5, BT$1) -> 95.901482 | IE5: Control1 | IF5: =GZ5 -> 3 | IG5: =INDEX($FU$5:$GW$22, $IF5, FU$1) -> 0 | IH5: =INDEX($FU$5:$GW$22, $IF5, FV$1) -> 69.982594 | II5: =INDEX($FU$5:$GW$22, $IF5, FW$1) -> 476.18484 | IJ5: =INDEX($FU$5:$GW$22, $IF5, FX$1) -> 1371.1318 | IK5: =INDEX($FU$5:$GW$22, $IF5, FY$1) -> 2781.3489 | IL5: =INDEX($FU$5:$GW$22, $IF5, FZ$1) -> 5664.3019 | IM5: =INDEX($FU$5:$GW$22, $IF5, GA$1) -> 10193.353 | IN5: =INDEX($FU$5:$GW$22, $IF5, GB$1) -> 14981.474 | ... JI5: =INDEX($FU$5:$GW$22, $IF5, GW$1) -> 85699.242
A6: 2 | B6: =IF(AND($GZ$5>12, $GZ$5<19), A6*5-5, "") | C6: =C5*5-5 -> 75 | D6: C-2 | E6: 110 | F6: 0.0282 | G6: 1.5 | J6: 0.7 | K6: 64 | L6: =IF('Graph-Settings'!$I$6='Graph-Settings'!$C$46, K6, 'Graph-Settings'!$I$6) -> 64 | M6: =EXP(50*LN($J6)*(1/$L6-1/$K6)) -> 1 | N6: =$E6*(1-EXP(-$F6*N$4))^$G6 -> 0 | O6: =$E6*(1-EXP(-$F6*O$4))^$G6 -> 1.9536553 | P6: =$E6*(1-EXP(-$F6*P$4))^$G6 -> 5.2460722 | Q6: =$E6*(1-EXP(-$F6*Q$4))^$G6 -> 9.1554989 | R6: =$E6*(1-EXP(-$F6*R$4))^$G6 -> 13.398932 | S6: =$E6*(1-EXP(-$F6*S$4))^$G6 -> 17.810824 | T6: =$E6*(1-EXP(-$F6*T$4))^$G6 -> 22.282958 | U6: =$E6*(1-EXP(-$F6*U$4))^$G6 -> 26.740984 | ... AP6: =$E6*(1-EXP(-$F6*AP$4))^$G6 -> 87.896779 | AR6: =$M6*N6 -> 0 | AS6: =$M6*O6 -> 1.9536553 | AT6: =$M6*P6 -> 5.2460722 | AU6: =$M6*Q6 -> 9.1554989 | AV6: =$M6*R6 -> 13.398932 | AW6: =$M6*S6 -> 17.810824 | AX6: =$M6*T6 -> 22.282958 | AY6: =$M6*U6 -> 26.740984 | ... BT6: =$M6*AP6 -> 87.896779 | BW6: C-2 | CA6: =5*(1-EXP(-0.0115*L6)) -> 2.604869 | CC6: 3 | CD6: 0.8 | CE6: =0.001*CC6^1.5*(460+25.9*$CC$1)^1.5 -> 842.01697 | CF6: =CE6/(300*CA6) -> 1.0774911 | CI6: =IF(1-EXP(-0.23*(AR6-$CF6))<0, 0, 1-EXP(-0.23*(AR6-$CF6))) -> 0 | CJ6: =IF(1-EXP(-0.23*(AS6-$CF6))<0, 0, 1-EXP(-0.23*(AS6-$CF6))) -> 0.18251095 | CK6: =IF(1-EXP(-0.23*(AT6-$CF6))<0, 0, 1-EXP(-0.23*(AT6-$CF6))) -> 0.61663726 | CL6: =IF(1-EXP(-0.23*(AU6-$CF6))<0, 0, 1-EXP(-0.23*(AU6-$CF6))) -> 0.84400663 | CM6: =IF(1-EXP(-0.23*(AV6-$CF6))<0, 0, 1-EXP(-0.23*(AV6-$CF6))) -> 0.9412187 | CN6: =IF(1-EXP(-0.23*(AW6-$CF6))<0, 0, 1-EXP(-0.23*(AW6-$CF6))) -> 0.97869187 | CO6: =IF(1-EXP(-0.23*(AX6-$CF6))<0, 0, 1-EXP(-0.23*(AX6-$CF6))) -> 0.99238212 | CP6: =IF(1-EXP(-0.23*(AY6-$CF6))<0, 0, 1-EXP(-0.23*(AY6-$CF6))) -> 0.99726768 | ... DK6: =IF(1-EXP(-0.23*(BT6-$CF6))<0, 0, 1-EXP(-0.23*(BT6-$CF6))) -> 1 | DM6: =CI6*$CD6 -> 0 | DN6: =CJ6*$CD6 -> 0.14600876 | DO6: =CK6*$CD6 -> 0.49330981 | DP6: =CL6*$CD6 -> 0.67520531 | DQ6: =CM6*$CD6 -> 0.75297496 | DR6: =CN6*$CD6 -> 0.7829535 | DS6: =CO6*$CD6 -> 0.7939057 | DT6: =CP6*$CD6 -> 0.79781414 | ... EO6: =DK6*$CD6 -> 0.8 | EQ6: =DM6+$CA6 -> 2.604869 | ER6: =DN6+$CA6 -> 2.7508778 | ES6: =DO6+$CA6 -> 3.0981788 | ET6: =DP6+$CA6 -> 3.2800743 | EU6: =DQ6+$CA6 -> 3.357844 | EV6: =DR6+$CA6 -> 3.3878225 | EW6: =DS6+$CA6 -> 3.3987747 | EX6: =DT6+$CA6 -> 3.4026832 | ... FS6: =EO6+$CA6 -> 3.404869 | FU6: =300*EQ6*AR6 -> 0 | FV6: =300*ER6*AS6 -> 1612.2801 | FW6: =300*ES6*AT6 -> 4875.9809 | FX6: =300*ET6*AU6 -> 9009.2151 | FY6: =300*EU6*AV6 -> 13497.457 | FZ6: =300*EV6*AW6 -> 18101.973 | GA6: =300*EW6*AX6 -> 22720.426 | GB6: =300*EX6*AY6 -> 27297.328 | ... GW6: =300*FS6*BT6 -> 89783.106
A7: 3 | B7: =IF(AND($GZ$5>12, $GZ$5<19), A7*5-5, "") | D7: C-3 | E7: 110 | F7: 0.0444 | G7: 3 | J7: 0.75 | K7: 62 | L7: =IF('Graph-Settings'!$I$6='Graph-Settings'!$C$46, K7, 'Graph-Settings'!$I$6) -> 62 | M7: =EXP(50*LN($J7)*(1/$L7-1/$K7)) -> 1 | N7: =$E7*(1-EXP(-$F7*N$4))^$G7 -> 0 | O7: =$E7*(1-EXP(-$F7*O$4))^$G7 -> 0.12756173 | P7: =$E7*(1-EXP(-$F7*P$4))^$G7 -> 0.86797241 | Q7: =$E7*(1-EXP(-$F7*Q$4))^$G7 -> 2.4992491 | R7: =$E7*(1-EXP(-$F7*R$4))^$G7 -> 5.0697417 | S7: =$E7*(1-EXP(-$F7*S$4))^$G7 -> 8.4996386 | T7: =$E7*(1-EXP(-$F7*T$4))^$G7 -> 12.645792 | U7: =$E7*(1-EXP(-$F7*U$4))^$G7 -> 17.341902 | ... AP7: =$E7*(1-EXP(-$F7*AP$4))^$G7 -> 95.901482 | AR7: =$M7*N7 -> 0 | AS7: =$M7*O7 -> 0.12756173 | AT7: =$M7*P7 -> 0.86797241 | AU7: =$M7*Q7 -> 2.4992491 | AV7: =$M7*R7 -> 5.0697417 | AW7: =$M7*S7 -> 8.4996386 | AX7: =$M7*T7 -> 12.645792 | AY7: =$M7*U7 -> 17.341902 | ... BT7: =$M7*AP7 -> 95.901482 | BW7: C-3 | CA7: =5*(1-EXP(-0.0164*L7))^2.24 -> 1.828725 | CC7: 8 | CD7: 1.15 | CE7: =0.001*CC7^1.5*(460+25.9*$CC$1)^1.5 -> 3666.6879 | CF7: =CE7/(300*CA7) -> 6.6835053 | CI7: =IF(1-EXP(-0.23*(AR7-$CF7))<0, 0, 1-EXP(-0.23*(AR7-$CF7))) -> 0 | CJ7: =IF(1-EXP(-0.23*(AS7-$CF7))<0, 0, 1-EXP(-0.23*(AS7-$CF7))) -> 0 | CK7: =IF(1-EXP(-0.23*(AT7-$CF7))<0, 0, 1-EXP(-0.23*(AT7-$CF7))) -> 0 | CL7: =IF(1-EXP(-0.23*(AU7-$CF7))<0, 0, 1-EXP(-0.23*(AU7-$CF7))) -> 0 | CM7: =IF(1-EXP(-0.23*(AV7-$CF7))<0, 0, 1-EXP(-0.23*(AV7-$CF7))) -> 0 | CN7: =IF(1-EXP(-0.23*(AW7-$CF7))<0, 0, 1-EXP(-0.23*(AW7-$CF7))) -> 0.34144726 | CO7: =IF(1-EXP(-0.23*(AX7-$CF7))<0, 0, 1-EXP(-0.23*(AX7-$CF7))) -> 0.74622977 | CP7: =IF(1-EXP(-0.23*(AY7-$CF7))<0, 0, 1-EXP(-0.23*(AY7-$CF7))) -> 0.91382982 | ... DK7: =IF(1-EXP(-0.23*(BT7-$CF7))<0, 0, 1-EXP(-0.23*(BT7-$CF7))) -> 1 | DM7: =CI7*$CD7 -> 0 | DN7: =CJ7*$CD7 -> 0 | DO7: =CK7*$CD7 -> 0 | DP7: =CL7*$CD7 -> 0 | DQ7: =CM7*$CD7 -> 0 | DR7: =CN7*$CD7 -> 0.39266434 | DS7: =CO7*$CD7 -> 0.85816423 | DT7: =CP7*$CD7 -> 1.0509043 | ... EO7: =DK7*$CD7 -> 1.15 | EQ7: =DM7+$CA7 -> 1.828725 | ER7: =DN7+$CA7 -> 1.828725 | ES7: =DO7+$CA7 -> 1.828725 | ET7: =DP7+$CA7 -> 1.828725 | EU7: =DQ7+$CA7 -> 1.828725 | EV7: =DR7+$CA7 -> 2.2213893 | EW7: =DS7+$CA7 -> 2.6868892 | EX7: =DT7+$CA7 -> 2.8796293 | ... FS7: =EO7+$CA7 -> 2.978725 | FU7: =300*EQ7*AR7 -> 0 | FV7: =300*ER7*AS7 -> 69.982594 | FW7: =300*ES7*AT7 -> 476.18484 | FX7: =300*ET7*AU7 -> 1371.1318 | FY7: =300*EU7*AV7 -> 2781.3489 | FZ7: =300*EV7*AW7 -> 5664.3019 | GA7: =300*EW7*AX7 -> 10193.353 | GB7: =300*EX7*AY7 -> 14981.474 | ... GW7: =300*FS7*BT7 -> 85699.242
A8: 4 | B8: =IF(AND($GZ$5>12, $GZ$5<19), A8*5-5, "") | D8: C-4 | E8: 110 | F8: 0.0293 | G8: 1.5 | J8: 0.8 | K8: 66 | L8: =IF('Graph-Settings'!$I$6='Graph-Settings'!$C$46, K8, 'Graph-Settings'!$I$6) -> 66 | M8: =EXP(50*LN($J8)*(1/$L8-1/$K8)) -> 1 | N8: =$E8*(1-EXP(-$F8*N$4))^$G8 -> 0 | O8: =$E8*(1-EXP(-$F8*O$4))^$G8 -> 2.0648605 | P8: =$E8*(1-EXP(-$F8*P$4))^$G8 -> 5.5336727 | Q8: =$E8*(1-EXP(-$F8*Q$4))^$G8 -> 9.6387137 | R8: =$E8*(1-EXP(-$F8*R$4))^$G8 -> 14.079475 | S8: =$E8*(1-EXP(-$F8*S$4))^$G8 -> 18.681029 | T8: =$E8*(1-EXP(-$F8*T$4))^$G8 -> 23.329815 | U8: =$E8*(1-EXP(-$F8*U$4))^$G8 -> 27.948505 | ... AP8: =$E8*(1-EXP(-$F8*AP$4))^$G8 -> 89.477607 | AR8: =$M8*N8 -> 0 | AS8: =$M8*O8 -> 2.0648605 | AT8: =$M8*P8 -> 5.5336727 | AU8: =$M8*Q8 -> 9.6387137 | AV8: =$M8*R8 -> 14.079475 | AW8: =$M8*S8 -> 18.681029 | AX8: =$M8*T8 -> 23.329815 | AY8: =$M8*U8 -> 27.948505 | ... BT8: =$M8*AP8 -> 89.477607 | BW8: C-4 | CA8: =5*(1-EXP(-0.0164*L8))^2.24 -> 1.9794422 | CC8: 4 | CD8: 1.2 | CE8: =0.001*CC8^1.5*(460+25.9*$CC$1)^1.5 -> 1296.3699 | CF8: =CE8/(300*CA8) -> 2.1830559 | CI8: =IF(1-EXP(-0.23*(AR8-$CF8))<0, 0, 1-EXP(-0.23*(AR8-$CF8))) -> 0 | CJ8: =IF(1-EXP(-0.23*(AS8-$CF8))<0, 0, 1-EXP(-0.23*(AS8-$CF8))) -> 0 | CK8: =IF(1-EXP(-0.23*(AT8-$CF8))<0, 0, 1-EXP(-0.23*(AT8-$CF8))) -> 0.53728403 | CL8: =IF(1-EXP(-0.23*(AU8-$CF8))<0, 0, 1-EXP(-0.23*(AU8-$CF8))) -> 0.82000052 | CM8: =IF(1-EXP(-0.23*(AV8-$CF8))<0, 0, 1-EXP(-0.23*(AV8-$CF8))) -> 0.93518229 | CN8: =IF(1-EXP(-0.23*(AW8-$CF8))<0, 0, 1-EXP(-0.23*(AW8-$CF8))) -> 0.97750661 | CO8: =IF(1-EXP(-0.23*(AX8-$CF8))<0, 0, 1-EXP(-0.23*(AX8-$CF8))) -> 0.99227856 | CP8: =IF(1-EXP(-0.23*(AY8-$CF8))<0, 0, 1-EXP(-0.23*(AY8-$CF8))) -> 0.99733101 | ... DK8: =IF(1-EXP(-0.23*(BT8-$CF8))<0, 0, 1-EXP(-0.23*(BT8-$CF8))) -> 1 | DM8: =CI8*$CD8 -> 0 | DN8: =CJ8*$CD8 -> 0 | DO8: =CK8*$CD8 -> 0.64474083 | DP8: =CL8*$CD8 -> 0.98400062 | DQ8: =CM8*$CD8 -> 1.1222188 | DR8: =CN8*$CD8 -> 1.1730079 | DS8: =CO8*$CD8 -> 1.1907343 | DT8: =CP8*$CD8 -> 1.1967972 | ... EO8: =DK8*$CD8 -> 1.2 | EQ8: =DM8+$CA8 -> 1.9794422 | ER8: =DN8+$CA8 -> 1.9794422 | ES8: =DO8+$CA8 -> 2.6241831 | ET8: =DP8+$CA8 -> 2.9634429 | EU8: =DQ8+$CA8 -> 3.101661 | EV8: =DR8+$CA8 -> 3.1524502 | EW8: =DS8+$CA8 -> 3.1701765 | EX8: =DT8+$CA8 -> 3.1762394 | ... FS8: =EO8+$CA8 -> 3.1794422 | FU8: =300*EQ8*AR8 -> 0 | FV8: =300*ER8*AS8 -> 1226.1816 | FW8: =300*ES8*AT8 -> 4356.4111 | FX8: =300*ET8*AU8 -> 8569.1332 | FY8: =300*EU8*AV8 -> 13100.928 | FZ8: =300*EV8*AW8 -> 17667.304 | GA8: =300*EW8*AX8 -> 22187.89 | GB8: =300*EX8*AY8 -> 26631.344 | ... GW8: =300*FS8*BT8 -> 85346.665 | GZ8: ROS output values (wind speed) | IF8: HFI output values (Wind Speed)
A9: 5 | B9: =IF(AND($GZ$5>12, $GZ$5<19), A9*5-5, "") | D9: C-5 | E9: 30 | F9: 0.0697 | G9: 4 | J9: 0.8 | K9: 56 | L9: =IF('Graph-Settings'!$I$6='Graph-Settings'!$C$46, K9, 'Graph-Settings'!$I$6) -> 56 | M9: =EXP(50*LN($J9)*(1/$L9-1/$K9)) -> 1 | N9: =$E9*(1-EXP(-$F9*N$4))^$G9 -> 0 | O9: =$E9*(1-EXP(-$F9*O$4))^$G9 -> 0.019618146 | P9: =$E9*(1-EXP(-$F9*P$4))^$G9 -> 0.22491129 | Q9: =$E9*(1-EXP(-$F9*Q$4))^$G9 -> 0.82409534 | R9: =$E9*(1-EXP(-$F9*R$4))^$G9 -> 1.9040073 | S9: =$E9*(1-EXP(-$F9*S$4))^$G9 -> 3.4319002 | T9: =$E9*(1-EXP(-$F9*T$4))^$G9 -> 5.3054017 | U9: =$E9*(1-EXP(-$F9*U$4))^$G9 -> 7.3982418 | ... AP9: =$E9*(1-EXP(-$F9*AP$4))^$G9 -> 29.097803 | AR9: =$M9*N9 -> 0 | AS9: =$M9*O9 -> 0.019618146 | AT9: =$M9*P9 -> 0.22491129 | AU9: =$M9*Q9 -> 0.82409534 | AV9: =$M9*R9 -> 1.9040073 | AW9: =$M9*S9 -> 3.4319002 | AX9: =$M9*T9 -> 5.3054017 | AY9: =$M9*U9 -> 7.3982418 | ... BT9: =$M9*AP9 -> 29.097803 | BW9: C-5 | CA9: =5*(1-EXP(-0.0149*L9))^2.48 -> 1.2181424 | CC9: 18 | CD9: 1.2 | CE9: =0.001*CC9^1.5*(460+25.9*$CC$1)^1.5 -> 12375.072 | CF9: =CE9/(300*CA9) -> 33.863233 | CI9: =IF(1-EXP(-0.23*(AR9-$CF9))<0, 0, 1-EXP(-0.23*(AR9-$CF9))) -> 0 | CJ9: =IF(1-EXP(-0.23*(AS9-$CF9))<0, 0, 1-EXP(-0.23*(AS9-$CF9))) -> 0 | CK9: =IF(1-EXP(-0.23*(AT9-$CF9))<0, 0, 1-EXP(-0.23*(AT9-$CF9))) -> 0 | CL9: =IF(1-EXP(-0.23*(AU9-$CF9))<0, 0, 1-EXP(-0.23*(AU9-$CF9))) -> 0 | CM9: =IF(1-EXP(-0.23*(AV9-$CF9))<0, 0, 1-EXP(-0.23*(AV9-$CF9))) -> 0 | CN9: =IF(1-EXP(-0.23*(AW9-$CF9))<0, 0, 1-EXP(-0.23*(AW9-$CF9))) -> 0 | CO9: =IF(1-EXP(-0.23*(AX9-$CF9))<0, 0, 1-EXP(-0.23*(AX9-$CF9))) -> 0 | CP9: =IF(1-EXP(-0.23*(AY9-$CF9))<0, 0, 1-EXP(-0.23*(AY9-$CF9))) -> 0 | ... DK9: =IF(1-EXP(-0.23*(BT9-$CF9))<0, 0, 1-EXP(-0.23*(BT9-$CF9))) -> 0 | DM9: =CI9*$CD9 -> 0 | DN9: =CJ9*$CD9 -> 0 | DO9: =CK9*$CD9 -> 0 | DP9: =CL9*$CD9 -> 0 | DQ9: =CM9*$CD9 -> 0 | DR9: =CN9*$CD9 -> 0 | DS9: =CO9*$CD9 -> 0 | DT9: =CP9*$CD9 -> 0 | ... EO9: =DK9*$CD9 -> 0 | EQ9: =DM9+$CA9 -> 1.2181424 | ER9: =DN9+$CA9 -> 1.2181424 | ES9: =DO9+$CA9 -> 1.2181424 | ET9: =DP9+$CA9 -> 1.2181424 | EU9: =DQ9+$CA9 -> 1.2181424 | EV9: =DR9+$CA9 -> 1.2181424 | EW9: =DS9+$CA9 -> 1.2181424 | EX9: =DT9+$CA9 -> 1.2181424 | ... FS9: =EO9+$CA9 -> 1.2181424 | FU9: =300*EQ9*AR9 -> 0 | FV9: =300*ER9*AS9 -> 7.1693086 | FW9: =300*ES9*AT9 -> 82.192192 | FX9: =300*ET9*AU9 -> 301.15963 | FY9: =300*EU9*AV9 -> 695.8056 | FZ9: =300*EV9*AW9 -> 1254.1629 | GA9: =300*EW9*AX9 -> 1938.8204 | GB9: =300*EX9*AY9 -> 2703.6335 | ... GW9: =300*FS9*BT9 -> 10633.58 | GY9: Control1 | GZ9: =GZ5 -> 3 | HA9: =INDEX($AR$32:$BT$49, $GZ9, AR$28) -> 0.84300057 | HB9: =INDEX($AR$32:$BT$49, $GZ9, AS$28) -> 1.1789693 | HC9: =INDEX($AR$32:$BT$49, $GZ9, AT$28) -> 1.6398841 | HD9: =INDEX($AR$32:$BT$49, $GZ9, AU$28) -> 2.2671227 | HE9: =INDEX($AR$32:$BT$49, $GZ9, AV$28) -> 3.1129646 | HF9: =INDEX($AR$32:$BT$49, $GZ9, AW$28) -> 4.2419583 | HG9: =INDEX($AR$32:$BT$49, $GZ9, AX$28) -> 5.7316063 | HH9: =INDEX($AR$32:$BT$49, $GZ9, AY$28) -> 7.6718058 | ... IC9: =INDEX($AR$32:$BT$49, $GZ9, BT$28) -> 86.19879 | IE9: Control1 | IF9: =IF5 -> 3 | IG9: =INDEX($FU$32:$GW$49, $IF9, FU$28) -> 462.48486 | IH9: =INDEX($FU$32:$GW$49, $IF9, FV$28) -> 646.80316 | II9: =INDEX($FU$32:$GW$49, $IF9, FW$28) -> 899.66912 | IJ9: =INDEX($FU$32:$GW$49, $IF9, FX$28) -> 1243.7832 | IK9: =INDEX($FU$32:$GW$49, $IF9, FY$28) -> 1707.8268 | IL9: =INDEX($FU$32:$GW$49, $IF9, FZ$28) -> 2327.2125 | IM9: =INDEX($FU$32:$GW$49, $IF9, GA$28) -> 3144.4595 | IN9: =INDEX($FU$32:$GW$49, $IF9, GB$28) -> 4747.0434 | ... JI9: =INDEX($FU$32:$GW$49, $IF9, GW$28) -> 77028.746
A10: 6 | B10: =IF(AND($GZ$5>12, $GZ$5<19), A10*5-5, "") | D10: C-6 | K10: 62 | L10: =IF('Graph-Settings'!$I$6='Graph-Settings'!$C$46, K10, 'Graph-Settings'!$I$6) -> 62 | AR10: =AR24+CI10*(AR25-AR24) -> 0 | AS10: =AS24+CJ10*(AS25-AS24) -> 0.17868728 | AT10: =AT24+CK10*(AT25-AT24) -> 1.0749763 | AU10: =AU24+CL10*(AU25-AU24) -> 2.7554652 | AV10: =AV24+CM10*(AV25-AV24) -> 5.0095413 | AW10: =AW24+CN10*(AW25-AW24) -> 15.051649 | AX10: =AX24+CO10*(AX25-AX24) -> 24.257609 | AY10: =AY24+CP10*(AY25-AY24) -> 30.711665 | ... BT10: =BT24+DK10*(BT25-BT24) -> 58.038249 | BW10: C-6 | CA10: =5*(1-EXP(-0.0149*L10))^2.48 -> 1.4260786 | CC10: =$CG$1 -> 6 | CD10: 1.8 | CE10: =0.001*CC10^1.5*(460+25.9*$CC$1)^1.5 -> 2381.5836 | CF10: =CE10/(300*CA10) -> 5.5667423 | CG10: =((1.5-0.00275*CC1)^4)/(460+(25.9*CC1))*1000 -> 0.77823696 | CI10: =IF(1-EXP(-0.23*(AR24-$CF10))<0, 0, 1-EXP(-0.23*(AR24-$CF10))) -> 0 | CJ10: =IF(1-EXP(-0.23*(AS24-$CF10))<0, 0, 1-EXP(-0.23*(AS24-$CF10))) -> 0 | CK10: =IF(1-EXP(-0.23*(AT24-$CF10))<0, 0, 1-EXP(-0.23*(AT24-$CF10))) -> 0 | CL10: =IF(1-EXP(-0.23*(AU24-$CF10))<0, 0, 1-EXP(-0.23*(AU24-$CF10))) -> 0 | CM10: =IF(1-EXP(-0.23*(AV24-$CF10))<0, 0, 1-EXP(-0.23*(AV24-$CF10))) -> 0 | CN10: =IF(1-EXP(-0.23*(AW24-$CF10))<0, 0, 1-EXP(-0.23*(AW24-$CF10))) -> 0.3702639 | CO10: =IF(1-EXP(-0.23*(AX24-$CF10))<0, 0, 1-EXP(-0.23*(AX24-$CF10))) -> 0.65844858 | CP10: =IF(1-EXP(-0.23*(AY24-$CF10))<0, 0, 1-EXP(-0.23*(AY24-$CF10))) -> 0.81182651 | ... DK10: =IF(1-EXP(-0.23*(BT24-$CF10))<0, 0, 1-EXP(-0.23*(BT24-$CF10))) -> 0.99608675 | DM10: =CI10*$CD10 -> 0 | DN10: =CJ10*$CD10 -> 0 | DO10: =CK10*$CD10 -> 0 | DP10: =CL10*$CD10 -> 0 | DQ10: =CM10*$CD10 -> 0 | DR10: =CN10*$CD10 -> 0.66647501 | DS10: =CO10*$CD10 -> 1.1852074 | DT10: =CP10*$CD10 -> 1.4612877 | ... EO10: =DK10*$CD10 -> 1.7929561 | EQ10: =DM10+$CA10 -> 1.4260786 | ER10: =DN10+$CA10 -> 1.4260786 | ES10: =DO10+$CA10 -> 1.4260786 | ET10: =DP10+$CA10 -> 1.4260786 | EU10: =DQ10+$CA10 -> 1.4260786 | EV10: =DR10+$CA10 -> 2.0925536 | EW10: =DS10+$CA10 -> 2.6112861 | EX10: =DT10+$CA10 -> 2.8873663 | ... FS10: =EO10+$CA10 -> 3.2190348 | FU10: =300*EQ10*AR10 -> 0 | FV10: =300*ER10*AS10 -> 76.446634 | FW10: =300*ES10*AT10 -> 459.9002 | FX10: =300*ET10*AU10 -> 1178.853 | FY10: =300*EU10*AV10 -> 2143.1999 | FZ10: =300*EV10*AW10 -> 9448.9151 | GA10: =300*EW10*AX10 -> 19003.067 | GB10: =300*EX10*AY10 -> 26602.748 | ... GW10: =300*FS10*BT10 -> 56048.142
A11: 7 | B11: =IF(AND($GZ$5>12, $GZ$5<19), A11*5-5, "") | D11: C-7 | E11: 45 | F11: 0.0305 | G11: 2 | J11: 0.85 | K11: 106 | L11: =IF('Graph-Settings'!$I$6='Graph-Settings'!$C$46, K11, 'Graph-Settings'!$I$6) -> 106 | M11: =EXP(50*LN($J11)*(1/$L11-1/$K11)) -> 1 | N11: =$E11*(1-EXP(-$F11*N$4))^$G11 -> 0 | O11: =$E11*(1-EXP(-$F11*O$4))^$G11 -> 0.2425424 | P11: =$E11*(1-EXP(-$F11*P$4))^$G11 -> 0.90025139 | Q11: =$E11*(1-EXP(-$F11*Q$4))^$G11 -> 1.8814072 | R11: =$E11*(1-EXP(-$F11*R$4))^$G11 -> 3.1096854 | S11: =$E11*(1-EXP(-$F11*S$4))^$G11 -> 4.521802 | T11: =$E11*(1-EXP(-$F11*T$4))^$G11 -> 6.0655036 | U11: =$E11*(1-EXP(-$F11*U$4))^$G11 -> 7.6978549 | ... AP11: =$E11*(1-EXP(-$F11*AP$4))^$G11 -> 34.987167 | AR11: =$M11*N11 -> 0 | AS11: =$M11*O11 -> 0.2425424 | AT11: =$M11*P11 -> 0.90025139 | AU11: =$M11*Q11 -> 1.8814072 | AV11: =$M11*R11 -> 3.1096854 | AW11: =$M11*S11 -> 4.521802 | AX11: =$M11*T11 -> 6.0655036 | AY11: =$M11*U11 -> 7.6978549 | ... BT11: =$M11*AP11 -> 34.987167 | BW11: C-7 | BY11: =2*(1-EXP(-0.104*(BY1-70))) -> 1.7748195 | BZ11: =1.5*(1-EXP(-0.0201*L11)) -> 1.321851 | CA11: =IF(BY11>0, BZ11+BY11, BZ11) -> 3.0966704 | CC11: 10 | CD11: 0.5 | CE11: =0.001*CC11^1.5*(460+25.9*$CC$1)^1.5 -> 5124.3521 | CF11: =CE11/(300*CA11) -> 5.5159805 | CI11: =IF(1-EXP(-0.23*(AR11-$CF11))<0, 0, 1-EXP(-0.23*(AR11-$CF11))) -> 0 | CJ11: =IF(1-EXP(-0.23*(AS11-$CF11))<0, 0, 1-EXP(-0.23*(AS11-$CF11))) -> 0 | CK11: =IF(1-EXP(-0.23*(AT11-$CF11))<0, 0, 1-EXP(-0.23*(AT11-$CF11))) -> 0 | CL11: =IF(1-EXP(-0.23*(AU11-$CF11))<0, 0, 1-EXP(-0.23*(AU11-$CF11))) -> 0 | CM11: =IF(1-EXP(-0.23*(AV11-$CF11))<0, 0, 1-EXP(-0.23*(AV11-$CF11))) -> 0 | CN11: =IF(1-EXP(-0.23*(AW11-$CF11))<0, 0, 1-EXP(-0.23*(AW11-$CF11))) -> 0 | CO11: =IF(1-EXP(-0.23*(AX11-$CF11))<0, 0, 1-EXP(-0.23*(AX11-$CF11))) -> 0.11872919 | CP11: =IF(1-EXP(-0.23*(AY11-$CF11))<0, 0, 1-EXP(-0.23*(AY11-$CF11))) -> 0.39457896 | ... DK11: =IF(1-EXP(-0.23*(BT11-$CF11))<0, 0, 1-EXP(-0.23*(BT11-$CF11))) -> 0.99886187 | DM11: =CI11*$CD11 -> 0 | DN11: =CJ11*$CD11 -> 0 | DO11: =CK11*$CD11 -> 0 | DP11: =CL11*$CD11 -> 0 | DQ11: =CM11*$CD11 -> 0 | DR11: =CN11*$CD11 -> 0 | DS11: =CO11*$CD11 -> 0.059364597 | DT11: =CP11*$CD11 -> 0.19728948 | ... EO11: =DK11*$CD11 -> 0.49943094 | EQ11: =DM11+$CA11 -> 3.0966704 | ER11: =DN11+$CA11 -> 3.0966704 | ES11: =DO11+$CA11 -> 3.0966704 | ET11: =DP11+$CA11 -> 3.0966704 | EU11: =DQ11+$CA11 -> 3.0966704 | EV11: =DR11+$CA11 -> 3.0966704 | EW11: =DS11+$CA11 -> 3.156035 | EX11: =DT11+$CA11 -> 3.2939599 | ... FS11: =EO11+$CA11 -> 3.5961014 | FU11: =300*EQ11*AR11 -> 0 | FV11: =300*ER11*AS11 -> 225.32216 | FW11: =300*ES11*AT11 -> 836.33456 | FX11: =300*ET11*AU11 -> 1747.8294 | FY11: =300*EU11*AV11 -> 2888.9013 | FZ11: =300*EV11*AW11 -> 4200.7592 | GA11: =300*EW11*AX11 -> 5742.8825 | GB11: =300*EX11*AY11 -> 7606.9277 | ... GW11: =300*FS11*BT11 -> 37745.22
A12: 8 | B12: =IF(AND($GZ$5>12, $GZ$5<19), A12*5-5, "") | D12: D-1 | E12: 30 | F12: 0.0232 | G12: 1.6 | J12: 0.9 | K12: 32 | L12: =IF('Graph-Settings'!$I$6='Graph-Settings'!$C$46, K12, 'Graph-Settings'!$I$6) -> 32 | M12: =EXP(50*LN($J12)*(1/$L12-1/$K12)) -> 1 | N12: =$E12*(1-EXP(-$F12*N$4))^$G12 -> 0 | O12: =$E12*(1-EXP(-$F12*O$4))^$G12 -> 0.30099008 | P12: =$E12*(1-EXP(-$F12*P$4))^$G12 -> 0.87164784 | Q12: =$E12*(1-EXP(-$F12*Q$4))^$G12 -> 1.5937589 | R12: =$E12*(1-EXP(-$F12*R$4))^$G12 -> 2.4146525 | S12: =$E12*(1-EXP(-$F12*S$4))^$G12 -> 3.3009198 | T12: =$E12*(1-EXP(-$F12*T$4))^$G12 -> 4.2290542 | U12: =$E12*(1-EXP(-$F12*U$4))^$G12 -> 5.1816731 | ... AP12: =$E12*(1-EXP(-$F12*AP$4))^$G12 -> 21.114076 | AR12: =$M12*N12 -> 0 | AS12: =$M12*O12 -> 0.30099008 | AT12: =$M12*P12 -> 0.87164784 | AU12: =$M12*Q12 -> 1.5937589 | AV12: =$M12*R12 -> 2.4146525 | AW12: =$M12*S12 -> 3.3009198 | AX12: =$M12*T12 -> 4.2290542 | AY12: =$M12*U12 -> 5.1816731 | ... BT12: =$M12*AP12 -> 21.114076 | BW12: D-1 | CA12: =1.5*(1-EXP(-0.0183*L12)) -> 0.66484245 | DM12: =CI12*$CD12 -> 0 | DN12: =CJ12*$CD12 -> 0 | DO12: =CK12*$CD12 -> 0 | DP12: =CL12*$CD12 -> 0 | DQ12: =CM12*$CD12 -> 0 | DR12: =CN12*$CD12 -> 0 | DS12: =CO12*$CD12 -> 0 | DT12: =CP12*$CD12 -> 0 | ... EO12: =DK12*$CD12 -> 0 | EQ12: =DM12+$CA12 -> 0.66484245 | ER12: =DN12+$CA12 -> 0.66484245 | ES12: =DO12+$CA12 -> 0.66484245 | ET12: =DP12+$CA12 -> 0.66484245 | EU12: =DQ12+$CA12 -> 0.66484245 | EV12: =DR12+$CA12 -> 0.66484245 | EW12: =DS12+$CA12 -> 0.66484245 | EX12: =DT12+$CA12 -> 0.66484245 | ... FS12: =EO12+$CA12 -> 0.66484245 | FU12: =300*EQ12*AR12 -> 0 | FV12: =300*ER12*AS12 -> 60.033294 | FW12: =300*ES12*AT12 -> 173.85255 | FX12: =300*ET12*AU12 -> 317.87957 | FY12: =300*EU12*AV12 -> 481.60905 | FZ12: =300*EV12*AW12 -> 658.37748 | GA12: =300*EW12*AX12 -> 843.49643 | GB12: =300*EX12*AY12 -> 1033.4989 | ... GW12: =300*FS12*BT12 -> 4211.2601
A13: 9 | B13: =IF(AND($GZ$5>12, $GZ$5<19), A13*5-5, "") | D13: D-2 | E13: 30 | F13: 0.0232 | G13: 1.6 | J13: 0.9 | K13: 32 | L13: =IF('Graph-Settings'!$I$6='Graph-Settings'!$C$46, K13, 'Graph-Settings'!$I$6) -> 32 | M13: =EXP(50*LN($J13)*(1/$L13-1/$K13)) -> 1 | N13: =IF('Graph-Settings'!$I$6>69, 0.2*(N12), 0) -> 0 | O13: =IF('Graph-Settings'!$I$6>69, 0.2*(O12), 0) -> 0.060198015 | P13: =IF('Graph-Settings'!$I$6>69, 0.2*(P12), 0) -> 0.17432957 | Q13: =IF('Graph-Settings'!$I$6>69, 0.2*(Q12), 0) -> 0.31875178 | R13: =IF('Graph-Settings'!$I$6>69, 0.2*(R12), 0) -> 0.4829305 | S13: =IF('Graph-Settings'!$I$6>69, 0.2*(S12), 0) -> 0.66018396 | T13: =IF('Graph-Settings'!$I$6>69, 0.2*(T12), 0) -> 0.84581084 | U13: =IF('Graph-Settings'!$I$6>69, 0.2*(U12), 0) -> 1.0363346 | ... AP13: =IF('Graph-Settings'!$I$6>69, 0.2*(AP12), 0) -> 4.2228151 | AR13: =$M13*N13 -> 0 | AS13: =$M13*O13 -> 0.060198015 | AT13: =$M13*P13 -> 0.17432957 | AU13: =$M13*Q13 -> 0.31875178 | AV13: =$M13*R13 -> 0.4829305 | AW13: =$M13*S13 -> 0.66018396 | AX13: =$M13*T13 -> 0.84581084 | AY13: =$M13*U13 -> 1.0363346 | ... BT13: =$M13*AP13 -> 4.2228151 | BW13: D-2 | CA13: =1.5*(1-EXP(-0.0183*L13)) -> 0.66484245 | DM13: =CI13*$CD13 -> 0 | DN13: =CJ13*$CD13 -> 0 | DO13: =CK13*$CD13 -> 0 | DP13: =CL13*$CD13 -> 0 | DQ13: =CM13*$CD13 -> 0 | DR13: =CN13*$CD13 -> 0 | DS13: =CO13*$CD13 -> 0 | DT13: =CP13*$CD13 -> 0 | ... EO13: =DK13*$CD13 -> 0 | EQ13: =DM13+$CA13 -> 0.66484245 | ER13: =DN13+$CA13 -> 0.66484245 | ES13: =DO13+$CA13 -> 0.66484245 | ET13: =DP13+$CA13 -> 0.66484245 | EU13: =DQ13+$CA13 -> 0.66484245 | EV13: =DR13+$CA13 -> 0.66484245 | EW13: =DS13+$CA13 -> 0.66484245 | EX13: =DT13+$CA13 -> 0.66484245 | ... FS13: =EO13+$CA13 -> 0.66484245 | FU13: =300*EQ13*AR13 -> 0 | FV13: =300*ER13*AS13 -> 12.006659 | FW13: =300*ES13*AT13 -> 34.770509 | FX13: =300*ET13*AU13 -> 63.575914 | FY13: =300*EU13*AV13 -> 96.32181 | FZ13: =300*EV13*AW13 -> 131.6755 | GA13: =300*EW13*AX13 -> 168.69929 | GB13: =300*EX13*AY13 -> 206.69978 | ... GW13: =300*FS13*BT13 -> 842.25202
A14: 10 | B14: =IF(AND($GZ$5>12, $GZ$5<19), A14*5-5, "") | D14: S-1 | E14: 75 | F14: 0.0297 | G14: 1.3 | J14: 0.75 | K14: 38 | L14: =IF('Graph-Settings'!$I$6='Graph-Settings'!$C$46, K14, 'Graph-Settings'!$I$6) -> 38 | M14: =EXP(50*LN($J14)*(1/$L14-1/$K14)) -> 1 | N14: =$E14*(1-EXP(-$F14*N$4))^$G14 -> 0 | O14: =$E14*(1-EXP(-$F14*O$4))^$G14 -> 2.4329669 | P14: =$E14*(1-EXP(-$F14*P$4))^$G14 -> 5.7135239 | Q14: =$E14*(1-EXP(-$F14*Q$4))^$G14 -> 9.2365676 | R14: =$E14*(1-EXP(-$F14*R$4))^$G14 -> 12.819693 | S14: =$E14*(1-EXP(-$F14*S$4))^$G14 -> 16.370635 | T14: =$E14*(1-EXP(-$F14*T$4))^$G14 -> 19.836435 | U14: =$E14*(1-EXP(-$F14*U$4))^$G14 -> 23.185355 | ... AP14: =$E14*(1-EXP(-$F14*AP$4))^$G14 -> 63.04289 | AR14: =$M14*N14 -> 0 | AS14: =$M14*O14 -> 2.4329669 | AT14: =$M14*P14 -> 5.7135239 | AU14: =$M14*Q14 -> 9.2365676 | AV14: =$M14*R14 -> 12.819693 | AW14: =$M14*S14 -> 16.370635 | AX14: =$M14*T14 -> 19.836435 | AY14: =$M14*U14 -> 23.185355 | ... BT14: =$M14*AP14 -> 63.04289 | BW14: S-1 | BY14: =4*(1-EXP(-0.025*L14)) -> 2.4530359 | BZ14: =4*(1-EXP(-0.034*L14)) -> 2.9011168 | CA14: =BY14+BZ14 -> 5.3541527 | DM14: =CI14*$CD14 -> 0 | DN14: =CJ14*$CD14 -> 0 | DO14: =CK14*$CD14 -> 0 | DP14: =CL14*$CD14 -> 0 | DQ14: =CM14*$CD14 -> 0 | DR14: =CN14*$CD14 -> 0 | DS14: =CO14*$CD14 -> 0 | DT14: =CP14*$CD14 -> 0 | ... EO14: =DK14*$CD14 -> 0 | EQ14: =DM14+$CA14 -> 5.3541527 | ER14: =DN14+$CA14 -> 5.3541527 | ES14: =DO14+$CA14 -> 5.3541527 | ET14: =DP14+$CA14 -> 5.3541527 | EU14: =DQ14+$CA14 -> 5.3541527 | EV14: =DR14+$CA14 -> 5.3541527 | EW14: =DS14+$CA14 -> 5.3541527 | EX14: =DT14+$CA14 -> 5.3541527 | ... FS14: =EO14+$CA14 -> 5.3541527 | FU14: =300*EQ14*AR14 -> 0 | FV14: =300*ER14*AS14 -> 3907.943 | FW14: =300*ES14*AT14 -> 9177.3238 | FX14: =300*ET14*AU14 -> 14836.198 | FY14: =300*EU14*AV14 -> 20591.578 | FZ14: =300*EV14*AW14 -> 26295.265 | GA14: =300*EW14*AX14 -> 31862.192 | GB14: =300*EX14*AY14 -> 37241.38 | ... GW14: =300*FS14*BT14 -> 101262.38
A15: 11 | B15: =IF(AND($GZ$5>12, $GZ$5<19), A15*5-5, "") | D15: S-2 | E15: 40 | F15: 0.0438 | G15: 1.7 | J15: 0.75 | K15: 63 | L15: =IF('Graph-Settings'!$I$6='Graph-Settings'!$C$46, K15, 'Graph-Settings'!$I$6) -> 63 | M15: =EXP(50*LN($J15)*(1/$L15-1/$K15)) -> 1 | N15: =$E15*(1-EXP(-$F15*N$4))^$G15 -> 0 | O15: =$E15*(1-EXP(-$F15*O$4))^$G15 -> 0.84920169 | P15: =$E15*(1-EXP(-$F15*P$4))^$G15 -> 2.5202631 | Q15: =$E15*(1-EXP(-$F15*Q$4))^$G15 -> 4.5943166 | R15: =$E15*(1-EXP(-$F15*R$4))^$G15 -> 6.8670521 | S15: =$E15*(1-EXP(-$F15*S$4))^$G15 -> 9.21301 | T15: =$E15*(1-EXP(-$F15*T$4))^$G15 -> 11.551025 | U15: =$E15*(1-EXP(-$F15*U$4))^$G15 -> 13.828114 | ... AP15: =$E15*(1-EXP(-$F15*AP$4))^$G15 -> 36.882653 | AR15: =$M15*N15 -> 0 | AS15: =$M15*O15 -> 0.84920169 | AT15: =$M15*P15 -> 2.5202631 | AU15: =$M15*Q15 -> 4.5943166 | AV15: =$M15*R15 -> 6.8670521 | AW15: =$M15*S15 -> 9.21301 | AX15: =$M15*T15 -> 11.551025 | AY15: =$M15*U15 -> 13.828114 | ... BT15: =$M15*AP15 -> 36.882653 | BW15: S-2 | BY15: =10*(1-EXP(-0.013*L15)) -> 5.5912769 | BZ15: =6*(1-EXP(-0.06*L15)) -> 5.8630639 | CA15: =BY15+BZ15 -> 11.454341 | DM15: =CI15*$CD15 -> 0 | DN15: =CJ15*$CD15 -> 0 | DO15: =CK15*$CD15 -> 0 | DP15: =CL15*$CD15 -> 0 | DQ15: =CM15*$CD15 -> 0 | DR15: =CN15*$CD15 -> 0 | DS15: =CO15*$CD15 -> 0 | DT15: =CP15*$CD15 -> 0 | ... EO15: =DK15*$CD15 -> 0 | EQ15: =DM15+$CA15 -> 11.454341 | ER15: =DN15+$CA15 -> 11.454341 | ES15: =DO15+$CA15 -> 11.454341 | ET15: =DP15+$CA15 -> 11.454341 | EU15: =DQ15+$CA15 -> 11.454341 | EV15: =DR15+$CA15 -> 11.454341 | EW15: =DS15+$CA15 -> 11.454341 | EX15: =DT15+$CA15 -> 11.454341 | ... FS15: =EO15+$CA15 -> 11.454341 | FU15: =300*EQ15*AR15 -> 0 | FV15: =300*ER15*AS15 -> 2918.1137 | FW15: =300*ES15*AT15 -> 8660.3857 | FX15: =300*ET15*AU15 -> 15787.461 | FY15: =300*EU15*AV15 -> 23597.267 | FZ15: =300*EV15*AW15 -> 31658.687 | GA15: =300*EW15*AX15 -> 39692.815 | GB15: =300*EX15*AY15 -> 47517.578 | ... GW15: =300*FS15*BT15 -> 126739.94
A16: 12 | B16: =IF(AND($GZ$5>12, $GZ$5<19), A16*5-5, "") | D16: S-3 | E16: 55 | F16: 0.0829 | G16: 3.2 | J16: 0.75 | K16: 31 | L16: =IF('Graph-Settings'!$I$6='Graph-Settings'!$C$46, K16, 'Graph-Settings'!$I$6) -> 31 | M16: =EXP(50*LN($J16)*(1/$L16-1/$K16)) -> 1 | N16: =$E16*(1-EXP(-$F16*N$4))^$G16 -> 0 | O16: =$E16*(1-EXP(-$F16*O$4))^$G16 -> 0.25799987 | P16: =$E16*(1-EXP(-$F16*P$4))^$G16 -> 1.7312179 | Q16: =$E16*(1-EXP(-$F16*Q$4))^$G16 -> 4.6796167 | R16: =$E16*(1-EXP(-$F16*R$4))^$G16 -> 8.7752372 | S16: =$E16*(1-EXP(-$F16*S$4))^$G16 -> 13.533872 | T16: =$E16*(1-EXP(-$F16*T$4))^$G16 -> 18.516979 | U16: =$E16*(1-EXP(-$F16*U$4))^$G16 -> 23.398012 | ... AP16: =$E16*(1-EXP(-$F16*AP$4))^$G16 -> 54.470508 | AR16: =$M16*N16 -> 0 | AS16: =$M16*O16 -> 0.25799987 | AT16: =$M16*P16 -> 1.7312179 | AU16: =$M16*Q16 -> 4.6796167 | AV16: =$M16*R16 -> 8.7752372 | AW16: =$M16*S16 -> 13.533872 | AX16: =$M16*T16 -> 18.516979 | AY16: =$M16*U16 -> 23.398012 | ... BT16: =$M16*AP16 -> 54.470508 | BW16: S-3 | BY16: =12*(1-EXP(-0.0166*L16)) -> 4.8271243 | BZ16: =20*(1-EXP(-0.021*L16)) -> 9.5695202 | CA16: =BY16+BZ16 -> 14.396644 | DM16: =CI16*$CD16 -> 0 | DN16: =CJ16*$CD16 -> 0 | DO16: =CK16*$CD16 -> 0 | DP16: =CL16*$CD16 -> 0 | DQ16: =CM16*$CD16 -> 0 | DR16: =CN16*$CD16 -> 0 | DS16: =CO16*$CD16 -> 0 | DT16: =CP16*$CD16 -> 0 | ... EO16: =DK16*$CD16 -> 0 | EQ16: =DM16+$CA16 -> 14.396644 | ER16: =DN16+$CA16 -> 14.396644 | ES16: =DO16+$CA16 -> 14.396644 | ET16: =DP16+$CA16 -> 14.396644 | EU16: =DQ16+$CA16 -> 14.396644 | EV16: =DR16+$CA16 -> 14.396644 | EW16: =DS16+$CA16 -> 14.396644 | EX16: =DT16+$CA16 -> 14.396644 | ... FS16: =EO16+$CA16 -> 14.396644 | FU16: =300*EQ16*AR16 -> 0 | FV16: =300*ER16*AS16 -> 1114.2997 | FW16: =300*ES16*AT16 -> 7477.1185 | FX16: =300*ET16*AU16 -> 20211.233 | FY16: =300*EU16*AV16 -> 37900.191 | FZ16: =300*EV16*AW16 -> 58452.703 | GA16: =300*EW16*AX16 -> 79974.711 | GB16: =300*EX16*AY16 -> 101055.86 | ... GW16: =300*FS16*BT16 -> 235257.76
A17: 13 | B17: =IF(AND($GZ$5>12, $GZ$5<19), A17*5-5, "") | D17: O-1a | E17: 190 | F17: 0.031 | G17: 1.4 | H17: =$C$6 -> 75 | I17: =IF(H17<58.8, 0.005*(EXP(0.061*H17)-1), 0.176+0.02*(H17-58.8)) -> 0.5 | N17: =$I17*($E17*(1-EXP(-$F17*N$4))^$G17) -> 0 | O17: =$I17*($E17*(1-EXP(-$F17*O$4))^$G17) -> 2.5080585 | P17: =$I17*($E17*(1-EXP(-$F17*P$4))^$G17) -> 6.2758934 | Q17: =$I17*($E17*(1-EXP(-$F17*Q$4))^$G17) -> 10.505172 | R17: =$I17*($E17*(1-EXP(-$F17*R$4))^$G17) -> 14.921783 | S17: =$I17*($E17*(1-EXP(-$F17*S$4))^$G17) -> 19.377641 | T17: =$I17*($E17*(1-EXP(-$F17*T$4))^$G17) -> 23.782793 | U17: =$I17*($E17*(1-EXP(-$F17*U$4))^$G17) -> 28.080034 | ... AP17: =$I17*($E17*(1-EXP(-$F17*AP$4))^$G17) -> 80.169452 | AR17: =$I17*($E17*(1-EXP(-$F17*AR$4))^$G17) -> 0 | AS17: =$I17*($E17*(1-EXP(-$F17*AS$4))^$G17) -> 2.5080585 | AT17: =$I17*($E17*(1-EXP(-$F17*AT$4))^$G17) -> 6.2758934 | AU17: =$I17*($E17*(1-EXP(-$F17*AU$4))^$G17) -> 10.505172 | AV17: =$I17*($E17*(1-EXP(-$F17*AV$4))^$G17) -> 14.921783 | AW17: =$I17*($E17*(1-EXP(-$F17*AW$4))^$G17) -> 19.377641 | AX17: =$I17*($E17*(1-EXP(-$F17*AX$4))^$G17) -> 23.782793 | AY17: =$I17*($E17*(1-EXP(-$F17*AY$4))^$G17) -> 28.080034 | ... BT17: =$I17*($E17*(1-EXP(-$F17*BT$4))^$G17) -> 80.169452 | BW17: O-1a | CA17: =CE1/10 -> 0.35 | DM17: =CI17*$CD17 -> 0 | DN17: =CJ17*$CD17 -> 0 | DO17: =CK17*$CD17 -> 0 | DP17: =CL17*$CD17 -> 0 | DQ17: =CM17*$CD17 -> 0 | DR17: =CN17*$CD17 -> 0 | DS17: =CO17*$CD17 -> 0 | DT17: =CP17*$CD17 -> 0 | ... EO17: =DK17*$CD17 -> 0 | EQ17: =DM17+$CA17 -> 0.35 | ER17: =DN17+$CA17 -> 0.35 | ES17: =DO17+$CA17 -> 0.35 | ET17: =DP17+$CA17 -> 0.35 | EU17: =DQ17+$CA17 -> 0.35 | EV17: =DR17+$CA17 -> 0.35 | EW17: =DS17+$CA17 -> 0.35 | EX17: =DT17+$CA17 -> 0.35 | ... FS17: =EO17+$CA17 -> 0.35 | FU17: =300*EQ17*AR17 -> 0 | FV17: =300*ER17*AS17 -> 263.34615 | FW17: =300*ES17*AT17 -> 658.9688 | FX17: =300*ET17*AU17 -> 1103.043 | FY17: =300*EU17*AV17 -> 1566.7872 | FZ17: =300*EV17*AW17 -> 2034.6523 | GA17: =300*EW17*AX17 -> 2497.1933 | GB17: =300*EX17*AY17 -> 2948.4035 | ... GW17: =300*FS17*BT17 -> 8417.7925
A18: 14 | B18: =IF(AND($GZ$5>12, $GZ$5<19), A18*5-5, "") | D18: O-1b | E18: 250 | F18: 0.035 | G18: 1.7 | H18: =$C$6 -> 75 | I18: =IF(H18<58.8, 0.005*(EXP(0.061*H18)-1), 0.176+0.02*(H18-58.8)) -> 0.5 | N18: =$I18*($E18*(1-EXP(-$F18*N$4))^$G18) -> 0 | O18: =$I18*($E18*(1-EXP(-$F18*O$4))^$G18) -> 1.8461142 | P18: =$I18*($E18*(1-EXP(-$F18*P$4))^$G18) -> 5.5771876 | Q18: =$I18*($E18*(1-EXP(-$F18*Q$4))^$G18) -> 10.342997 | R18: =$I18*($E18*(1-EXP(-$F18*R$4))^$G18) -> 15.717651 | S18: =$I18*($E18*(1-EXP(-$F18*S$4))^$G18) -> 21.426352 | T18: =$I18*($E18*(1-EXP(-$F18*T$4))^$G18) -> 27.279503 | U18: =$I18*($E18*(1-EXP(-$F18*U$4))^$G18) -> 33.142914 | ... AP18: =$I18*($E18*(1-EXP(-$F18*AP$4))^$G18) -> 107.22137 | AR18: =$I18*($E18*(1-EXP(-$F18*AR$4))^$G18) -> 0 | AS18: =$I18*($E18*(1-EXP(-$F18*AS$4))^$G18) -> 1.8461142 | AT18: =$I18*($E18*(1-EXP(-$F18*AT$4))^$G18) -> 5.5771876 | AU18: =$I18*($E18*(1-EXP(-$F18*AU$4))^$G18) -> 10.342997 | AV18: =$I18*($E18*(1-EXP(-$F18*AV$4))^$G18) -> 15.717651 | AW18: =$I18*($E18*(1-EXP(-$F18*AW$4))^$G18) -> 21.426352 | AX18: =$I18*($E18*(1-EXP(-$F18*AX$4))^$G18) -> 27.279503 | AY18: =$I18*($E18*(1-EXP(-$F18*AY$4))^$G18) -> 33.142914 | ... BT18: =$I18*($E18*(1-EXP(-$F18*BT$4))^$G18) -> 107.22137 | BW18: O-1b | CA18: =CE1/10 -> 0.35 | DM18: =CI18*$CD18 -> 0 | DN18: =CJ18*$CD18 -> 0 | DO18: =CK18*$CD18 -> 0 | DP18: =CL18*$CD18 -> 0 | DQ18: =CM18*$CD18 -> 0 | DR18: =CN18*$CD18 -> 0 | DS18: =CO18*$CD18 -> 0 | DT18: =CP18*$CD18 -> 0 | ... EO18: =DK18*$CD18 -> 0 | EQ18: =DM18+$CA18 -> 0.35 | ER18: =DN18+$CA18 -> 0.35 | ES18: =DO18+$CA18 -> 0.35 | ET18: =DP18+$CA18 -> 0.35 | EU18: =DQ18+$CA18 -> 0.35 | EV18: =DR18+$CA18 -> 0.35 | EW18: =DS18+$CA18 -> 0.35 | EX18: =DT18+$CA18 -> 0.35 | ... FS18: =EO18+$CA18 -> 0.35 | FU18: =300*EQ18*AR18 -> 0 | FV18: =300*ER18*AS18 -> 193.84199 | FW18: =300*ES18*AT18 -> 585.6047 | FX18: =300*ET18*AU18 -> 1086.0147 | FY18: =300*EU18*AV18 -> 1650.3534 | FZ18: =300*EV18*AW18 -> 2249.7669 | GA18: =300*EW18*AX18 -> 2864.3478 | GB18: =300*EX18*AY18 -> 3480.006 | ... GW18: =300*FS18*BT18 -> 11258.244
A19: 15 | B19: =IF(AND($GZ$5>12, $GZ$5<19), A19*5-5, "") | D19: M-1 | H19: =$C$6 -> 75 | J19: 0.8 | K19: 50 | L19: =IF('Graph-Settings'!$I$6='Graph-Settings'!$C$46, K19, 'Graph-Settings'!$I$6) -> 50 | M19: =EXP(50*LN($J19)*(1/$L19-1/$K19)) -> 1 | N19: =($H19/100*N$6)+((100-$H19)/100*N$12) -> 0 | O19: =($H19/100*O$6)+((100-$H19)/100*O$12) -> 1.540489 | P19: =($H19/100*P$6)+((100-$H19)/100*P$12) -> 4.1524661 | Q19: =($H19/100*Q$6)+((100-$H19)/100*Q$12) -> 7.2650639 | R19: =($H19/100*R$6)+((100-$H19)/100*R$12) -> 10.652862 | S19: =($H19/100*S$6)+((100-$H19)/100*S$12) -> 14.183348 | T19: =($H19/100*T$6)+((100-$H19)/100*T$12) -> 17.769482 | U19: =($H19/100*U$6)+((100-$H19)/100*U$12) -> 21.351156 | ... AP19: =($H19/100*AP$6)+((100-$H19)/100*AP$12) -> 71.201103 | AR19: =$M19*N19 -> 0 | AS19: =$M19*O19 -> 1.540489 | AT19: =$M19*P19 -> 4.1524661 | AU19: =$M19*Q19 -> 7.2650639 | AV19: =$M19*R19 -> 10.652862 | AW19: =$M19*S19 -> 14.183348 | AX19: =$M19*T19 -> 17.769482 | AY19: =$M19*U19 -> 21.351156 | ... BT19: =$M19*AP19 -> 71.201103 | BW19: M1 | CA19: =($C$6/100*$CA$6)+((100-$C$6)/100*$CA$12) -> 2.1198624 | CC19: 6 | CD19: 0.8 | CE19: =0.001*CC19^1.5*(460+25.9*$CC$1)^1.5 -> 2381.5836 | CF19: =CE19/(300*CA19) -> 3.7448714 | CI19: =IF(1-EXP(-0.23*(AR19-$CF19))<0, 0, 1-EXP(-0.23*(AR19-$CF19))) -> 0 | CJ19: =IF(1-EXP(-0.23*(AS19-$CF19))<0, 0, 1-EXP(-0.23*(AS19-$CF19))) -> 0 | CK19: =IF(1-EXP(-0.23*(AT19-$CF19))<0, 0, 1-EXP(-0.23*(AT19-$CF19))) -> 0.089486697 | CL19: =IF(1-EXP(-0.23*(AU19-$CF19))<0, 0, 1-EXP(-0.23*(AU19-$CF19))) -> 0.55498365 | CM19: =IF(1-EXP(-0.23*(AV19-$CF19))<0, 0, 1-EXP(-0.23*(AV19-$CF19))) -> 0.79583727 | CN19: =IF(1-EXP(-0.23*(AW19-$CF19))<0, 0, 1-EXP(-0.23*(AW19-$CF19))) -> 0.90935909 | CO19: =IF(1-EXP(-0.23*(AX19-$CF19))<0, 0, 1-EXP(-0.23*(AX19-$CF19))) -> 0.96027046 | CP19: =IF(1-EXP(-0.23*(AY19-$CF19))<0, 0, 1-EXP(-0.23*(AY19-$CF19))) -> 0.98256796 | ... DK19: =IF(1-EXP(-0.23*(BT19-$CF19))<0, 0, 1-EXP(-0.23*(BT19-$CF19))) -> 0.99999982 | DM19: =$C$6/100*CI19*$CD19 -> 0 | DN19: =$C$6/100*CJ19*$CD19 -> 0 | DO19: =$C$6/100*CK19*$CD19 -> 0.053692018 | DP19: =$C$6/100*CL19*$CD19 -> 0.33299019 | DQ19: =$C$6/100*CM19*$CD19 -> 0.47750236 | DR19: =$C$6/100*CN19*$CD19 -> 0.54561545 | DS19: =$C$6/100*CO19*$CD19 -> 0.57616228 | DT19: =$C$6/100*CP19*$CD19 -> 0.58954078 | ... EO19: =$C$6/100*DK19*$CD19 -> 0.59999989 | EQ19: =DM19+$CA19 -> 2.1198624 | ER19: =DN19+$CA19 -> 2.1198624 | ES19: =DO19+$CA19 -> 2.1735544 | ET19: =DP19+$CA19 -> 2.4528526 | EU19: =DQ19+$CA19 -> 2.5973647 | EV19: =DR19+$CA19 -> 2.6654778 | EW19: =DS19+$CA19 -> 2.6960247 | EX19: =DT19+$CA19 -> 2.7094032 | ... FS19: =EO19+$CA19 -> 2.7198623 | FU19: =300*EQ19*AR19 -> 0 | FV19: =300*ER19*AS19 -> 979.68741 | FW19: =300*ES19*AT19 -> 2707.6833 | FX19: =300*ET19*AU19 -> 5346.0392 | FY19: =300*EU19*AV19 -> 8300.8107 | FZ19: =300*EV19*AW19 -> 11341.62 | GA19: =300*EW19*AX19 -> 14372.088 | GB19: =300*EX19*AY19 -> 17354.667 | ... GW19: =300*FS19*BT19 -> 58097.158
A20: 16 | B20: =IF(AND($GZ$5>12, $GZ$5<19), A20*5-5, "") | D20: M-2 | H20: =$C$6 -> 75 | J20: 0.8 | K20: 50 | L20: =IF('Graph-Settings'!$I$6='Graph-Settings'!$C$46, K20, 'Graph-Settings'!$I$6) -> 50 | M20: =EXP(50*LN($J20)*(1/$L20-1/$K20)) -> 1 | N20: =($H20/100*N$6)+((100-$H20)/100*N$13) -> 0 | O20: =($H20/100*O$6)+((100-$H20)/100*O$13) -> 1.480291 | P20: =($H20/100*P$6)+((100-$H20)/100*P$13) -> 3.9781365 | Q20: =($H20/100*Q$6)+((100-$H20)/100*Q$13) -> 6.9463121 | R20: =($H20/100*R$6)+((100-$H20)/100*R$13) -> 10.169932 | S20: =($H20/100*S$6)+((100-$H20)/100*S$13) -> 13.523164 | T20: =($H20/100*T$6)+((100-$H20)/100*T$13) -> 16.923671 | U20: =($H20/100*U$6)+((100-$H20)/100*U$13) -> 20.314821 | ... AP20: =($H20/100*AP$6)+((100-$H20)/100*AP$13) -> 66.978288 | AR20: =$M20*N20 -> 0 | AS20: =$M20*O20 -> 1.480291 | AT20: =$M20*P20 -> 3.9781365 | AU20: =$M20*Q20 -> 6.9463121 | AV20: =$M20*R20 -> 10.169932 | AW20: =$M20*S20 -> 13.523164 | AX20: =$M20*T20 -> 16.923671 | AY20: =$M20*U20 -> 20.314821 | ... BT20: =$M20*AP20 -> 66.978288 | BW20: M2 | CA20: =($C$6/100*$CA$6)+((100-$C$6)/100*$CA$12) -> 2.1198624 | CC20: 6 | CD20: 0.8 | CE20: =0.001*CC20^1.5*(460+25.9*$CC$1)^1.5 -> 2381.5836 | CF20: =CE20/(300*CA20) -> 3.7448714 | CI20: =IF(1-EXP(-0.23*(AR20-$CF20))<0, 0, 1-EXP(-0.23*(AR20-$CF20))) -> 0 | CJ20: =IF(1-EXP(-0.23*(AS20-$CF20))<0, 0, 1-EXP(-0.23*(AS20-$CF20))) -> 0 | CK20: =IF(1-EXP(-0.23*(AT20-$CF20))<0, 0, 1-EXP(-0.23*(AT20-$CF20))) -> 0.052237152 | CL20: =IF(1-EXP(-0.23*(AU20-$CF20))<0, 0, 1-EXP(-0.23*(AU20-$CF20))) -> 0.52113251 | CM20: =IF(1-EXP(-0.23*(AV20-$CF20))<0, 0, 1-EXP(-0.23*(AV20-$CF20))) -> 0.77185271 | CN20: =IF(1-EXP(-0.23*(AW20-$CF20))<0, 0, 1-EXP(-0.23*(AW20-$CF20))) -> 0.89449609 | CO20: =IF(1-EXP(-0.23*(AX20-$CF20))<0, 0, 1-EXP(-0.23*(AX20-$CF20))) -> 0.95173863 | CP20: =IF(1-EXP(-0.23*(AY20-$CF20))<0, 0, 1-EXP(-0.23*(AY20-$CF20))) -> 0.97787592 | ... DK20: =IF(1-EXP(-0.23*(BT20-$CF20))<0, 0, 1-EXP(-0.23*(BT20-$CF20))) -> 0.99999952 | DM20: =$C$6/100*CI20*$CD20 -> 0 | DN20: =$C$6/100*CJ20*$CD20 -> 0 | DO20: =$C$6/100*CK20*$CD20 -> 0.031342291 | DP20: =$C$6/100*CL20*$CD20 -> 0.3126795 | DQ20: =$C$6/100*CM20*$CD20 -> 0.46311163 | DR20: =$C$6/100*CN20*$CD20 -> 0.53669766 | DS20: =$C$6/100*CO20*$CD20 -> 0.57104318 | DT20: =$C$6/100*CP20*$CD20 -> 0.58672555 | ... EO20: =$C$6/100*DK20*$CD20 -> 0.59999971 | EQ20: =DM20+$CA20 -> 2.1198624 | ER20: =DN20+$CA20 -> 2.1198624 | ES20: =DO20+$CA20 -> 2.1512047 | ET20: =DP20+$CA20 -> 2.4325419 | EU20: =DQ20+$CA20 -> 2.582974 | EV20: =DR20+$CA20 -> 2.65656 | EW20: =DS20+$CA20 -> 2.6909056 | EX20: =DT20+$CA20 -> 2.7065879 | ... FS20: =EO20+$CA20 -> 2.7198621 | FU20: =300*EQ20*AR20 -> 0 | FV20: =300*ER20*AS20 -> 941.40396 | FW20: =300*ES20*AT20 -> 2567.3358 | FX20: =300*ET20*AU20 -> 5069.1586 | FY20: =300*EU20*AV20 -> 7880.6008 | FZ20: =300*EV20*AW20 -> 10777.529 | GA20: =300*EW20*AX20 -> 13662 | GB20: =300*EX20*AY20 -> 16495.155 | ... GW20: =300*FS20*BT20 -> 54651.512
