Workbook
Name ISI: 'Calcs-control1_comments'!$A$5
Name ISI: 'Calcs-control3'!$A$4
Name ISI: 'Calcs-control4'!$A$4
Name ISI: #REF!

Sheet Notes
A2: FBP Fuel Type Graphing Tool
A3: v. 2.1, 2013
A4: by Daniel Perrakis, Ph.D., Fire Science Officer,
A5: BC Wildfire Management Branch, Ministry of Forests, Lands, and Natural Resource Operations
A6: Contact: | B6: Daniel.Perrakis@gov.bc.ca
B7: dperrakis@gmail.com
A8: Comments, corrections, and suggestions are welcome.
A11: Notes - General
A12: - Graphs are best viewed in Full Screen mode (select View/Full Screen)
A13: - Curve shapes may give slightly misleading inflection points, asymptotes, etc. (curves are drawn using the default MS Excel
A14: smoothing function between points and are not exact curves); the issue will be negligible for most users.
A16: Notes - Rate of Spread (ROS) Graph:
A17: - Graphs show the head fire rate of spread (ROS) for different FBP fuel types.
A18: - The fuel type modifier (M) drop-down box appears for the following fuel type parameters (and therefore affect ROS):
B19: M-1 & M-2 | C19: → | D19: % Conifer
B20: O-1a & O-1b | C20: → | D20: % cured
B21: M-3 & M-4 | C21: → | D21: % dead balsam fir
B22: In this version of FBPGraph, the modifier value disappears for other fuel types.
A24: - BUI value affects ROS for all fuel types except grass types (O-1a and O-1b); however, the BUI effect on ROS is quite small for some fuel types (e.g. D2).
A25: - If standard daily BUI is unknown or suspect, select 'Std/No ROS effect'. This calculates ROS without the influence of the BUI effect (BE = 1); and
A26: calculates HFI using the following constants (see Taylor et al. 1997, Forestry Canada Fire Danger Group 1992):
B27: C-1: | C27: 72 | E27: C-7: | F27: 106 | I27: M-4: | J27: 50
B28: C-2: | C28: 64 | E28: D-1: | F28: 32 | I28: S-1: | J28: 38
B29: C-3: | C29: 62 | E29: D-2: | F29: 32 | I29: S-2: | J29: 63
B30: C-4: | C30: 66 | E30: M-1: | F30: 50 | I30: S-3: | J30: 31
B31: C-5: | C31: 56 | E31: M-2: | F31: 50
B32: C-6: | C32: 62 | E32: M-3: | F32: 50
A34: - For the C-6 fuel type, CBH (Crown Base Height) can be modified to change the rate of crowning; this affects ROS as well as HFI
A35: - FMC (Foliar Moisture Content, % water by weight) also affects ROS for the C-6 fuel type.
A36: - For the D-2 fuel type, ROS and Headfire intensity are both zero when BUI is below 70 (as suggested by Alexander 2010).
A38: Notes - Head Fire Intensity graph (Intensity):
A39: - BUI value affects intensity for all fuel type except grass types (O-1a and O-1b).
A40: - FMC affects intensity (very slightly) for most fuel types; the effect is much greater for C-6, as crown fire is modeled differently in this fuel type.
A41: - Grass fuel load (GFL) is the only variable (other than ISI) in this graph that affects head fire intensity for the O-1a and O-1b fuel types.
A42: - The default GFL value suggested in the GLC-X-10 (Wotton et al. 2009) is 3.5 t/ha, based on the original Australian fire behaviour dataset,
A43: (Cheney et al. 1993), supplemented with more recent measurements in northern Alberta, New Zealand, and elsewhere.
A44: - For the D-2 fuel type, ROS and Headfire intensity are both zero when BUI is below 70 (as suggested by Alexander 2010).
A45: - FFMC (which affects fire intensity only for the C-1 and C-7 fuel types, and only very slightly) is set at 90.
A47: Additional Notes:
... A50: - Most programming comments are in the 'Calcs-control1' worksheet (hidden), on line 2

Sheet About
A2: Version Notes:
A4: V2.1, October 2013
A5: - New for v2.1 - BUI effect on Rate of Spread can be 'turned off'; in the BUI drop-down, select 'Std/No ROS effect' to make the BUI effect = 1 for
A6: all fuel types (uses BUI=BUIo for ROS calculations; BUI is still used to calculate fuel consumption). Note that standard BUI values will then be used for HFI
A7: calculations, and this may be slightly misleading when comparing different fuel types. For example, when 'Std/No ROS effect' is selected, comparing HFI
A8: between C5 and C7 will show HFI for C5 at BUI=56 and HFI for C7 at BUI=106. Recall that the BUI effect on ROS has not been found to be statistically significant
A9: (Forestry Canada Fire Danger Group 1992).
A10: - In this version (v2.0 and v2.1), the Independent variable (X-axis) can be toggled between ISI (Initial Spread Index), the FBP default, and
A11: Wind Speed (km/h). ROS and HFI are still calculated using the ISI-based equations (ie, altering wind speed alters the ISI, which is then used
A12: to calculate the outputs); FFMC is only selectable when viewing the Wind Speed relationship, as it is otherwise already incorporated into ISI.
A13: - In this version (v2.0 and v2.1), the settings are maintained between the 'ROS Graph' and 'Intensity Graph'; selected fuel types, modifiers, weather
A14: codes, and fuel parameters are all held constant between the two graphs.
... A33: Information Report GLC-X-10. Natural Resources Canada, Canadian Forest Service, Great Lakes Forestry Centre. Sault Ste. Marie, ON.

Sheet Graph-Settings
A1: Graph Settings
A2: #Comments | H2: # Settings from ROS and Intensity graph control boxes; FFMC only active when 'Wind Speed' selected
A3: ISI or | B3: Range - | C3: Range - | E3: Range - | F3: Range- | G3: Range-
A4: Windspeed | B4: FMC | C4: BUI | D4: FFMC | E4: FFMC-display | F4: GFL | G4: C6 CBH | H4: FMC | I4: BUI | J4: FFMC | K4: GFL | L4: C6 CBH | N4: ISI/WS | Q4: Standard BUI
A5: ISI (Initial Spread Index) | B5: 80 | C5: 0 | D5: 80 | E5: =IF($N$5=2, CONCATENATE("FFMC: ", D5), "") -> FFMC: 80 | F5: 0.5 | G5: 0.5 | H5: 18 | I5: 42 | J5: 15 | K5: 13 | L5: 12 | N5: 2 | P5: C-1
A6: Wind Speed (km/h) | B6: 81 | C6: 5 | D6: 81 | E6: =IF($N$5=2, CONCATENATE("FFMC: ", D6), "") -> FFMC: 81 | F6: 0.75 | G6: 1 | H6: =79+H5 -> 97 | I6: =INDEX(C5:C46, I5) -> Std/No ROS effect | J6: =IF($N$5=2, INDEX('Graph-Settings'!$D$5:$D$44, J5), 91) -> 91 | K6: =INDEX('Graph-Settings'!$F$5:$F$43, K5) -> 3.5 | L6: =L5*0.5 -> 6 | P6: C-2
B7: 82 | C7: 10 | D7: 82 | E7: =IF($N$5=2, CONCATENATE("FFMC: ", D7), "") -> FFMC: 82 | F7: 1 | G7: 1.5 | P7: C-3
B8: 83 | C8: 15 | D8: 83 | E8: =IF($N$5=2, CONCATENATE("FFMC: ", D8), "") -> FFMC: 83 | F8: 1.25 | G8: 2 | P8: C-4
B9: 84 | C9: 20 | D9: 84 | E9: =IF($N$5=2, CONCATENATE("FFMC: ", D9), "") -> FFMC: 84 | F9: 1.5 | G9: 2.5 | P9: C-5
B10: 85 | C10: 25 | D10: 85 | E10: =IF($N$5=2, CONCATENATE("FFMC: ", D10), "") -> FFMC: 85 | F10: 1.75 | G10: 3 | P10: C-6
B11: 86 | C11: 30 | D11: 86 | E11: =IF($N$5=2, CONCATENATE("FFMC: ", D11), "") -> FFMC: 86 | F11: 2 | G11: 3.5 | P11: C-7
B12: 87 | C12: 35 | D12: 87 | E12: =IF($N$5=2, CONCATENATE("FFMC: ", D12), "") -> FFMC: 87 | F12: 2.25 | G12: 4 | P12: D-1
B13: 88 | C13: 40 | D13: 88 | E13: =IF($N$5=2, CONCATENATE("FFMC: ", D13), "") -> FFMC: 88 | F13: 2.5 | G13: 4.5 | P13: D-2
B14: 89 | C14: 45 | D14: 88.5 | E14: =IF($N$5=2, CONCATENATE("FFMC: ", D14), "") -> FFMC: 88.5 | F14: 2.75 | G14: 5 | P14: S-1
B15: 90 | C15: 50 | D15: 89 | E15: =IF($N$5=2, CONCATENATE("FFMC: ", D15), "") -> FFMC: 89 | F15: 3 | G15: 5.5 | P15: S-2
B16: 91 | C16: 55 | D16: 89.5 | E16: =IF($N$5=2, CONCATENATE("FFMC: ", D16), "") -> FFMC: 89.5 | F16: 3.25 | G16: 6 | P16: S-3
B17: 92 | C17: 60 | D17: 90 | E17: =IF($N$5=2, CONCATENATE("FFMC: ", D17), "") -> FFMC: 90 | F17: 3.5 | G17: 6.5 | P17: O-1a
B18: 93 | C18: 65 | D18: 90.5 | E18: =IF($N$5=2, CONCATENATE("FFMC: ", D18), "") -> FFMC: 90.5 | F18: 3.75 | G18: 7 | P18: O-1b
... B23: 98 | C23: 90 | D23: 93 | E23: =IF($N$5=2, CONCATENATE("FFMC: ", D23), "") -> FFMC: 93 | F23: 5 | G23: 9.5 | P23: None
B24: 99 | C24: 95 | D24: 93.5 | E24: =IF($N$5=2, CONCATENATE("FFMC: ", D24), "") -> FFMC: 93.5 | F24: 5.25 | G24: 10
B25: 100 | C25: 100 | D25: 94 | E25: =IF($N$5=2, CONCATENATE("FFMC: ", D25), "") -> FFMC: 94 | F25: 5.5 | G25: 10.5
B26: 101 | C26: 105 | D26: 94.5 | E26: =IF($N$5=2, CONCATENATE("FFMC: ", D26), "") -> FFMC: 94.5 | F26: 5.75 | G26: 11
B27: 102 | C27: 110 | D27: 95 | E27: =IF($N$5=2, CONCATENATE("FFMC: ", D27), "") -> FFMC: 95 | F27: 6 | G27: 11.5
B28: 103 | C28: 115 | D28: 95.5 | E28: =IF($N$5=2, CONCATENATE("FFMC: ", D28), "") -> FFMC: 95.5 | F28: 6.25 | G28: 12
B29: 104 | C29: 120 | D29: 96 | E29: =IF($N$5=2, CONCATENATE("FFMC: ", D29), "") -> FFMC: 96 | F29: 6.5 | G29: 12.5
B30: 105 | C30: 125 | D30: 96.5 | E30: =IF($N$5=2, CONCATENATE("FFMC: ", D30), "") -> FFMC: 96.5 | F30: 6.75 | G30: 13
B31: 106 | C31: 130 | D31: 97 | E31: =IF($N$5=2, CONCATENATE("FFMC: ", D31), "") -> FFMC: 97 | F31: 7 | G31: 13.5
B32: 107 | C32: 135 | D32: 97.5 | E32: =IF($N$5=2, CONCATENATE("FFMC: ", D32), "") -> FFMC: 97.5 | F32: 7.25 | G32: 14
B33: 108 | C33: 140 | D33: 98 | E33: =IF($N$5=2, CONCATENATE("FFMC: ", D33), "") -> FFMC: 98 | F33: 7.5 | G33: 14.5
B34: 109 | C34: 145 | D34: 98.5 | E34: =IF($N$5=2, CONCATENATE("FFMC: ", D34), "") -> FFMC: 98.5 | F34: 7.75 | G34: 15
B35: 110 | C35: 150 | D35: 99 | E35: =IF($N$5=2, CONCATENATE("FFMC: ", D35), "") -> FFMC: 99 | F35: 8 | G35: 15.5
B36: 111 | C36: 155 | F36: 8.25 | G36: 16
B37: 112 | C37: 160 | F37: 8.5 | G37: 16.5
B38: 113 | C38: 165 | F38: 8.75 | G38: 17
B39: 114 | C39: 170 | F39: 9 | G39: 17.5
B40: 115 | C40: 175 | F40: 9.25 | G40: 18
B41: 116 | C41: 180 | F41: 9.5 | G41: 18.5
B42: 117 | C42: 185 | F42: 9.75 | G42: 19
B43: 118 | C43: 190 | F43: 10 | G43: 19.5
B44: 119 | C44: 195 | G44: 20
B45: 120 | C45: 200
B46: 121 | C46: Std/No ROS effect
B47: 122
B48: 123
B49: 124
B50: 125
B51: 126
B52: 127
B53: 128
B54: 129
B55: 130

Sheet Calcs-control1_comments
A1: Control1 | AQ1: Index: | AR1: 1 | AS1: 2 | AT1: 3 | AU1: 4 | AV1: 5 | AW1: 6 | AX1: 7 | AY1: 8 | AZ1: 9 | BA1: 10 | BB1: 11 | BC1: 12 | BD1: 13 | BE1: 14 | BF1: 15 | BG1: 16 | BH1: 17 | BI1: 18 | BJ1: 19 | BK1: 20 | BL1: 21 | BM1: 22 | BN1: 23 | BO1: 24 | BP1: 25 | BQ1: 26 | BR1: 27 | BS1: 28 | BT1: 29 | BX1: FFMC = | BY1: ='Graph-Settings'!J6 -> 91 | BZ1: BUI = | CA1: ='Graph-Settings'!I6 -> Std/No ROS effect | CB1: FMC= | CC1: ='Graph-Settings'!H6 -> 97 | CD1: GFL= | CE1: ='Graph-Settings'!K6 -> 3.5 | CF1: C6 CBH: | CG1: ='Graph-Settings'!L6 -> 6 | FT1: Index: | FU1: 1 | FV1: 2 | FW1: 3 | FX1: 4 | FY1: 5 | FZ1: 6 | GA1: 7 | GB1: 8 | GC1: 9 | GD1: 10 | GE1: 11 | GF1: 12 | GG1: 13 | GH1: 14 | GI1: 15 | GJ1: 16 | GK1: 17 | GL1: 18 | GM1: 19 | GN1: 20 | GO1: 21 | GP1: 22 | GQ1: 23 | GR1: 24 | GS1: 25 | GT1: 26 | GU1: 27 | GV1: 28 | GW1: 29 | GZ1: Final ROS Output | HA1: =IF('Graph-Settings'!$N$5=1, 'Calcs-control1_comments'!HA5, 'Calcs-control1_comments'!HA9) -> 0.84300057 | HB1: =IF('Graph-Settings'!$N$5=1, 'Calcs-control1_comments'!HB5, 'Calcs-control1_comments'!HB9) -> 1.1789693 | HC1: =IF('Graph-Settings'!$N$5=1, 'Calcs-control1_comments'!HC5, 'Calcs-control1_comments'!HC9) -> 1.6398841 | HD1: =IF('Graph-Settings'!$N$5=1, 'Calcs-control1_comments'!HD5, 'Calcs-control1_comments'!HD9) -> 2.2671227 | HE1: =IF('Graph-Settings'!$N$5=1, 'Calcs-control1_comments'!HE5, 'Calcs-control1_comments'!HE9) -> 3.1129646 | HF1: =IF('Graph-Settings'!$N$5=1, 'Calcs-control1_comments'!HF5, 'Calcs-control1_comments'!HF9) -> 4.2419583 | HG1: =IF('Graph-Settings'!$N$5=1, 'Calcs-control1_comments'!HG5, 'Calcs-control1_comments'!HG9) -> 5.7316063 | HH1: =IF('Graph-Settings'!$N$5=1, 'Calcs-control1_comments'!HH5, 'Calcs-control1_comments'!HH9) -> 7.6718058 | ... IC1: =IF('Graph-Settings'!$N$5=1, 'Calcs-control1_comments'!IC5, 'Calcs-control1_comments'!IC9) -> 86.19879 | IF1: Final HFI output | IG1: =IF('Graph-Settings'!$N$5=1, 'Calcs-control1_comments'!IG5, 'Calcs-control1_comments'!IG9) -> 462.48486 | IH1: =IF('Graph-Settings'!$N$5=1, 'Calcs-control1_comments'!IH5, 'Calcs-control1_comments'!IH9) -> 646.80316 | II1: =IF('Graph-Settings'!$N$5=1, 'Calcs-control1_comments'!II5, 'Calcs-control1_comments'!II9) -> 899.66912 | IJ1: =IF('Graph-Settings'!$N$5=1, 'Calcs-control1_comments'!IJ5, 'Calcs-control1_comments'!IJ9) -> 1243.7832 | IK1: =IF('Graph-Settings'!$N$5=1, 'Calcs-control1_comments'!IK5, 'Calcs-control1_comments'!IK9) -> 1707.8268 | IL1: =IF('Graph-Settings'!$N$5=1, 'Calcs-control1_comments'!IL5, 'Calcs-control1_comments'!IL9) -> 2327.2125 | IM1: =IF('Graph-Settings'!$N$5=1, 'Calcs-control1_comments'!IM5, 'Calcs-control1_comments'!IM9) -> 3144.4595 | IN1: =IF('Graph-Settings'!$N$5=1, 'Calcs-control1_comments'!IN5, 'Calcs-control1_comments'!IN9) -> 4747.0434 | ... JI1: =IF('Graph-Settings'!$N$5=1, 'Calcs-control1_comments'!JI5, 'Calcs-control1_comments'!JI9) -> 77028.746 | JK1: [End]
A2: # Comments; see also row 54 | B2: #Modifier calculated (0-100 step 5) if Fuel Type is O- or M-type; FT from Graph control box | C2: # %Modifier from Graph control box | D2: #FTs used for FT drop-down in Graph control boxes | E2: #Base ROS parameters, STX-3, Table 6 | H2: #Fuel Type %modifier | I2: # CF from GLC-X-10 eq. 35a, b | J2: #Buildup effect, STX-3 eq. 54 | N2: #RSI from STX-3, eq. 26-28, 36; also GLC-X-10; D-2 RSI is zero if BUI<70 | AR2: #Final ROS=RSI*BE for most FT's; for C-6, ROS=RSS+CFB*(RSC-RSS), STX-3, eq. 65 | BX2: #Settings (above, in orange) from Graph-Settings worksheet | CC2: #Fuel structure constants (STX-3, Table 8), below | CE2: #CSI and RSo from STX-3, eq 56 and 57 | CG2: #FME only used for C-6; STX-3 eq 61 | CI2: #CFB=1-exp(-0.23*(ROS-RSO)) for most FT's (STX-3, eq. 58); CFB=0 for D, S, O-types | DM2: #CFC=CFL*CFB for most FT's; (0 CFB for D, S and O-types); CFC= %con*CFL*CFB for M-1 and M-2 (STX-3, p.38) | EQ2: #TFC=SFC+CFC for all fuel types | FU2: #HFI = 300 * TFC * ROS, from Byram's formula | GZ2: #Below - ROS output values based on ISI or WS depending on Graph control selection (controlled in Graph-Settings worksheet). AQ5:B22 gives ROS values for ISI; AQ32:B49 gives range for WS. | IF2: #Below - HFI output values based on ISI or WS depending on Graph control selection (controlled in Graph-Settings worksheet). FT5:GV22 gives HFI values for ISI; FT32:GV49 gives range for WS.
B3: Range - | N3: RSI | AR3: ROS | CI3: CFB: | DM3: CFC: | EQ3: TFC: | FU3: HFI: | GZ3: ISI/Wind Sp: | HA3: 0 | HB3: 2.5 | HC3: 5 | HD3: 7.5 | HE3: 10 | HF3: 12.5 | HG3: 15 | HH3: 17.5 | HI3: 20 | HJ3: 22.5 | HK3: 25 | HL3: 27.5 | HM3: 30 | HN3: 32.5 | HO3: 35 | HP3: 37.5 | HQ3: 40 | HR3: 42.5 | HS3: 45 | HT3: 47.5 | HU3: 50 | HV3: 52.5 | HW3: 55 | HX3: 57.5 | HY3: 60 | HZ3: 62.5 | IA3: 65 | IB3: 67.5 | IC3: 70 | IF3: ISI/Wind Sp | IG3: 0 | IH3: 2.5 | II3: 5 | IJ3: 7.5 | IK3: 10 | IL3: 12.5 | IM3: 15 | IN3: 17.5 | IO3: 20 | IP3: 22.5 | IQ3: 25 | IR3: 27.5 | IS3: 30 | IT3: 32.5 | IU3: 35 | IV3: 37.5 | IW3: 40 | IX3: 42.5 | IY3: 45 | IZ3: 47.5 | JA3: 50 | JB3: 52.5 | JC3: 55 | JD3: 57.5 | JE3: 60 | JF3: 62.5 | JG3: 65 | JH3: 67.5 | JI3: 70
A4: Index | B4: % C, %c or %DF | C4: % Modifier: | D4: Fuel Type | E4: a | F4: b | G4: c | H4: %C, %c or %DF | I4: Curing factor | J4: q | K4: BUIo | L4: Actual BUI | M4: BE | N4: 0 | O4: 2.5 | P4: 5 | Q4: 7.5 | R4: 10 | S4: 12.5 | T4: 15 | U4: 17.5 | V4: 20 | W4: 22.5 | X4: 25 | Y4: 27.5 | Z4: 30 | AA4: 32.5 | AB4: 35 | AC4: 37.5 | AD4: 40 | AE4: 42.5 | AF4: 45 | AG4: 47.5 | AH4: 50 | AI4: 52.5 | AJ4: 55 | AK4: 57.5 | AL4: 60 | AM4: 62.5 | AN4: 65 | AO4: 67.5 | AP4: 70 | AR4: 0 | AS4: 2.5 | AT4: 5 | AU4: 7.5 | AV4: 10 | AW4: 12.5 | AX4: 15 | AY4: 17.5 | AZ4: 20 | BA4: 22.5 | BB4: 25 | BC4: 27.5 | BD4: 30 | BE4: 32.5 | BF4: 35 | BG4: 37.5 | BH4: 40 | BI4: 42.5 | BJ4: 45 | BK4: 47.5 | BL4: 50 | BM4: 52.5 | BN4: 55 | BO4: 57.5 | BP4: 60 | BQ4: 62.5 | BR4: 65 | BS4: 67.5 | BT4: 70 | BY4: FFC | BZ4: WFC | CA4: SFC | CC4: CBH | CD4: CFL | CE4: CSI | CF4: RSo | CG4: FME | CI4: 0 | CJ4: 2.5 | CK4: 5 | CL4: 7.5 | CM4: 10 | CN4: 12.5 | CO4: 15 | CP4: 17.5 | CQ4: 20 | CR4: 22.5 | CS4: 25 | CT4: 27.5 | CU4: 30 | CV4: 32.5 | CW4: 35 | CX4: 37.5 | CY4: 40 | CZ4: 42.5 | DA4: 45 | DB4: 47.5 | DC4: 50 | DD4: 52.5 | DE4: 55 | DF4: 57.5 | DG4: 60 | DH4: 62.5 | DI4: 65 | DJ4: 67.5 | DK4: 70 | DM4: 0 | DN4: 2.5 | DO4: 5 | DP4: 7.5 | DQ4: 10 | DR4: 12.5 | DS4: 15 | DT4: 17.5 | DU4: 20 | DV4: 22.5 | DW4: 25 | DX4: 27.5 | DY4: 30 | DZ4: 32.5 | EA4: 35 | EB4: 37.5 | EC4: 40 | ED4: 42.5 | EE4: 45 | EF4: 47.5 | EG4: 50 | EH4: 52.5 | EI4: 55 | EJ4: 57.5 | EK4: 60 | EL4: 62.5 | EM4: 65 | EN4: 67.5 | EO4: 70 | EQ4: 0 | ER4: 2.5 | ES4: 5 | ET4: 7.5 | EU4: 10 | EV4: 12.5 | EW4: 15 | EX4: 17.5 | EY4: 20 | EZ4: 22.5 | FA4: 25 | FB4: 27.5 | FC4: 30 | FD4: 32.5 | FE4: 35 | FF4: 37.5 | FG4: 40 | FH4: 42.5 | FI4: 45 | FJ4: 47.5 | FK4: 50 | FL4: 52.5 | FM4: 55 | FN4: 57.5 | FO4: 60 | FP4: 62.5 | FQ4: 65 | FR4: 67.5 | FS4: 70 | FU4: 0 | FV4: 2.5 | FW4: 5 | FX4: 7.5 | FY4: 10 | FZ4: 12.5 | GA4: 15 | GB4: 17.5 | GC4: 20 | GD4: 22.5 | GE4: 25 | GF4: 27.5 | GG4: 30 | GH4: 32.5 | GI4: 35 | GJ4: 37.5 | GK4: 40 | GL4: 42.5 | GM4: 45 | GN4: 47.5 | GO4: 50 | GP4: 52.5 | GQ4: 55 | GR4: 57.5 | GS4: 60 | GT4: 62.5 | GU4: 65 | GV4: 67.5 | GW4: 70 | GZ4: ROS output values (ISI) | IF4: HFI output values (ISI)
A5: 1 | B5: =IF(AND($GZ$5>12, $GZ$5<19), A5*5-5, "") | C5: 16 | D5: C-1 | E5: 90 | F5: 0.0649 | G5: 4.5 | J5: 0.9 | K5: 72 | L5: =IF('Graph-Settings'!$I$6='Graph-Settings'!$C$46, K5, 'Graph-Settings'!$I$6) -> 72 | M5: =EXP(50*LN($J5)*(1/$L5-1/$K5)) -> 1 | N5: =$E5*(1-EXP(-$F5*N$4))^$G5 -> 0 | O5: =$E5*(1-EXP(-$F5*O$4))^$G5 -> 0.017525574 | P5: =$E5*(1-EXP(-$F5*P$4))^$G5 -> 0.27937434 | Q5: =$E5*(1-EXP(-$F5*Q$4))^$G5 -> 1.2323679 | R5: =$E5*(1-EXP(-$F5*R$4))^$G5 -> 3.2310526 | S5: =$E5*(1-EXP(-$F5*S$4))^$G5 -> 6.397585 | T5: =$E5*(1-EXP(-$F5*T$4))^$G5 -> 10.642844 | U5: =$E5*(1-EXP(-$F5*U$4))^$G5 -> 15.744724 | ... AP5: =$E5*(1-EXP(-$F5*AP$4))^$G5 -> 85.769769 | AR5: =$M5*N5 -> 0 | AS5: =$M5*O5 -> 0.017525574 | AT5: =$M5*P5 -> 0.27937434 | AU5: =$M5*Q5 -> 1.2323679 | AV5: =$M5*R5 -> 3.2310526 | AW5: =$M5*S5 -> 6.397585 | AX5: =$M5*T5 -> 10.642844 | AY5: =$M5*U5 -> 15.744724 | ... BT5: =$M5*AP5 -> 85.769769 | BW5: C-1 | CA5: =IF(BY1>84, 0.75+0.75*(1-EXP(-0.23*(BY1-84)))^0.5, 0.75-0.75*(1-EXP(0.23*(BY1-84)))^0.5) -> 1.4208675 | CC5: 2 | CD5: 0.75 | CE5: =0.001*CC5^1.5*(460+25.9*$CC$1)^1.5 -> 458.33598 | CF5: =CE5/(300*CA5) -> 1.0752492 | CI5: =IF(1-EXP(-0.23*(AR5-$CF5))<0, 0, 1-EXP(-0.23*(AR5-$CF5))) -> 0 | CJ5: =IF(1-EXP(-0.23*(AS5-$CF5))<0, 0, 1-EXP(-0.23*(AS5-$CF5))) -> 0 | CK5: =IF(1-EXP(-0.23*(AT5-$CF5))<0, 0, 1-EXP(-0.23*(AT5-$CF5))) -> 0 | CL5: =IF(1-EXP(-0.23*(AU5-$CF5))<0, 0, 1-EXP(-0.23*(AU5-$CF5))) -> 0.035492159 | CM5: =IF(1-EXP(-0.23*(AV5-$CF5))<0, 0, 1-EXP(-0.23*(AV5-$CF5))) -> 0.39093774 | CN5: =IF(1-EXP(-0.23*(AW5-$CF5))<0, 0, 1-EXP(-0.23*(AW5-$CF5))) -> 0.70598875 | CO5: =IF(1-EXP(-0.23*(AX5-$CF5))<0, 0, 1-EXP(-0.23*(AX5-$CF5))) -> 0.8892574 | CP5: =IF(1-EXP(-0.23*(AY5-$CF5))<0, 0, 1-EXP(-0.23*(AY5-$CF5))) -> 0.96574693 | ... DK5: =IF(1-EXP(-0.23*(BT5-$CF5))<0, 0, 1-EXP(-0.23*(BT5-$CF5))) -> 1 | DM5: =CI5*$CD5 -> 0 | DN5: =CJ5*$CD5 -> 0 | DO5: =CK5*$CD5 -> 0 | DP5: =CL5*$CD5 -> 0.02661912 | DQ5: =CM5*$CD5 -> 0.29320331 | DR5: =CN5*$CD5 -> 0.52949156 | DS5: =CO5*$CD5 -> 0.66694305 | DT5: =CP5*$CD5 -> 0.7243102 | ... EO5: =DK5*$CD5 -> 0.75 | EQ5: =DM5+$CA5 -> 1.4208675 | ER5: =DN5+$CA5 -> 1.4208675 | ES5: =DO5+$CA5 -> 1.4208675 | ET5: =DP5+$CA5 -> 1.4474866 | EU5: =DQ5+$CA5 -> 1.7140708 | EV5: =DR5+$CA5 -> 1.9503591 | EW5: =DS5+$CA5 -> 2.0878106 | EX5: =DT5+$CA5 -> 2.1451777 | ... FS5: =EO5+$CA5 -> 2.1708675 | FU5: =300*EQ5*AR5 -> 0 | FV5: =300*ER5*AS5 -> 7.4704554 | FW5: =300*ES5*AT5 -> 119.08618 | FX5: =300*ET5*AU5 -> 535.15084 | FY5: =300*EU5*AV5 -> 1661.4759 | FZ5: =300*EV5*AW5 -> 3743.2764 | GA5: =300*EW5*AX5 -> 6666.0723 | GB5: =300*EX5*AY5 -> 10132.569 | ... GW5: =300*FS5*BT5 -> 55858.442 | GY5: Control1 | GZ5: 3 | HA5: =INDEX($AR$5:$BT$22, $GZ5, AR$1) -> 0 | HB5: =INDEX($AR$5:$BT$22, $GZ5, AS$1) -> 0.12756173 | HC5: =INDEX($AR$5:$BT$22, $GZ5, AT$1) -> 0.86797241 | HD5: =INDEX($AR$5:$BT$22, $GZ5, AU$1) -> 2.4992491 | HE5: =INDEX($AR$5:$BT$22, $GZ5, AV$1) -> 5.0697417 | HF5: =INDEX($AR$5:$BT$22, $GZ5, AW$1) -> 8.4996386 | HG5: =INDEX($AR$5:$BT$22, $GZ5, AX$1) -> 12.645792 | HH5: =INDEX($AR$5:$BT$22, $GZ5, AY$1) -> 17.341902 | ... IC5: =INDEX($AR$5:$BT$22, $GZ5, BT$1) -> 95.901482 | IE5: Control1 | IF5: =GZ5 -> 3 | IG5: =INDEX($FU$5:$GW$22, $IF5, FU$1) -> 0 | IH5: =INDEX($FU$5:$GW$22, $IF5, FV$1) -> 69.982594 | II5: =INDEX($FU$5:$GW$22, $IF5, FW$1) -> 476.18484 | IJ5: =INDEX($FU$5:$GW$22, $IF5, FX$1) -> 1371.1318 | IK5: =INDEX($FU$5:$GW$22, $IF5, FY$1) -> 2781.3489 | IL5: =INDEX($FU$5:$GW$22, $IF5, FZ$1) -> 5664.3019 | IM5: =INDEX($FU$5:$GW$22, $IF5, GA$1) -> 10193.353 | IN5: =INDEX($FU$5:$GW$22, $IF5, GB$1) -> 14981.474 | ... JI5: =INDEX($FU$5:$GW$22, $IF5, GW$1) -> 85699.242
A6: 2 | B6: =IF(AND($GZ$5>12, $GZ$5<19), A6*5-5, "") | C6: =C5*5-5 -> 75 | D6: C-2 | E6: 110 | F6: 0.0282 | G6: 1.5 | J6: 0.7 | K6: 64 | L6: =IF('Graph-Settings'!$I$6='Graph-Settings'!$C$46, K6, 'Graph-Settings'!$I$6) -> 64 | M6: =EXP(50*LN($J6)*(1/$L6-1/$K6)) -> 1 | N6: =$E6*(1-EXP(-$F6*N$4))^$G6 -> 0 | O6: =$E6*(1-EXP(-$F6*O$4))^$G6 -> 1.9536553 | P6: =$E6*(1-EXP(-$F6*P$4))^$G6 -> 5.2460722 | Q6: =$E6*(1-EXP(-$F6*Q$4))^$G6 -> 9.1554989 | R6: =$E6*(1-EXP(-$F6*R$4))^$G6 -> 13.398932 | S6: =$E6*(1-EXP(-$F6*S$4))^$G6 -> 17.810824 | T6: =$E6*(1-EXP(-$F6*T$4))^$G6 -> 22.282958 | U6: =$E6*(1-EXP(-$F6*U$4))^$G6 -> 26.740984 | ... AP6: =$E6*(1-EXP(-$F6*AP$4))^$G6 -> 87.896779 | AR6: =$M6*N6 -> 0 | AS6: =$M6*O6 -> 1.9536553 | AT6: =$M6*P6 -> 5.2460722 | AU6: =$M6*Q6 -> 9.1554989 | AV6: =$M6*R6 -> 13.398932 | AW6: =$M6*S6 -> 17.810824 | AX6: =$M6*T6 -> 22.282958 | AY6: =$M6*U6 -> 26.740984 | ... BT6: =$M6*AP6 -> 87.896779 | BW6: C-2 | CA6: =5*(1-EXP(-0.0115*L6)) -> 2.604869 | CC6: 3 | CD6: 0.8 | CE6: =0.001*CC6^1.5*(460+25.9*$CC$1)^1.5 -> 842.01697 | CF6: =CE6/(300*CA6) -> 1.0774911 | CI6: =IF(1-EXP(-0.23*(AR6-$CF6))<0, 0, 1-EXP(-0.23*(AR6-$CF6))) -> 0 | CJ6: =IF(1-EXP(-0.23*(AS6-$CF6))<0, 0, 1-EXP(-0.23*(AS6-$CF6))) -> 0.18251095 | CK6: =IF(1-EXP(-0.23*(AT6-$CF6))<0, 0, 1-EXP(-0.23*(AT6-$CF6))) -> 0.61663726 | CL6: =IF(1-EXP(-0.23*(AU6-$CF6))<0, 0, 1-EXP(-0.23*(AU6-$CF6))) -> 0.84400663 | CM6: =IF(1-EXP(-0.23*(AV6-$CF6))<0, 0, 1-EXP(-0.23*(AV6-$CF6))) -> 0.9412187 | CN6: =IF(1-EXP(-0.23*(AW6-$CF6))<0, 0, 1-EXP(-0.23*(AW6-$CF6))) -> 0.97869187 | CO6: =IF(1-EXP(-0.23*(AX6-$CF6))<0, 0, 1-EXP(-0.23*(AX6-$CF6))) -> 0.99238212 | CP6: =IF(1-EXP(-0.23*(AY6-$CF6))<0, 0, 1-EXP(-0.23*(AY6-$CF6))) -> 0.99726768 | ... DK6: =IF(1-EXP(-0.23*(BT6-$CF6))<0, 0, 1-EXP(-0.23*(BT6-$CF6))) -> 1 | DM6: =CI6*$CD6 -> 0 | DN6: =CJ6*$CD6 -> 0.14600876 | DO6: =CK6*$CD6 -> 0.49330981 | DP6: =CL6*$CD6 -> 0.67520531 | DQ6: =CM6*$CD6 -> 0.75297496 | DR6: =CN6*$CD6 -> 0.7829535 | DS6: =CO6*$CD6 -> 0.7939057 | DT6: =CP6*$CD6 -> 0.79781414 | ... EO6: =DK6*$CD6 -> 0.8 | EQ6: =DM6+$CA6 -> 2.604869 | ER6: =DN6+$CA6 -> 2.7508778 | ES6: =DO6+$CA6 -> 3.0981788 | ET6: =DP6+$CA6 -> 3.2800743 | EU6: =DQ6+$CA6 -> 3.357844 | EV6: =DR6+$CA6 -> 3.3878225 | EW6: =DS6+$CA6 -> 3.3987747 | EX6: =DT6+$CA6 -> 3.4026832 | ... FS6: =EO6+$CA6 -> 3.404869 | FU6: =300*EQ6*AR6 -> 0 | FV6: =300*ER6*AS6 -> 1612.2801 | FW6: =300*ES6*AT6 -> 4875.9809 | FX6: =300*ET6*AU6 -> 9009.2151 | FY6: =300*EU6*AV6 -> 13497.457 | FZ6: =300*EV6*AW6 -> 18101.973 | GA6: =300*EW6*AX6 -> 22720.426 | GB6: =300*EX6*AY6 -> 27297.328 | ... GW6: =300*FS6*BT6 -> 89783.106
A7: 3 | B7: =IF(AND($GZ$5>12, $GZ$5<19), A7*5-5, "") | D7: C-3 | E7: 110 | F7: 0.0444 | G7: 3 | J7: 0.75 | K7: 62 | L7: =IF('Graph-Settings'!$I$6='Graph-Settings'!$C$46, K7, 'Graph-Settings'!$I$6) -> 62 | M7: =EXP(50*LN($J7)*(1/$L7-1/$K7)) -> 1 | N7: =$E7*(1-EXP(-$F7*N$4))^$G7 -> 0 | O7: =$E7*(1-EXP(-$F7*O$4))^$G7 -> 0.12756173 | P7: =$E7*(1-EXP(-$F7*P$4))^$G7 -> 0.86797241 | Q7: =$E7*(1-EXP(-$F7*Q$4))^$G7 -> 2.4992491 | R7: =$E7*(1-EXP(-$F7*R$4))^$G7 -> 5.0697417 | S7: =$E7*(1-EXP(-$F7*S$4))^$G7 -> 8.4996386 | T7: =$E7*(1-EXP(-$F7*T$4))^$G7 -> 12.645792 | U7: =$E7*(1-EXP(-$F7*U$4))^$G7 -> 17.341902 | ... AP7: =$E7*(1-EXP(-$F7*AP$4))^$G7 -> 95.901482 | AR7: =$M7*N7 -> 0 | AS7: =$M7*O7 -> 0.12756173 | AT7: =$M7*P7 -> 0.86797241 | AU7: =$M7*Q7 -> 2.4992491 | AV7: =$M7*R7 -> 5.0697417 | AW7: =$M7*S7 -> 8.4996386 | AX7: =$M7*T7 -> 12.645792 | AY7: =$M7*U7 -> 17.341902 | ... BT7: =$M7*AP7 -> 95.901482 | BW7: C-3 | CA7: =5*(1-EXP(-0.0164*L7))^2.24 -> 1.828725 | CC7: 8 | CD7: 1.15 | CE7: =0.001*CC7^1.5*(460+25.9*$CC$1)^1.5 -> 3666.6879 | CF7: =CE7/(300*CA7) -> 6.6835053 | CI7: =IF(1-EXP(-0.23*(AR7-$CF7))<0, 0, 1-EXP(-0.23*(AR7-$CF7))) -> 0 | CJ7: =IF(1-EXP(-0.23*(AS7-$CF7))<0, 0, 1-EXP(-0.23*(AS7-$CF7))) -> 0 | CK7: =IF(1-EXP(-0.23*(AT7-$CF7))<0, 0, 1-EXP(-0.23*(AT7-$CF7))) -> 0 | CL7: =IF(1-EXP(-0.23*(AU7-$CF7))<0, 0, 1-EXP(-0.23*(AU7-$CF7))) -> 0 | CM7: =IF(1-EXP(-0.23*(AV7-$CF7))<0, 0, 1-EXP(-0.23*(AV7-$CF7))) -> 0 | CN7: =IF(1-EXP(-0.23*(AW7-$CF7))<0, 0, 1-EXP(-0.23*(AW7-$CF7))) -> 0.34144726 | CO7: =IF(1-EXP(-0.23*(AX7-$CF7))<0, 0, 1-EXP(-0.23*(AX7-$CF7))) -> 0.74622977 | CP7: =IF(1-EXP(-0.23*(AY7-$CF7))<0, 0, 1-EXP(-0.23*(AY7-$CF7))) -> 0.91382982 | ... DK7: =IF(1-EXP(-0.23*(BT7-$CF7))<0, 0, 1-EXP(-0.23*(BT7-$CF7))) -> 1 | DM7: =CI7*$CD7 -> 0 | DN7: =CJ7*$CD7 -> 0 | DO7: =CK7*$CD7 -> 0 | DP7: =CL7*$CD7 -> 0 | DQ7: =CM7*$CD7 -> 0 | DR7: =CN7*$CD7 -> 0.39266434 | DS7: =CO7*$CD7 -> 0.85816423 | DT7: =CP7*$CD7 -> 1.0509043 | ... EO7: =DK7*$CD7 -> 1.15 | EQ7: =DM7+$CA7 -> 1.828725 | ER7: =DN7+$CA7 -> 1.828725 | ES7: =DO7+$CA7 -> 1.828725 | ET7: =DP7+$CA7 -> 1.828725 | EU7: =DQ7+$CA7 -> 1.828725 | EV7: =DR7+$CA7 -> 2.2213893 | EW7: =DS7+$CA7 -> 2.6868892 | EX7: =DT7+$CA7 -> 2.8796293 | ... FS7: =EO7+$CA7 -> 2.978725 | FU7: =300*EQ7*AR7 -> 0 | FV7: =300*ER7*AS7 -> 69.982594 | FW7: =300*ES7*AT7 -> 476.18484 | FX7: =300*ET7*AU7 -> 1371.1318 | FY7: =300*EU7*AV7 -> 2781.3489 | FZ7: =300*EV7*AW7 -> 5664.3019 | GA7: =300*EW7*AX7 -> 10193.353 | GB7: =300*EX7*AY7 -> 14981.474 | ... GW7: =300*FS7*BT7 -> 85699.242
A8: 4 | B8: =IF(AND($GZ$5>12, $GZ$5<19), A8*5-5, "") | D8: C-4 | E8: 110 | F8: 0.0293 | G8: 1.5 | J8: 0.8 | K8: 66 | L8: =IF('Graph-Settings'!$I$6='Graph-Settings'!$C$46, K8, 'Graph-Settings'!$I$6) -> 66 | M8: =EXP(50*LN($J8)*(1/$L8-1/$K8)) -> 1 | N8: =$E8*(1-EXP(-$F8*N$4))^$G8 -> 0 | O8: =$E8*(1-EXP(-$F8*O$4))^$G8 -> 2.0648605 | P8: =$E8*(1-EXP(-$F8*P$4))^$G8 -> 5.5336727 | Q8: =$E8*(1-EXP(-$F8*Q$4))^$G8 -> 9.6387137 | R8: =$E8*(1-EXP(-$F8*R$4))^$G8 -> 14.079475 | S8: =$E8*(1-EXP(-$F8*S$4))^$G8 -> 18.681029 | T8: =$E8*(1-EXP(-$F8*T$4))^$G8 -> 23.329815 | U8: =$E8*(1-EXP(-$F8*U$4))^$G8 -> 27.948505 | ... AP8: =$E8*(1-EXP(-$F8*AP$4))^$G8 -> 89.477607 | AR8: =$M8*N8 -> 0 | AS8: =$M8*O8 -> 2.0648605 | AT8: =$M8*P8 -> 5.5336727 | AU8: =$M8*Q8 -> 9.6387137 | AV8: =$M8*R8 -> 14.079475 | AW8: =$M8*S8 -> 18.681029 | AX8: =$M8*T8 -> 23.329815 | AY8: =$M8*U8 -> 27.948505 | ... BT8: =$M8*AP8 -> 89.477607 | BW8: C-4 | CA8: =5*(1-EXP(-0.0164*L8))^2.24 -> 1.9794422 | CC8: 4 | CD8: 1.2 | CE8: =0.001*CC8^1.5*(460+25.9*$CC$1)^1.5 -> 1296.3699 | CF8: =CE8/(300*CA8) -> 2.1830559 | CI8: =IF(1-EXP(-0.23*(AR8-$CF8))<0, 0, 1-EXP(-0.23*(AR8-$CF8))) -> 0 | CJ8: =IF(1-EXP(-0.23*(AS8-$CF8))<0, 0, 1-EXP(-0.23*(AS8-$CF8))) -> 0 | CK8: =IF(1-EXP(-0.23*(AT8-$CF8))<0, 0, 1-EXP(-0.23*(AT8-$CF8))) -> 0.53728403 | CL8: =IF(1-EXP(-0.23*(AU8-$CF8))<0, 0, 1-EXP(-0.23*(AU8-$CF8))) -> 0.82000052 | CM8: =IF(1-EXP(-0.23*(AV8-$CF8))<0, 0, 1-EXP(-0.23*(AV8-$CF8))) -> 0.93518229 | CN8: =IF(1-EXP(-0.23*(AW8-$CF8))<0, 0, 1-EXP(-0.23*(AW8-$CF8))) -> 0.97750661 | CO8: =IF(1-EXP(-0.23*(AX8-$CF8))<0, 0, 1-EXP(-0.23*(AX8-$CF8))) -> 0.99227856 | CP8: =IF(1-EXP(-0.23*(AY8-$CF8))<0, 0, 1-EXP(-0.23*(AY8-$CF8))) -> 0.99733101 | ... DK8: =IF(1-EXP(-0.23*(BT8-$CF8))<0, 0, 1-EXP(-0.23*(BT8-$CF8))) -> 1 | DM8: =CI8*$CD8 -> 0 | DN8: =CJ8*$CD8 -> 0 | DO8: =CK8*$CD8 -> 0.64474083 | DP8: =CL8*$CD8 -> 0.98400062 | DQ8: =CM8*$CD8 -> 1.1222188 | DR8: =CN8*$CD8 -> 1.1730079 | DS8: =CO8*$CD8 -> 1.1907343 | DT8: =CP8*$CD8 -> 1.1967972 | ... EO8: =DK8*$CD8 -> 1.2 | EQ8: =DM8+$CA8 -> 1.9794422 | ER8: =DN8+$CA8 -> 1.9794422 | ES8: =DO8+$CA8 -> 2.6241831 | ET8: =DP8+$CA8 -> 2.9634429 | EU8: =DQ8+$CA8 -> 3.101661 | EV8: =DR8+$CA8 -> 3.1524502 | EW8: =DS8+$CA8 -> 3.1701765 | EX8: =DT8+$CA8 -> 3.1762394 | ... FS8: =EO8+$CA8 -> 3.1794422 | FU8: =300*EQ8*AR8 -> 0 | FV8: =300*ER8*AS8 -> 1226.1816 | FW8: =300*ES8*AT8 -> 4356.4111 | FX8: =300*ET8*AU8 -> 8569.1332 | FY8: =300*EU8*AV8 -> 13100.928 | FZ8: =300*EV8*AW8 -> 17667.304 | GA8: =300*EW8*AX8 -> 22187.89 | GB8: =300*EX8*AY8 -> 26631.344 | ... GW8: =300*FS8*BT8 -> 85346.665 | GZ8: ROS output values (wind speed) | IF8: HFI output values (Wind Speed)
A9: 5 | B9: =IF(AND($GZ$5>12, $GZ$5<19), A9*5-5, "") | D9: C-5 | E9: 30 | F9: 0.0697 | G9: 4 | J9: 0.8 | K9: 56 | L9: =IF('Graph-Settings'!$I$6='Graph-Settings'!$C$46, K9, 'Graph-Settings'!$I$6) -> 56 | M9: =EXP(50*LN($J9)*(1/$L9-1/$K9)) -> 1 | N9: =$E9*(1-EXP(-$F9*N$4))^$G9 -> 0 | O9: =$E9*(1-EXP(-$F9*O$4))^$G9 -> 0.019618146 | P9: =$E9*(1-EXP(-$F9*P$4))^$G9 -> 0.22491129 | Q9: =$E9*(1-EXP(-$F9*Q$4))^$G9 -> 0.82409534 | R9: =$E9*(1-EXP(-$F9*R$4))^$G9 -> 1.9040073 | S9: =$E9*(1-EXP(-$F9*S$4))^$G9 -> 3.4319002 | T9: =$E9*(1-EXP(-$F9*T$4))^$G9 -> 5.3054017 | U9: =$E9*(1-EXP(-$F9*U$4))^$G9 -> 7.3982418 | ... AP9: =$E9*(1-EXP(-$F9*AP$4))^$G9 -> 29.097803 | AR9: =$M9*N9 -> 0 | AS9: =$M9*O9 -> 0.019618146 | AT9: =$M9*P9 -> 0.22491129 | AU9: =$M9*Q9 -> 0.82409534 | AV9: =$M9*R9 -> 1.9040073 | AW9: =$M9*S9 -> 3.4319002 | AX9: =$M9*T9 -> 5.3054017 | AY9: =$M9*U9 -> 7.3982418 | ... BT9: =$M9*AP9 -> 29.097803 | BW9: C-5 | CA9: =5*(1-EXP(-0.0149*L9))^2.48 -> 1.2181424 | CC9: 18 | CD9: 1.2 | CE9: =0.001*CC9^1.5*(460+25.9*$CC$1)^1.5 -> 12375.072 | CF9: =CE9/(300*CA9) -> 33.863233 | CI9: =IF(1-EXP(-0.23*(AR9-$CF9))<0, 0, 1-EXP(-0.23*(AR9-$CF9))) -> 0 | CJ9: =IF(1-EXP(-0.23*(AS9-$CF9))<0, 0, 1-EXP(-0.23*(AS9-$CF9))) -> 0 | CK9: =IF(1-EXP(-0.23*(AT9-$CF9))<0, 0, 1-EXP(-0.23*(AT9-$CF9))) -> 0 | CL9: =IF(1-EXP(-0.23*(AU9-$CF9))<0, 0, 1-EXP(-0.23*(AU9-$CF9))) -> 0 | CM9: =IF(1-EXP(-0.23*(AV9-$CF9))<0, 0, 1-EXP(-0.23*(AV9-$CF9))) -> 0 | CN9: =IF(1-EXP(-0.23*(AW9-$CF9))<0, 0, 1-EXP(-0.23*(AW9-$CF9))) -> 0 | CO9: =IF(1-EXP(-0.23*(AX9-$CF9))<0, 0, 1-EXP(-0.23*(AX9-$CF9))) -> 0 | CP9: =IF(1-EXP(-0.23*(AY9-$CF9))<0, 0, 1-EXP(-0.23*(AY9-$CF9))) -> 0 | ... DK9: =IF(1-EXP(-0.23*(BT9-$CF9))<0, 0, 1-EXP(-0.23*(BT9-$CF9))) -> 0 | DM9: =CI9*$CD9 -> 0 | DN9: =CJ9*$CD9 -> 0 | DO9: =CK9*$CD9 -> 0 | DP9: =CL9*$CD9 -> 0 | DQ9: =CM9*$CD9 -> 0 | DR9: =CN9*$CD9 -> 0 | DS9: =CO9*$CD9 -> 0 | DT9: =CP9*$CD9 -> 0 | ... EO9: =DK9*$CD9 -> 0 | EQ9: =DM9+$CA9 -> 1.2181424 | ER9: =DN9+$CA9 -> 1.2181424 | ES9: =DO9+$CA9 -> 1.2181424 | ET9: =DP9+$CA9 -> 1.2181424 | EU9: =DQ9+$CA9 -> 1.2181424 | EV9: =DR9+$CA9 -> 1.2181424 | EW9: =DS9+$CA9 -> 1.2181424 | EX9: =DT9+$CA9 -> 1.2181424 | ... FS9: =EO9+$CA9 -> 1.2181424 | FU9: =300*EQ9*AR9 -> 0 | FV9: =300*ER9*AS9 -> 7.1693086 | FW9: =300*ES9*AT9 -> 82.192192 | FX9: =300*ET9*AU9 -> 301.15963 | FY9: =300*EU9*AV9 -> 695.8056 | FZ9: =300*EV9*AW9 -> 1254.1629 | GA9: =300*EW9*AX9 -> 1938.8204 | GB9: =300*EX9*AY9 -> 2703.6335 | ... GW9: =300*FS9*BT9 -> 10633.58 | GY9: Control1 | GZ9: =GZ5 -> 3 | HA9: =INDEX($AR$32:$BT$49, $GZ9, AR$28) -> 0.84300057 | HB9: =INDEX($AR$32:$BT$49, $GZ9, AS$28) -> 1.1789693 | HC9: =INDEX($AR$32:$BT$49, $GZ9, AT$28) -> 1.6398841 | HD9: =INDEX($AR$32:$BT$49, $GZ9, AU$28) -> 2.2671227 | HE9: =INDEX($AR$32:$BT$49, $GZ9, AV$28) -> 3.1129646 | HF9: =INDEX($AR$32:$BT$49, $GZ9, AW$28) -> 4.2419583 | HG9: =INDEX($AR$32:$BT$49, $GZ9, AX$28) -> 5.7316063 | HH9: =INDEX($AR$32:$BT$49, $GZ9, AY$28) -> 7.6718058 | ... IC9: =INDEX($AR$32:$BT$49, $GZ9, BT$28) -> 86.19879 | IE9: Control1 | IF9: =IF5 -> 3 | IG9: =INDEX($FU$32:$GW$49, $IF9, FU$28) -> 462.48486 | IH9: =INDEX($FU$32:$GW$49, $IF9, FV$28) -> 646.80316 | II9: =INDEX($FU$32:$GW$49, $IF9, FW$28) -> 899.66912 | IJ9: =INDEX($FU$32:$GW$49, $IF9, FX$28) -> 1243.7832 | IK9: =INDEX($FU$32:$GW$49, $IF9, FY$28) -> 1707.8268 | IL9: =INDEX($FU$32:$GW$49, $IF9, FZ$28) -> 2327.2125 | IM9: =INDEX($FU$32:$GW$49, $IF9, GA$28) -> 3144.4595 | IN9: =INDEX($FU$32:$GW$49, $IF9, GB$28) -> 4747.0434 | ... JI9: =INDEX($FU$32:$GW$49, $IF9, GW$28) -> 77028.746
A10: 6 | B10: =IF(AND($GZ$5>12, $GZ$5<19), A10*5-5, "") | D10: C-6 | K10: 62 | L10: =IF('Graph-Settings'!$I$6='Graph-Settings'!$C$46, K10, 'Graph-Settings'!$I$6) -> 62 | AR10: =AR24+CI10*(AR25-AR24) -> 0 | AS10: =AS24+CJ10*(AS25-AS24) -> 0.17868728 | AT10: =AT24+CK10*(AT25-AT24) -> 1.0749763 | AU10: =AU24+CL10*(AU25-AU24) -> 2.7554652 | AV10: =AV24+CM10*(AV25-AV24) -> 5.0095413 | AW10: =AW24+CN10*(AW25-AW24) -> 15.051649 | AX10: =AX24+CO10*(AX25-AX24) -> 24.257609 | AY10: =AY24+CP10*(AY25-AY24) -> 30.711665 | ... BT10: =BT24+DK10*(BT25-BT24) -> 58.038249 | BW10: C-6 | CA10: =5*(1-EXP(-0.0149*L10))^2.48 -> 1.4260786 | CC10: =$CG$1 -> 6 | CD10: 1.8 | CE10: =0.001*CC10^1.5*(460+25.9*$CC$1)^1.5 -> 2381.5836 | CF10: =CE10/(300*CA10) -> 5.5667423 | CG10: =((1.5-0.00275*CC1)^4)/(460+(25.9*CC1))*1000 -> 0.77823696 | CI10: =IF(1-EXP(-0.23*(AR24-$CF10))<0, 0, 1-EXP(-0.23*(AR24-$CF10))) -> 0 | CJ10: =IF(1-EXP(-0.23*(AS24-$CF10))<0, 0, 1-EXP(-0.23*(AS24-$CF10))) -> 0 | CK10: =IF(1-EXP(-0.23*(AT24-$CF10))<0, 0, 1-EXP(-0.23*(AT24-$CF10))) -> 0 | CL10: =IF(1-EXP(-0.23*(AU24-$CF10))<0, 0, 1-EXP(-0.23*(AU24-$CF10))) -> 0 | CM10: =IF(1-EXP(-0.23*(AV24-$CF10))<0, 0, 1-EXP(-0.23*(AV24-$CF10))) -> 0 | CN10: =IF(1-EXP(-0.23*(AW24-$CF10))<0, 0, 1-EXP(-0.23*(AW24-$CF10))) -> 0.3702639 | CO10: =IF(1-EXP(-0.23*(AX24-$CF10))<0, 0, 1-EXP(-0.23*(AX24-$CF10))) -> 0.65844858 | CP10: =IF(1-EXP(-0.23*(AY24-$CF10))<0, 0, 1-EXP(-0.23*(AY24-$CF10))) -> 0.81182651 | ... DK10: =IF(1-EXP(-0.23*(BT24-$CF10))<0, 0, 1-EXP(-0.23*(BT24-$CF10))) -> 0.99608675 | DM10: =CI10*$CD10 -> 0 | DN10: =CJ10*$CD10 -> 0 | DO10: =CK10*$CD10 -> 0 | DP10: =CL10*$CD10 -> 0 | DQ10: =CM10*$CD10 -> 0 | DR10: =CN10*$CD10 -> 0.66647501 | DS10: =CO10*$CD10 -> 1.1852074 | DT10: =CP10*$CD10 -> 1.4612877 | ... EO10: =DK10*$CD10 -> 1.7929561 | EQ10: =DM10+$CA10 -> 1.4260786 | ER10: =DN10+$CA10 -> 1.4260786 | ES10: =DO10+$CA10 -> 1.4260786 | ET10: =DP10+$CA10 -> 1.4260786 | EU10: =DQ10+$CA10 -> 1.4260786 | EV10: =DR10+$CA10 -> 2.0925536 | EW10: =DS10+$CA10 -> 2.6112861 | EX10: =DT10+$CA10 -> 2.8873663 | ... FS10: =EO10+$CA10 -> 3.2190348 | FU10: =300*EQ10*AR10 -> 0 | FV10: =300*ER10*AS10 -> 76.446634 | FW10: =300*ES10*AT10 -> 459.9002 | FX10: =300*ET10*AU10 -> 1178.853 | FY10: =300*EU10*AV10 -> 2143.1999 | FZ10: =300*EV10*AW10 -> 9448.9151 | GA10: =300*EW10*AX10 -> 19003.067 | GB10: =300*EX10*AY10 -> 26602.748 | ... GW10: =300*FS10*BT10 -> 56048.142
A11: 7 | B11: =IF(AND($GZ$5>12, $GZ$5<19), A11*5-5, "") | D11: C-7 | E11: 45 | F11: 0.0305 | G11: 2 | J11: 0.85 | K11: 106 | L11: =IF('Graph-Settings'!$I$6='Graph-Settings'!$C$46, K11, 'Graph-Settings'!$I$6) -> 106 | M11: =EXP(50*LN($J11)*(1/$L11-1/$K11)) -> 1 | N11: =$E11*(1-EXP(-$F11*N$4))^$G11 -> 0 | O11: =$E11*(1-EXP(-$F11*O$4))^$G11 -> 0.2425424 | P11: =$E11*(1-EXP(-$F11*P$4))^$G11 -> 0.90025139 | Q11: =$E11*(1-EXP(-$F11*Q$4))^$G11 -> 1.8814072 | R11: =$E11*(1-EXP(-$F11*R$4))^$G11 -> 3.1096854 | S11: =$E11*(1-EXP(-$F11*S$4))^$G11 -> 4.521802 | T11: =$E11*(1-EXP(-$F11*T$4))^$G11 -> 6.0655036 | U11: =$E11*(1-EXP(-$F11*U$4))^$G11 -> 7.6978549 | ... AP11: =$E11*(1-EXP(-$F11*AP$4))^$G11 -> 34.987167 | AR11: =$M11*N11 -> 0 | AS11: =$M11*O11 -> 0.2425424 | AT11: =$M11*P11 -> 0.90025139 | AU11: =$M11*Q11 -> 1.8814072 | AV11: =$M11*R11 -> 3.1096854 | AW11: =$M11*S11 -> 4.521802 | AX11: =$M11*T11 -> 6.0655036 | AY11: =$M11*U11 -> 7.6978549 | ... BT11: =$M11*AP11 -> 34.987167 | BW11: C-7 | BY11: =2*(1-EXP(-0.104*(BY1-70))) -> 1.7748195 | BZ11: =1.5*(1-EXP(-0.0201*L11)) -> 1.321851 | CA11: =IF(BY11>0, BZ11+BY11, BZ11) -> 3.0966704 | CC11: 10 | CD11: 0.5 | CE11: =0.001*CC11^1.5*(460+25.9*$CC$1)^1.5 -> 5124.3521 | CF11: =CE11/(300*CA11) -> 5.5159805 | CI11: =IF(1-EXP(-0.23*(AR11-$CF11))<0, 0, 1-EXP(-0.23*(AR11-$CF11))) -> 0 | CJ11: =IF(1-EXP(-0.23*(AS11-$CF11))<0, 0, 1-EXP(-0.23*(AS11-$CF11))) -> 0 | CK11: =IF(1-EXP(-0.23*(AT11-$CF11))<0, 0, 1-EXP(-0.23*(AT11-$CF11))) -> 0 | CL11: =IF(1-EXP(-0.23*(AU11-$CF11))<0, 0, 1-EXP(-0.23*(AU11-$CF11))) -> 0 | CM11: =IF(1-EXP(-0.23*(AV11-$CF11))<0, 0, 1-EXP(-0.23*(AV11-$CF11))) -> 0 | CN11: =IF(1-EXP(-0.23*(AW11-$CF11))<0, 0, 1-EXP(-0.23*(AW11-$CF11))) -> 0 | CO11: =IF(1-EXP(-0.23*(AX11-$CF11))<0, 0, 1-EXP(-0.23*(AX11-$CF11))) -> 0.11872919 | CP11: =IF(1-EXP(-0.23*(AY11-$CF11))<0, 0, 1-EXP(-0.23*(AY11-$CF11))) -> 0.39457896 | ... DK11: =IF(1-EXP(-0.23*(BT11-$CF11))<0, 0, 1-EXP(-0.23*(BT11-$CF11))) -> 0.99886187 | DM11: =CI11*$CD11 -> 0 | DN11: =CJ11*$CD11 -> 0 | DO11: =CK11*$CD11 -> 0 | DP11: =CL11*$CD11 -> 0 | DQ11: =CM11*$CD11 -> 0 | DR11: =CN11*$CD11 -> 0 | DS11: =CO11*$CD11 -> 0.059364597 | DT11: =CP11*$CD11 -> 0.19728948 | ... EO11: =DK11*$CD11 -> 0.49943094 | EQ11: =DM11+$CA11 -> 3.0966704 | ER11: =DN11+$CA11 -> 3.0966704 | ES11: =DO11+$CA11 -> 3.0966704 | ET11: =DP11+$CA11 -> 3.0966704 | EU11: =DQ11+$CA11 -> 3.0966704 | EV11: =DR11+$CA11 -> 3.0966704 | EW11: =DS11+$CA11 -> 3.156035 | EX11: =DT11+$CA11 -> 3.2939599 | ... FS11: =EO11+$CA11 -> 3.5961014 | FU11: =300*EQ11*AR11 -> 0 | FV11: =300*ER11*AS11 -> 225.32216 | FW11: =300*ES11*AT11 -> 836.33456 | FX11: =300*ET11*AU11 -> 1747.8294 | FY11: =300*EU11*AV11 -> 2888.9013 | FZ11: =300*EV11*AW11 -> 4200.7592 | GA11: =300*EW11*AX11 -> 5742.8825 | GB11: =300*EX11*AY11 -> 7606.9277 | ... GW11: =300*FS11*BT11 -> 37745.22
A12: 8 | B12: =IF(AND($GZ$5>12, $GZ$5<19), A12*5-5, "") | D12: D-1 | E12: 30 | F12: 0.0232 | G12: 1.6 | J12: 0.9 | K12: 32 | L12: =IF('Graph-Settings'!$I$6='Graph-Settings'!$C$46, K12, 'Graph-Settings'!$I$6) -> 32 | M12: =EXP(50*LN($J12)*(1/$L12-1/$K12)) -> 1 | N12: =$E12*(1-EXP(-$F12*N$4))^$G12 -> 0 | O12: =$E12*(1-EXP(-$F12*O$4))^$G12 -> 0.30099008 | P12: =$E12*(1-EXP(-$F12*P$4))^$G12 -> 0.87164784 | Q12: =$E12*(1-EXP(-$F12*Q$4))^$G12 -> 1.5937589 | R12: =$E12*(1-EXP(-$F12*R$4))^$G12 -> 2.4146525 | S12: =$E12*(1-EXP(-$F12*S$4))^$G12 -> 3.3009198 | T12: =$E12*(1-EXP(-$F12*T$4))^$G12 -> 4.2290542 | U12: =$E12*(1-EXP(-$F12*U$4))^$G12 -> 5.1816731 | ... AP12: =$E12*(1-EXP(-$F12*AP$4))^$G12 -> 21.114076 | AR12: =$M12*N12 -> 0 | AS12: =$M12*O12 -> 0.30099008 | AT12: =$M12*P12 -> 0.87164784 | AU12: =$M12*Q12 -> 1.5937589 | AV12: =$M12*R12 -> 2.4146525 | AW12: =$M12*S12 -> 3.3009198 | AX12: =$M12*T12 -> 4.2290542 | AY12: =$M12*U12 -> 5.1816731 | ... BT12: =$M12*AP12 -> 21.114076 | BW12: D-1 | CA12: =1.5*(1-EXP(-0.0183*L12)) -> 0.66484245 | DM12: =CI12*$CD12 -> 0 | DN12: =CJ12*$CD12 -> 0 | DO12: =CK12*$CD12 -> 0 | DP12: =CL12*$CD12 -> 0 | DQ12: =CM12*$CD12 -> 0 | DR12: =CN12*$CD12 -> 0 | DS12: =CO12*$CD12 -> 0 | DT12: =CP12*$CD12 -> 0 | ... EO12: =DK12*$CD12 -> 0 | EQ12: =DM12+$CA12 -> 0.66484245 | ER12: =DN12+$CA12 -> 0.66484245 | ES12: =DO12+$CA12 -> 0.66484245 | ET12: =DP12+$CA12 -> 0.66484245 | EU12: =DQ12+$CA12 -> 0.66484245 | EV12: =DR12+$CA12 -> 0.66484245 | EW12: =DS12+$CA12 -> 0.66484245 | EX12: =DT12+$CA12 -> 0.66484245 | ... FS12: =EO12+$CA12 -> 0.66484245 | FU12: =300*EQ12*AR12 -> 0 | FV12: =300*ER12*AS12 -> 60.033294 | FW12: =300*ES12*AT12 -> 173.85255 | FX12: =300*ET12*AU12 -> 317.87957 | FY12: =300*EU12*AV12 -> 481.60905 | FZ12: =300*EV12*AW12 -> 658.37748 | GA12: =300*EW12*AX12 -> 843.49643 | GB12: =300*EX12*AY12 -> 1033.4989 | ... GW12: =300*FS12*BT12 -> 4211.2601
A13: 9 | B13: =IF(AND($GZ$5>12, $GZ$5<19), A13*5-5, "") | D13: D-2 | E13: 30 | F13: 0.0232 | G13: 1.6 | J13: 0.9 | K13: 32 | L13: =IF('Graph-Settings'!$I$6='Graph-Settings'!$C$46, K13, 'Graph-Settings'!$I$6) -> 32 | M13: =EXP(50*LN($J13)*(1/$L13-1/$K13)) -> 1 | N13: =IF('Graph-Settings'!$I$6>69, 0.2*(N12), 0) -> 0 | O13: =IF('Graph-Settings'!$I$6>69, 0.2*(O12), 0) -> 0.060198015 | P13: =IF('Graph-Settings'!$I$6>69, 0.2*(P12), 0) -> 0.17432957 | Q13: =IF('Graph-Settings'!$I$6>69, 0.2*(Q12), 0) -> 0.31875178 | R13: =IF('Graph-Settings'!$I$6>69, 0.2*(R12), 0) -> 0.4829305 | S13: =IF('Graph-Settings'!$I$6>69, 0.2*(S12), 0) -> 0.66018396 | T13: =IF('Graph-Settings'!$I$6>69, 0.2*(T12), 0) -> 0.84581084 | U13: =IF('Graph-Settings'!$I$6>69, 0.2*(U12), 0) -> 1.0363346 | ... AP13: =IF('Graph-Settings'!$I$6>69, 0.2*(AP12), 0) -> 4.2228151 | AR13: =$M13*N13 -> 0 | AS13: =$M13*O13 -> 0.060198015 | AT13: =$M13*P13 -> 0.17432957 | AU13: =$M13*Q13 -> 0.31875178 | AV13: =$M13*R13 -> 0.4829305 | AW13: =$M13*S13 -> 0.66018396 | AX13: =$M13*T13 -> 0.84581084 | AY13: =$M13*U13 -> 1.0363346 | ... BT13: =$M13*AP13 -> 4.2228151 | BW13: D-2 | CA13: =1.5*(1-EXP(-0.0183*L13)) -> 0.66484245 | DM13: =CI13*$CD13 -> 0 | DN13: =CJ13*$CD13 -> 0 | DO13: =CK13*$CD13 -> 0 | DP13: =CL13*$CD13 -> 0 | DQ13: =CM13*$CD13 -> 0 | DR13: =CN13*$CD13 -> 0 | DS13: =CO13*$CD13 -> 0 | DT13: =CP13*$CD13 -> 0 | ... EO13: =DK13*$CD13 -> 0 | EQ13: =DM13+$CA13 -> 0.66484245 | ER13: =DN13+$CA13 -> 0.66484245 | ES13: =DO13+$CA13 -> 0.66484245 | ET13: =DP13+$CA13 -> 0.66484245 | EU13: =DQ13+$CA13 -> 0.66484245 | EV13: =DR13+$CA13 -> 0.66484245 | EW13: =DS13+$CA13 -> 0.66484245 | EX13: =DT13+$CA13 -> 0.66484245 | ... FS13: =EO13+$CA13 -> 0.66484245 | FU13: =300*EQ13*AR13 -> 0 | FV13: =300*ER13*AS13 -> 12.006659 | FW13: =300*ES13*AT13 -> 34.770509 | FX13: =300*ET13*AU13 -> 63.575914 | FY13: =300*EU13*AV13 -> 96.32181 | FZ13: =300*EV13*AW13 -> 131.6755 | GA13: =300*EW13*AX13 -> 168.69929 | GB13: =300*EX13*AY13 -> 206.69978 | ... GW13: =300*FS13*BT13 -> 842.25202
A14: 10 | B14: =IF(AND($GZ$5>12, $GZ$5<19), A14*5-5, "") | D14: S-1 | E14: 75 | F14: 0.0297 | G14: 1.3 | J14: 0.75 | K14: 38 | L14: =IF('Graph-Settings'!$I$6='Graph-Settings'!$C$46, K14, 'Graph-Settings'!$I$6) -> 38 | M14: =EXP(50*LN($J14)*(1/$L14-1/$K14)) -> 1 | N14: =$E14*(1-EXP(-$F14*N$4))^$G14 -> 0 | O14: =$E14*(1-EXP(-$F14*O$4))^$G14 -> 2.4329669 | P14: =$E14*(1-EXP(-$F14*P$4))^$G14 -> 5.7135239 | Q14: =$E14*(1-EXP(-$F14*Q$4))^$G14 -> 9.2365676 | R14: =$E14*(1-EXP(-$F14*R$4))^$G14 -> 12.819693 | S14: =$E14*(1-EXP(-$F14*S$4))^$G14 -> 16.370635 | T14: =$E14*(1-EXP(-$F14*T$4))^$G14 -> 19.836435 | U14: =$E14*(1-EXP(-$F14*U$4))^$G14 -> 23.185355 | ... AP14: =$E14*(1-EXP(-$F14*AP$4))^$G14 -> 63.04289 | AR14: =$M14*N14 -> 0 | AS14: =$M14*O14 -> 2.4329669 | AT14: =$M14*P14 -> 5.7135239 | AU14: =$M14*Q14 -> 9.2365676 | AV14: =$M14*R14 -> 12.819693 | AW14: =$M14*S14 -> 16.370635 | AX14: =$M14*T14 -> 19.836435 | AY14: =$M14*U14 -> 23.185355 | ... BT14: =$M14*AP14 -> 63.04289 | BW14: S-1 | BY14: =4*(1-EXP(-0.025*L14)) -> 2.4530359 | BZ14: =4*(1-EXP(-0.034*L14)) -> 2.9011168 | CA14: =BY14+BZ14 -> 5.3541527 | DM14: =CI14*$CD14 -> 0 | DN14: =CJ14*$CD14 -> 0 | DO14: =CK14*$CD14 -> 0 | DP14: =CL14*$CD14 -> 0 | DQ14: =CM14*$CD14 -> 0 | DR14: =CN14*$CD14 -> 0 | DS14: =CO14*$CD14 -> 0 | DT14: =CP14*$CD14 -> 0 | ... EO14: =DK14*$CD14 -> 0 | EQ14: =DM14+$CA14 -> 5.3541527 | ER14: =DN14+$CA14 -> 5.3541527 | ES14: =DO14+$CA14 -> 5.3541527 | ET14: =DP14+$CA14 -> 5.3541527 | EU14: =DQ14+$CA14 -> 5.3541527 | EV14: =DR14+$CA14 -> 5.3541527 | EW14: =DS14+$CA14 -> 5.3541527 | EX14: =DT14+$CA14 -> 5.3541527 | ... FS14: =EO14+$CA14 -> 5.3541527 | FU14: =300*EQ14*AR14 -> 0 | FV14: =300*ER14*AS14 -> 3907.943 | FW14: =300*ES14*AT14 -> 9177.3238 | FX14: =300*ET14*AU14 -> 14836.198 | FY14: =300*EU14*AV14 -> 20591.578 | FZ14: =300*EV14*AW14 -> 26295.265 | GA14: =300*EW14*AX14 -> 31862.192 | GB14: =300*EX14*AY14 -> 37241.38 | ... GW14: =300*FS14*BT14 -> 101262.38
A15: 11 | B15: =IF(AND($GZ$5>12, $GZ$5<19), A15*5-5, "") | D15: S-2 | E15: 40 | F15: 0.0438 | G15: 1.7 | J15: 0.75 | K15: 63 | L15: =IF('Graph-Settings'!$I$6='Graph-Settings'!$C$46, K15, 'Graph-Settings'!$I$6) -> 63 | M15: =EXP(50*LN($J15)*(1/$L15-1/$K15)) -> 1 | N15: =$E15*(1-EXP(-$F15*N$4))^$G15 -> 0 | O15: =$E15*(1-EXP(-$F15*O$4))^$G15 -> 0.84920169 | P15: =$E15*(1-EXP(-$F15*P$4))^$G15 -> 2.5202631 | Q15: =$E15*(1-EXP(-$F15*Q$4))^$G15 -> 4.5943166 | R15: =$E15*(1-EXP(-$F15*R$4))^$G15 -> 6.8670521 | S15: =$E15*(1-EXP(-$F15*S$4))^$G15 -> 9.21301 | T15: =$E15*(1-EXP(-$F15*T$4))^$G15 -> 11.551025 | U15: =$E15*(1-EXP(-$F15*U$4))^$G15 -> 13.828114 | ... AP15: =$E15*(1-EXP(-$F15*AP$4))^$G15 -> 36.882653 | AR15: =$M15*N15 -> 0 | AS15: =$M15*O15 -> 0.84920169 | AT15: =$M15*P15 -> 2.5202631 | AU15: =$M15*Q15 -> 4.5943166 | AV15: =$M15*R15 -> 6.8670521 | AW15: =$M15*S15 -> 9.21301 | AX15: =$M15*T15 -> 11.551025 | AY15: =$M15*U15 -> 13.828114 | ... BT15: =$M15*AP15 -> 36.882653 | BW15: S-2 | BY15: =10*(1-EXP(-0.013*L15)) -> 5.5912769 | BZ15: =6*(1-EXP(-0.06*L15)) -> 5.8630639 | CA15: =BY15+BZ15 -> 11.454341 | DM15: =CI15*$CD15 -> 0 | DN15: =CJ15*$CD15 -> 0 | DO15: =CK15*$CD15 -> 0 | DP15: =CL15*$CD15 -> 0 | DQ15: =CM15*$CD15 -> 0 | DR15: =CN15*$CD15 -> 0 | DS15: =CO15*$CD15 -> 0 | DT15: =CP15*$CD15 -> 0 | ... EO15: =DK15*$CD15 -> 0 | EQ15: =DM15+$CA15 -> 11.454341 | ER15: =DN15+$CA15 -> 11.454341 | ES15: =DO15+$CA15 -> 11.454341 | ET15: =DP15+$CA15 -> 11.454341 | EU15: =DQ15+$CA15 -> 11.454341 | EV15: =DR15+$CA15 -> 11.454341 | EW15: =DS15+$CA15 -> 11.454341 | EX15: =DT15+$CA15 -> 11.454341 | ... FS15: =EO15+$CA15 -> 11.454341 | FU15: =300*EQ15*AR15 -> 0 | FV15: =300*ER15*AS15 -> 2918.1137 | FW15: =300*ES15*AT15 -> 8660.3857 | FX15: =300*ET15*AU15 -> 15787.461 | FY15: =300*EU15*AV15 -> 23597.267 | FZ15: =300*EV15*AW15 -> 31658.687 | GA15: =300*EW15*AX15 -> 39692.815 | GB15: =300*EX15*AY15 -> 47517.578 | ... GW15: =300*FS15*BT15 -> 126739.94
A16: 12 | B16: =IF(AND($GZ$5>12, $GZ$5<19), A16*5-5, "") | D16: S-3 | E16: 55 | F16: 0.0829 | G16: 3.2 | J16: 0.75 | K16: 31 | L16: =IF('Graph-Settings'!$I$6='Graph-Settings'!$C$46, K16, 'Graph-Settings'!$I$6) -> 31 | M16: =EXP(50*LN($J16)*(1/$L16-1/$K16)) -> 1 | N16: =$E16*(1-EXP(-$F16*N$4))^$G16 -> 0 | O16: =$E16*(1-EXP(-$F16*O$4))^$G16 -> 0.25799987 | P16: =$E16*(1-EXP(-$F16*P$4))^$G16 -> 1.7312179 | Q16: =$E16*(1-EXP(-$F16*Q$4))^$G16 -> 4.6796167 | R16: =$E16*(1-EXP(-$F16*R$4))^$G16 -> 8.7752372 | S16: =$E16*(1-EXP(-$F16*S$4))^$G16 -> 13.533872 | T16: =$E16*(1-EXP(-$F16*T$4))^$G16 -> 18.516979 | U16: =$E16*(1-EXP(-$F16*U$4))^$G16 -> 23.398012 | ... AP16: =$E16*(1-EXP(-$F16*AP$4))^$G16 -> 54.470508 | AR16: =$M16*N16 -> 0 | AS16: =$M16*O16 -> 0.25799987 | AT16: =$M16*P16 -> 1.7312179 | AU16: =$M16*Q16 -> 4.6796167 | AV16: =$M16*R16 -> 8.7752372 | AW16: =$M16*S16 -> 13.533872 | AX16: =$M16*T16 -> 18.516979 | AY16: =$M16*U16 -> 23.398012 | ... BT16: =$M16*AP16 -> 54.470508 | BW16: S-3 | BY16: =12*(1-EXP(-0.0166*L16)) -> 4.8271243 | BZ16: =20*(1-EXP(-0.021*L16)) -> 9.5695202 | CA16: =BY16+BZ16 -> 14.396644 | DM16: =CI16*$CD16 -> 0 | DN16: =CJ16*$CD16 -> 0 | DO16: =CK16*$CD16 -> 0 | DP16: =CL16*$CD16 -> 0 | DQ16: =CM16*$CD16 -> 0 | DR16: =CN16*$CD16 -> 0 | DS16: =CO16*$CD16 -> 0 | DT16: =CP16*$CD16 -> 0 | ... EO16: =DK16*$CD16 -> 0 | EQ16: =DM16+$CA16 -> 14.396644 | ER16: =DN16+$CA16 -> 14.396644 | ES16: =DO16+$CA16 -> 14.396644 | ET16: =DP16+$CA16 -> 14.396644 | EU16: =DQ16+$CA16 -> 14.396644 | EV16: =DR16+$CA16 -> 14.396644 | EW16: =DS16+$CA16 -> 14.396644 | EX16: =DT16+$CA16 -> 14.396644 | ... FS16: =EO16+$CA16 -> 14.396644 | FU16: =300*EQ16*AR16 -> 0 | FV16: =300*ER16*AS16 -> 1114.2997 | FW16: =300*ES16*AT16 -> 7477.1185 | FX16: =300*ET16*AU16 -> 20211.233 | FY16: =300*EU16*AV16 -> 37900.191 | FZ16: =300*EV16*AW16 -> 58452.703 | GA16: =300*EW16*AX16 -> 79974.711 | GB16: =300*EX16*AY16 -> 101055.86 | ... GW16: =300*FS16*BT16 -> 235257.76
A17: 13 | B17: =IF(AND($GZ$5>12, $GZ$5<19), A17*5-5, "") | D17: O-1a | E17: 190 | F17: 0.031 | G17: 1.4 | H17: =$C$6 -> 75 | I17: =IF(H17<58.8, 0.005*(EXP(0.061*H17)-1), 0.176+0.02*(H17-58.8)) -> 0.5 | N17: =$I17*($E17*(1-EXP(-$F17*N$4))^$G17) -> 0 | O17: =$I17*($E17*(1-EXP(-$F17*O$4))^$G17) -> 2.5080585 | P17: =$I17*($E17*(1-EXP(-$F17*P$4))^$G17) -> 6.2758934 | Q17: =$I17*($E17*(1-EXP(-$F17*Q$4))^$G17) -> 10.505172 | R17: =$I17*($E17*(1-EXP(-$F17*R$4))^$G17) -> 14.921783 | S17: =$I17*($E17*(1-EXP(-$F17*S$4))^$G17) -> 19.377641 | T17: =$I17*($E17*(1-EXP(-$F17*T$4))^$G17) -> 23.782793 | U17: =$I17*($E17*(1-EXP(-$F17*U$4))^$G17) -> 28.080034 | ... AP17: =$I17*($E17*(1-EXP(-$F17*AP$4))^$G17) -> 80.169452 | AR17: =$I17*($E17*(1-EXP(-$F17*AR$4))^$G17) -> 0 | AS17: =$I17*($E17*(1-EXP(-$F17*AS$4))^$G17) -> 2.5080585 | AT17: =$I17*($E17*(1-EXP(-$F17*AT$4))^$G17) -> 6.2758934 | AU17: =$I17*($E17*(1-EXP(-$F17*AU$4))^$G17) -> 10.505172 | AV17: =$I17*($E17*(1-EXP(-$F17*AV$4))^$G17) -> 14.921783 | AW17: =$I17*($E17*(1-EXP(-$F17*AW$4))^$G17) -> 19.377641 | AX17: =$I17*($E17*(1-EXP(-$F17*AX$4))^$G17) -> 23.782793 | AY17: =$I17*($E17*(1-EXP(-$F17*AY$4))^$G17) -> 28.080034 | ... BT17: =$I17*($E17*(1-EXP(-$F17*BT$4))^$G17) -> 80.169452 | BW17: O-1a | CA17: =CE1/10 -> 0.35 | DM17: =CI17*$CD17 -> 0 | DN17: =CJ17*$CD17 -> 0 | DO17: =CK17*$CD17 -> 0 | DP17: =CL17*$CD17 -> 0 | DQ17: =CM17*$CD17 -> 0 | DR17: =CN17*$CD17 -> 0 | DS17: =CO17*$CD17 -> 0 | DT17: =CP17*$CD17 -> 0 | ... EO17: =DK17*$CD17 -> 0 | EQ17: =DM17+$CA17 -> 0.35 | ER17: =DN17+$CA17 -> 0.35 | ES17: =DO17+$CA17 -> 0.35 | ET17: =DP17+$CA17 -> 0.35 | EU17: =DQ17+$CA17 -> 0.35 | EV17: =DR17+$CA17 -> 0.35 | EW17: =DS17+$CA17 -> 0.35 | EX17: =DT17+$CA17 -> 0.35 | ... FS17: =EO17+$CA17 -> 0.35 | FU17: =300*EQ17*AR17 -> 0 | FV17: =300*ER17*AS17 -> 263.34615 | FW17: =300*ES17*AT17 -> 658.9688 | FX17: =300*ET17*AU17 -> 1103.043 | FY17: =300*EU17*AV17 -> 1566.7872 | FZ17: =300*EV17*AW17 -> 2034.6523 | GA17: =300*EW17*AX17 -> 2497.1933 | GB17: =300*EX17*AY17 -> 2948.4035 | ... GW17: =300*FS17*BT17 -> 8417.7925
A18: 14 | B18: =IF(AND($GZ$5>12, $GZ$5<19), A18*5-5, "") | D18: O-1b | E18: 250 | F18: 0.035 | G18: 1.7 | H18: =$C$6 -> 75 | I18: =IF(H18<58.8, 0.005*(EXP(0.061*H18)-1), 0.176+0.02*(H18-58.8)) -> 0.5 | N18: =$I18*($E18*(1-EXP(-$F18*N$4))^$G18) -> 0 | O18: =$I18*($E18*(1-EXP(-$F18*O$4))^$G18) -> 1.8461142 | P18: =$I18*($E18*(1-EXP(-$F18*P$4))^$G18) -> 5.5771876 | Q18: =$I18*($E18*(1-EXP(-$F18*Q$4))^$G18) -> 10.342997 | R18: =$I18*($E18*(1-EXP(-$F18*R$4))^$G18) -> 15.717651 | S18: =$I18*($E18*(1-EXP(-$F18*S$4))^$G18) -> 21.426352 | T18: =$I18*($E18*(1-EXP(-$F18*T$4))^$G18) -> 27.279503 | U18: =$I18*($E18*(1-EXP(-$F18*U$4))^$G18) -> 33.142914 | ... AP18: =$I18*($E18*(1-EXP(-$F18*AP$4))^$G18) -> 107.22137 | AR18: =$I18*($E18*(1-EXP(-$F18*AR$4))^$G18) -> 0 | AS18: =$I18*($E18*(1-EXP(-$F18*AS$4))^$G18) -> 1.8461142 | AT18: =$I18*($E18*(1-EXP(-$F18*AT$4))^$G18) -> 5.5771876 | AU18: =$I18*($E18*(1-EXP(-$F18*AU$4))^$G18) -> 10.342997 | AV18: =$I18*($E18*(1-EXP(-$F18*AV$4))^$G18) -> 15.717651 | AW18: =$I18*($E18*(1-EXP(-$F18*AW$4))^$G18) -> 21.426352 | AX18: =$I18*($E18*(1-EXP(-$F18*AX$4))^$G18) -> 27.279503 | AY18: =$I18*($E18*(1-EXP(-$F18*AY$4))^$G18) -> 33.142914 | ... BT18: =$I18*($E18*(1-EXP(-$F18*BT$4))^$G18) -> 107.22137 | BW18: O-1b | CA18: =CE1/10 -> 0.35 | DM18: =CI18*$CD18 -> 0 | DN18: =CJ18*$CD18 -> 0 | DO18: =CK18*$CD18 -> 0 | DP18: =CL18*$CD18 -> 0 | DQ18: =CM18*$CD18 -> 0 | DR18: =CN18*$CD18 -> 0 | DS18: =CO18*$CD18 -> 0 | DT18: =CP18*$CD18 -> 0 | ... EO18: =DK18*$CD18 -> 0 | EQ18: =DM18+$CA18 -> 0.35 | ER18: =DN18+$CA18 -> 0.35 | ES18: =DO18+$CA18 -> 0.35 | ET18: =DP18+$CA18 -> 0.35 | EU18: =DQ18+$CA18 -> 0.35 | EV18: =DR18+$CA18 -> 0.35 | EW18: =DS18+$CA18 -> 0.35 | EX18: =DT18+$CA18 -> 0.35 | ... FS18: =EO18+$CA18 -> 0.35 | FU18: =300*EQ18*AR18 -> 0 | FV18: =300*ER18*AS18 -> 193.84199 | FW18: =300*ES18*AT18 -> 585.6047 | FX18: =300*ET18*AU18 -> 1086.0147 | FY18: =300*EU18*AV18 -> 1650.3534 | FZ18: =300*EV18*AW18 -> 2249.7669 | GA18: =300*EW18*AX18 -> 2864.3478 | GB18: =300*EX18*AY18 -> 3480.006 | ... GW18: =300*FS18*BT18 -> 11258.244
A19: 15 | B19: =IF(AND($GZ$5>12, $GZ$5<19), A19*5-5, "") | D19: M-1 | H19: =$C$6 -> 75 | J19: 0.8 | K19: 50 | L19: =IF('Graph-Settings'!$I$6='Graph-Settings'!$C$46, K19, 'Graph-Settings'!$I$6) -> 50 | M19: =EXP(50*LN($J19)*(1/$L19-1/$K19)) -> 1 | N19: =($H19/100*N$6)+((100-$H19)/100*N$12) -> 0 | O19: =($H19/100*O$6)+((100-$H19)/100*O$12) -> 1.540489 | P19: =($H19/100*P$6)+((100-$H19)/100*P$12) -> 4.1524661 | Q19: =($H19/100*Q$6)+((100-$H19)/100*Q$12) -> 7.2650639 | R19: =($H19/100*R$6)+((100-$H19)/100*R$12) -> 10.652862 | S19: =($H19/100*S$6)+((100-$H19)/100*S$12) -> 14.183348 | T19: =($H19/100*T$6)+((100-$H19)/100*T$12) -> 17.769482 | U19: =($H19/100*U$6)+((100-$H19)/100*U$12) -> 21.351156 | ... AP19: =($H19/100*AP$6)+((100-$H19)/100*AP$12) -> 71.201103 | AR19: =$M19*N19 -> 0 | AS19: =$M19*O19 -> 1.540489 | AT19: =$M19*P19 -> 4.1524661 | AU19: =$M19*Q19 -> 7.2650639 | AV19: =$M19*R19 -> 10.652862 | AW19: =$M19*S19 -> 14.183348 | AX19: =$M19*T19 -> 17.769482 | AY19: =$M19*U19 -> 21.351156 | ... BT19: =$M19*AP19 -> 71.201103 | BW19: M1 | CA19: =($C$6/100*$CA$6)+((100-$C$6)/100*$CA$12) -> 2.1198624 | CC19: 6 | CD19: 0.8 | CE19: =0.001*CC19^1.5*(460+25.9*$CC$1)^1.5 -> 2381.5836 | CF19: =CE19/(300*CA19) -> 3.7448714 | CI19: =IF(1-EXP(-0.23*(AR19-$CF19))<0, 0, 1-EXP(-0.23*(AR19-$CF19))) -> 0 | CJ19: =IF(1-EXP(-0.23*(AS19-$CF19))<0, 0, 1-EXP(-0.23*(AS19-$CF19))) -> 0 | CK19: =IF(1-EXP(-0.23*(AT19-$CF19))<0, 0, 1-EXP(-0.23*(AT19-$CF19))) -> 0.089486697 | CL19: =IF(1-EXP(-0.23*(AU19-$CF19))<0, 0, 1-EXP(-0.23*(AU19-$CF19))) -> 0.55498365 | CM19: =IF(1-EXP(-0.23*(AV19-$CF19))<0, 0, 1-EXP(-0.23*(AV19-$CF19))) -> 0.79583727 | CN19: =IF(1-EXP(-0.23*(AW19-$CF19))<0, 0, 1-EXP(-0.23*(AW19-$CF19))) -> 0.90935909 | CO19: =IF(1-EXP(-0.23*(AX19-$CF19))<0, 0, 1-EXP(-0.23*(AX19-$CF19))) -> 0.96027046 | CP19: =IF(1-EXP(-0.23*(AY19-$CF19))<0, 0, 1-EXP(-0.23*(AY19-$CF19))) -> 0.98256796 | ... DK19: =IF(1-EXP(-0.23*(BT19-$CF19))<0, 0, 1-EXP(-0.23*(BT19-$CF19))) -> 0.99999982 | DM19: =$C$6/100*CI19*$CD19 -> 0 | DN19: =$C$6/100*CJ19*$CD19 -> 0 | DO19: =$C$6/100*CK19*$CD19 -> 0.053692018 | DP19: =$C$6/100*CL19*$CD19 -> 0.33299019 | DQ19: =$C$6/100*CM19*$CD19 -> 0.47750236 | DR19: =$C$6/100*CN19*$CD19 -> 0.54561545 | DS19: =$C$6/100*CO19*$CD19 -> 0.57616228 | DT19: =$C$6/100*CP19*$CD19 -> 0.58954078 | ... EO19: =$C$6/100*DK19*$CD19 -> 0.59999989 | EQ19: =DM19+$CA19 -> 2.1198624 | ER19: =DN19+$CA19 -> 2.1198624 | ES19: =DO19+$CA19 -> 2.1735544 | ET19: =DP19+$CA19 -> 2.4528526 | EU19: =DQ19+$CA19 -> 2.5973647 | EV19: =DR19+$CA19 -> 2.6654778 | EW19: =DS19+$CA19 -> 2.6960247 | EX19: =DT19+$CA19 -> 2.7094032 | ... FS19: =EO19+$CA19 -> 2.7198623 | FU19: =300*EQ19*AR19 -> 0 | FV19: =300*ER19*AS19 -> 979.68741 | FW19: =300*ES19*AT19 -> 2707.6833 | FX19: =300*ET19*AU19 -> 5346.0392 | FY19: =300*EU19*AV19 -> 8300.8107 | FZ19: =300*EV19*AW19 -> 11341.62 | GA19: =300*EW19*AX19 -> 14372.088 | GB19: =300*EX19*AY19 -> 17354.667 | ... GW19: =300*FS19*BT19 -> 58097.158
A20: 16 | B20: =IF(AND($GZ$5>12, $GZ$5<19), A20*5-5, "") | D20: M-2 | H20: =$C$6 -> 75 | J20: 0.8 | K20: 50 | L20: =IF('Graph-Settings'!$I$6='Graph-Settings'!$C$46, K20, 'Graph-Settings'!$I$6) -> 50 | M20: =EXP(50*LN($J20)*(1/$L20-1/$K20)) -> 1 | N20: =($H20/100*N$6)+((100-$H20)/100*N$13) -> 0 | O20: =($H20/100*O$6)+((100-$H20)/100*O$13) -> 1.480291 | P20: =($H20/100*P$6)+((100-$H20)/100*P$13) -> 3.9781365 | Q20: =($H20/100*Q$6)+((100-$H20)/100*Q$13) -> 6.9463121 | R20: =($H20/100*R$6)+((100-$H20)/100*R$13) -> 10.169932 | S20: =($H20/100*S$6)+((100-$H20)/100*S$13) -> 13.523164 | T20: =($H20/100*T$6)+((100-$H20)/100*T$13) -> 16.923671 | U20: =($H20/100*U$6)+((100-$H20)/100*U$13) -> 20.314821 | ... AP20: =($H20/100*AP$6)+((100-$H20)/100*AP$13) -> 66.978288 | AR20: =$M20*N20 -> 0 | AS20: =$M20*O20 -> 1.480291 | AT20: =$M20*P20 -> 3.9781365 | AU20: =$M20*Q20 -> 6.9463121 | AV20: =$M20*R20 -> 10.169932 | AW20: =$M20*S20 -> 13.523164 | AX20: =$M20*T20 -> 16.923671 | AY20: =$M20*U20 -> 20.314821 | ... BT20: =$M20*AP20 -> 66.978288 | BW20: M2 | CA20: =($C$6/100*$CA$6)+((100-$C$6)/100*$CA$12) -> 2.1198624 | CC20: 6 | CD20: 0.8 | CE20: =0.001*CC20^1.5*(460+25.9*$CC$1)^1.5 -> 2381.5836 | CF20: =CE20/(300*CA20) -> 3.7448714 | CI20: =IF(1-EXP(-0.23*(AR20-$CF20))<0, 0, 1-EXP(-0.23*(AR20-$CF20))) -> 0 | CJ20: =IF(1-EXP(-0.23*(AS20-$CF20))<0, 0, 1-EXP(-0.23*(AS20-$CF20))) -> 0 | CK20: =IF(1-EXP(-0.23*(AT20-$CF20))<0, 0, 1-EXP(-0.23*(AT20-$CF20))) -> 0.052237152 | CL20: =IF(1-EXP(-0.23*(AU20-$CF20))<0, 0, 1-EXP(-0.23*(AU20-$CF20))) -> 0.52113251 | CM20: =IF(1-EXP(-0.23*(AV20-$CF20))<0, 0, 1-EXP(-0.23*(AV20-$CF20))) -> 0.77185271 | CN20: =IF(1-EXP(-0.23*(AW20-$CF20))<0, 0, 1-EXP(-0.23*(AW20-$CF20))) -> 0.89449609 | CO20: =IF(1-EXP(-0.23*(AX20-$CF20))<0, 0, 1-EXP(-0.23*(AX20-$CF20))) -> 0.95173863 | CP20: =IF(1-EXP(-0.23*(AY20-$CF20))<0, 0, 1-EXP(-0.23*(AY20-$CF20))) -> 0.97787592 | ... DK20: =IF(1-EXP(-0.23*(BT20-$CF20))<0, 0, 1-EXP(-0.23*(BT20-$CF20))) -> 0.99999952 | DM20: =$C$6/100*CI20*$CD20 -> 0 | DN20: =$C$6/100*CJ20*$CD20 -> 0 | DO20: =$C$6/100*CK20*$CD20 -> 0.031342291 | DP20: =$C$6/100*CL20*$CD20 -> 0.3126795 | DQ20: =$C$6/100*CM20*$CD20 -> 0.46311163 | DR20: =$C$6/100*CN20*$CD20 -> 0.53669766 | DS20: =$C$6/100*CO20*$CD20 -> 0.57104318 | DT20: =$C$6/100*CP20*$CD20 -> 0.58672555 | ... EO20: =$C$6/100*DK20*$CD20 -> 0.59999971 | EQ20: =DM20+$CA20 -> 2.1198624 | ER20: =DN20+$CA20 -> 2.1198624 | ES20: =DO20+$CA20 -> 2.1512047 | ET20: =DP20+$CA20 -> 2.4325419 | EU20: =DQ20+$CA20 -> 2.582974 | EV20: =DR20+$CA20 -> 2.65656 | EW20: =DS20+$CA20 -> 2.6909056 | EX20: =DT20+$CA20 -> 2.7065879 | ... FS20: =EO20+$CA20 -> 2.7198621 | FU20: =300*EQ20*AR20 -> 0 | FV20: =300*ER20*AS20 -> 941.40396 | FW20: =300*ES20*AT20 -> 2567.3358 | FX20: =300*ET20*AU20 -> 5069.1586 | FY20: =300*EU20*AV20 -> 7880.6008 | FZ20: =300*EV20*AW20 -> 10777.529 | GA20: =300*EW20*AX20 -> 13662 | GB20: =300*EX20*AY20 -> 16495.155 | ... GW20: =300*FS20*BT20 -> 54651.512
A21: 17 | B21: =IF(AND($GZ$5>12, $GZ$5<19), A21*5-5, "") | D21: M-3 | E21: 120 | F21: 0.0572 | G21: 1.4 | H21: =$C$6 -> 75 | J21: 0.8 | K21: 50 | L21: =IF('Graph-Settings'!$I$6='Graph-Settings'!$C$46, K21, 'Graph-Settings'!$I$6) -> 50 | M21: =EXP(50*LN($J21)*(1/$L21-1/$K21)) -> 1 | N21: =$H21/100*(($E21*(1-EXP(-$F21*N$4))^$G21)) + ((100-$H21)/100*N12) -> 0 | O21: =$H21/100*(($E21*(1-EXP(-$F21*O$4))^$G21)) + ((100-$H21)/100*O12) -> 5.4302299 | P21: =$H21/100*(($E21*(1-EXP(-$F21*P$4))^$G21)) + ((100-$H21)/100*P12) -> 13.049488 | Q21: =$H21/100*(($E21*(1-EXP(-$F21*Q$4))^$G21)) + ((100-$H21)/100*Q12) -> 21.000916 | R21: =$H21/100*(($E21*(1-EXP(-$F21*R$4))^$G21)) + ((100-$H21)/100*R12) -> 28.720845 | S21: =$H21/100*(($E21*(1-EXP(-$F21*S$4))^$G21)) + ((100-$H21)/100*S12) -> 35.965342 | T21: =$H21/100*(($E21*(1-EXP(-$F21*T$4))^$G21)) + ((100-$H21)/100*T12) -> 42.631494 | U21: =$H21/100*(($E21*(1-EXP(-$F21*U$4))^$G21)) + ((100-$H21)/100*U12) -> 48.68861 | ... AP21: =$H21/100*(($E21*(1-EXP(-$F21*AP$4))^$G21)) + ((100-$H21)/100*AP12) -> 92.988378 | AR21: =$M21*N21 -> 0 | AS21: =$M21*O21 -> 5.4302299 | AT21: =$M21*P21 -> 13.049488 | AU21: =$M21*Q21 -> 21.000916 | AV21: =$M21*R21 -> 28.720845 | AW21: =$M21*S21 -> 35.965342 | AX21: =$M21*T21 -> 42.631494 | AY21: =$M21*U21 -> 48.68861 | ... BT21: =$M21*AP21 -> 92.988378 | BW21: M3 | CA21: =5*(1-EXP(-0.0115*L21)) -> 2.1864757 | CC21: 6 | CD21: 0.8 | CE21: =0.001*CC21^1.5*(460+25.9*$CC$1)^1.5 -> 2381.5836 | CF21: =CE21/(300*CA21) -> 3.63078 | CI21: =IF(1-EXP(-0.23*(AR21-$CF21))<0, 0, 1-EXP(-0.23*(AR21-$CF21))) -> 0 | CJ21: =IF(1-EXP(-0.23*(AS21-$CF21))<0, 0, 1-EXP(-0.23*(AS21-$CF21))) -> 0.33891541 | CK21: =IF(1-EXP(-0.23*(AT21-$CF21))<0, 0, 1-EXP(-0.23*(AT21-$CF21))) -> 0.88539946 | CL21: =IF(1-EXP(-0.23*(AU21-$CF21))<0, 0, 1-EXP(-0.23*(AU21-$CF21))) -> 0.98159497 | CM21: =IF(1-EXP(-0.23*(AV21-$CF21))<0, 0, 1-EXP(-0.23*(AV21-$CF21))) -> 0.99688247 | CN21: =IF(1-EXP(-0.23*(AW21-$CF21))<0, 0, 1-EXP(-0.23*(AW21-$CF21))) -> 0.99941092 | CO21: =IF(1-EXP(-0.23*(AX21-$CF21))<0, 0, 1-EXP(-0.23*(AX21-$CF21))) -> 0.99987285 | CP21: =IF(1-EXP(-0.23*(AY21-$CF21))<0, 0, 1-EXP(-0.23*(AY21-$CF21))) -> 0.99996843 | ... DK21: =IF(1-EXP(-0.23*(BT21-$CF21))<0, 0, 1-EXP(-0.23*(BT21-$CF21))) -> 1 | DM21: =CI21*$CD21 -> 0 | DN21: =CJ21*$CD21 -> 0.27113233 | DO21: =CK21*$CD21 -> 0.70831957 | DP21: =CL21*$CD21 -> 0.78527598 | DQ21: =CM21*$CD21 -> 0.79750598 | DR21: =CN21*$CD21 -> 0.79952874 | DS21: =CO21*$CD21 -> 0.79989828 | DT21: =CP21*$CD21 -> 0.79997474 | ... EO21: =DK21*$CD21 -> 0.8 | EQ21: =DM21+$CA21 -> 2.1864757 | ER21: =DN21+$CA21 -> 2.457608 | ES21: =DO21+$CA21 -> 2.8947952 | ET21: =DP21+$CA21 -> 2.9717516 | EU21: =DQ21+$CA21 -> 2.9839816 | EV21: =DR21+$CA21 -> 2.9860044 | EW21: =DS21+$CA21 -> 2.9863739 | EX21: =DT21+$CA21 -> 2.9864504 | ... FS21: =EO21+$CA21 -> 2.9864757 | FU21: =300*EQ21*AR21 -> 0 | FV21: =300*ER21*AS21 -> 4003.6129 | FW21: =300*ES21*AT21 -> 11332.679 | FX21: =300*ET21*AU21 -> 18722.852 | FY21: =300*EU21*AV21 -> 25710.742 | FZ21: =300*EV21*AW21 -> 32217.801 | GA21: =300*EW21*AX21 -> 38194.075 | GB21: =300*EX21*AY21 -> 43621.836 | ... GW21: =300*FS21*BT21 -> 83312.258
A22: 18 | B22: =IF(AND($GZ$5>12, $GZ$5<19), A22*5-5, "") | D22: M-4 | E22: 100 | F22: 0.0404 | G22: 1.48 | H22: =$C$6 -> 75 | J22: 0.8 | K22: 50 | L22: =IF('Graph-Settings'!$I$6='Graph-Settings'!$C$46, K22, 'Graph-Settings'!$I$6) -> 50 | M22: =EXP(50*LN($J22)*(1/$L22-1/$K22)) -> 1 | N22: =$H22/100*(($E22*(1-EXP(-$F22*N$4))^$G22)) + ((100-$H22)/100*N13) -> 0 | O22: =$H22/100*(($E22*(1-EXP(-$F22*O$4))^$G22)) + ((100-$H22)/100*O13) -> 2.3553461 | P22: =$H22/100*(($E22*(1-EXP(-$F22*P$4))^$G22)) + ((100-$H22)/100*P13) -> 6.1131167 | Q22: =$H22/100*(($E22*(1-EXP(-$F22*Q$4))^$G22)) + ((100-$H22)/100*Q13) -> 10.375859 | R22: =$H22/100*(($E22*(1-EXP(-$F22*R$4))^$G22)) + ((100-$H22)/100*R13) -> 14.811154 | S22: =$H22/100*(($E22*(1-EXP(-$F22*S$4))^$G22)) + ((100-$H22)/100*S13) -> 19.239501 | T22: =$H22/100*(($E22*(1-EXP(-$F22*T$4))^$G22)) + ((100-$H22)/100*T13) -> 23.555219 | U22: =$H22/100*(($E22*(1-EXP(-$F22*U$4))^$G22)) + ((100-$H22)/100*U13) -> 27.694982 | ... AP22: =$H22/100*(($E22*(1-EXP(-$F22*AP$4))^$G22)) + ((100-$H22)/100*AP13) -> 69.586286 | AR22: =$M22*N22 -> 0 | AS22: =$M22*O22 -> 2.3553461 | AT22: =$M22*P22 -> 6.1131167 | AU22: =$M22*Q22 -> 10.375859 | AV22: =$M22*R22 -> 14.811154 | AW22: =$M22*S22 -> 19.239501 | AX22: =$M22*T22 -> 23.555219 | AY22: =$M22*U22 -> 27.694982 | ... BT22: =$M22*AP22 -> 69.586286 | BW22: M4 | CA22: =5*(1-EXP(-0.0115*L21)) -> 2.1864757 | CC22: 6 | CD22: 0.8 | CE22: =0.001*CC22^1.5*(460+25.9*$CC$1)^1.5 -> 2381.5836 | CF22: =CE22/(300*CA22) -> 3.63078 | CI22: =IF(1-EXP(-0.23*(AR22-$CF22))<0, 0, 1-EXP(-0.23*(AR22-$CF22))) -> 0 | CJ22: =IF(1-EXP(-0.23*(AS22-$CF22))<0, 0, 1-EXP(-0.23*(AS22-$CF22))) -> 0 | CK22: =IF(1-EXP(-0.23*(AT22-$CF22))<0, 0, 1-EXP(-0.23*(AT22-$CF22))) -> 0.43500446 | CL22: =IF(1-EXP(-0.23*(AU22-$CF22))<0, 0, 1-EXP(-0.23*(AU22-$CF22))) -> 0.78804222 | CM22: =IF(1-EXP(-0.23*(AV22-$CF22))<0, 0, 1-EXP(-0.23*(AV22-$CF22))) -> 0.9235781 | CN22: =IF(1-EXP(-0.23*(AW22-$CF22))<0, 0, 1-EXP(-0.23*(AW22-$CF22))) -> 0.97240183 | CO22: =IF(1-EXP(-0.23*(AX22-$CF22))<0, 0, 1-EXP(-0.23*(AX22-$CF22))) -> 0.98977195 | CP22: =IF(1-EXP(-0.23*(AY22-$CF22))<0, 0, 1-EXP(-0.23*(AY22-$CF22))) -> 0.99605287 | ... DK22: =IF(1-EXP(-0.23*(BT22-$CF22))<0, 0, 1-EXP(-0.23*(BT22-$CF22))) -> 0.99999974 | DM22: =CI22*$CD22 -> 0 | DN22: =CJ22*$CD22 -> 0 | DO22: =CK22*$CD22 -> 0.34800357 | DP22: =CL22*$CD22 -> 0.63043377 | DQ22: =CM22*$CD22 -> 0.73886248 | DR22: =CN22*$CD22 -> 0.77792147 | DS22: =CO22*$CD22 -> 0.79181756 | DT22: =CP22*$CD22 -> 0.7968423 | ... EO22: =DK22*$CD22 -> 0.79999979 | EQ22: =DM22+$CA22 -> 2.1864757 | ER22: =DN22+$CA22 -> 2.1864757 | ES22: =DO22+$CA22 -> 2.5344792 | ET22: =DP22+$CA22 -> 2.8169094 | EU22: =DQ22+$CA22 -> 2.9253381 | EV22: =DR22+$CA22 -> 2.9643971 | EW22: =DS22+$CA22 -> 2.9782932 | EX22: =DT22+$CA22 -> 2.983318 | ... FS22: =EO22+$CA22 -> 2.9864754 | FU22: =300*EQ22*AR22 -> 0 | FV22: =300*ER22*AS22 -> 1544.9721 | FW22: =300*ES22*AT22 -> 4648.0702 | FX22: =300*ET22*AU22 -> 8768.3565 | FY22: =300*EU22*AV22 -> 12998.29 | FZ22: =300*EV22*AW22 -> 17110.057 | GA22: =300*EW22*AX22 -> 21046.305 | GB22: =300*EX22*AY22 -> 24786.881 | ... GW22: =300*FS22*BT22 -> 62345.32
A23: 19 | B23: =IF(AND($GZ$5>12, $GZ$5<19), A23*5-5, "") | D23: None
A24: 20 | B24: =IF(AND($GZ$5>12, $GZ$5<19), A24*5-5, "") | D24: C-6 (surf.) | E24: 30 | F24: 0.08 | G24: 3 | J24: 0.8 | K24: 62 | L24: =IF('Graph-Settings'!$I$6='Graph-Settings'!$C$46, K24, 'Graph-Settings'!$I$6) -> 62 | M24: =EXP(50*LN($J24)*(1/$L24-1/$K24)) -> 1 | N24: =$E24*(1-EXP(-$F24*N$4))^$G24 -> 0 | O24: =$E24*(1-EXP(-$F24*O$4))^$G24 -> 0.17868728 | P24: =$E24*(1-EXP(-$F24*P$4))^$G24 -> 1.0749763 | Q24: =$E24*(1-EXP(-$F24*Q$4))^$G24 -> 2.7554652 | R24: =$E24*(1-EXP(-$F24*R$4))^$G24 -> 5.0095413 | S24: =$E24*(1-EXP(-$F24*S$4))^$G24 -> 7.5774137 | T24: =$E24*(1-EXP(-$F24*T$4))^$G24 -> 10.237425 | U24: =$E24*(1-EXP(-$F24*U$4))^$G24 -> 12.829312 | ... AP24: =$E24*(1-EXP(-$F24*AP$4))^$G24 -> 29.668421 | AQ24: RSS: | AR24: =$M24*N24 -> 0 | AS24: =$M24*O24 -> 0.17868728 | AT24: =$M24*P24 -> 1.0749763 | AU24: =$M24*Q24 -> 2.7554652 | AV24: =$M24*R24 -> 5.0095413 | AW24: =$M24*S24 -> 7.5774137 | AX24: =$M24*T24 -> 10.237425 | AY24: =$M24*U24 -> 12.829312 | ... BT24: =$M24*AP24 -> 29.668421
A25: 21 | B25: =IF(AND($GZ$5>12, $GZ$5<19), A25*5-5, "") | D25: C-6 (crown) | E25: 60 | F25: 0.0497 | G25: 1 | N25: =$E25*(1-EXP(-$F25*N$4))^$G25 -> 0 | O25: =$E25*(1-EXP(-$F25*O$4))^$G25 -> 7.0104586 | P25: =$E25*(1-EXP(-$F25*P$4))^$G25 -> 13.201808 | Q25: =$E25*(1-EXP(-$F25*Q$4))^$G25 -> 18.669755 | R25: =$E25*(1-EXP(-$F25*R$4))^$G25 -> 23.498821 | S25: =$E25*(1-EXP(-$F25*S$4))^$G25 -> 27.763654 | T25: =$E25*(1-EXP(-$F25*T$4))^$G25 -> 31.53018 | U25: =$E25*(1-EXP(-$F25*U$4))^$G25 -> 34.856622 | ... AP25: =$E25*(1-EXP(-$F25*AP$4))^$G25 -> 58.149706 | AQ25: RSC: | AR25: =N25*($CG$10/0.778237) -> 0 | AS25: =O25*($CG$10/0.778237) -> 7.0104583 | AT25: =P25*($CG$10/0.778237) -> 13.201808 | AU25: =Q25*($CG$10/0.778237) -> 18.669754 | AV25: =R25*($CG$10/0.778237) -> 23.49882 | AW25: =S25*($CG$10/0.778237) -> 27.763653 | AX25: =T25*($CG$10/0.778237) -> 31.530179 | AY25: =U25*($CG$10/0.778237) -> 34.85662 | ... BT25: =AP25*($CG$10/0.778237) -> 58.149703
A26: 22
A27: 23 | M27: Wind Spd | N27: 0 | O27: 2.5 | P27: 5 | Q27: 7.5 | R27: 10 | S27: 12.5 | T27: 15 | U27: 17.5 | V27: 20 | W27: 22.5 | X27: 25 | Y27: 27.5 | Z27: 30 | AA27: 32.5 | AB27: 35 | AC27: 37.5 | AD27: 40 | AE27: 42.5 | AF27: 45 | AG27: 47.5 | AH27: 50 | AI27: 52.5 | AJ27: 55 | AK27: 57.5 | AL27: 60 | AM27: 62.5 | AN27: 65 | AO27: 67.5 | AP27: 70
A28: 24 | M28: m | N28: =147.2*(101-BY28)/(59.5+BY28) -> 9.7807309 | AR28: 1 | AS28: 2 | AT28: 3 | AU28: 4 | AV28: 5 | AW28: 6 | AX28: 7 | AY28: 8 | AZ28: 9 | BA28: 10 | BB28: 11 | BC28: 12 | BD28: 13 | BE28: 14 | BF28: 15 | BG28: 16 | BH28: 17 | BI28: 18 | BJ28: 19 | BK28: 20 | BL28: 21 | BM28: 22 | BN28: 23 | BO28: 24 | BP28: 25 | BQ28: 26 | BR28: 27 | BS28: 28 | BT28: 29 | BX28: FFMC = | BY28: =BY1 -> 91 | BZ28: BUI = | CA28: =CA1 -> Std/No ROS effect | CB28: FMC= | CC28: =CC1 -> 97 | CD28: GFL= | CE28: =CE1 -> 3.5 | CF28: C6 CBH: | CG28: =CG1 -> 6 | FT28: Index: | FU28: 1 | FV28: 2 | FW28: 3 | FX28: 4 | FY28: 5 | FZ28: 6 | GA28: 7 | GB28: 8 | GC28: 9 | GD28: 10 | GE28: 11 | GF28: 12 | GG28: 13 | GH28: 14 | GI28: 15 | GJ28: 16 | GK28: 17 | GL28: 18 | GM28: 19 | GN28: 20 | GO28: 21 | GP28: 22 | GQ28: 23 | GR28: 24 | GS28: 25 | GT28: 26 | GU28: 27 | GV28: 28 | GW28: 29
A29: 25 | M29: ISI | N29: =0.208*EXP(0.05039*N27)*91.9*(EXP(-0.1386*$N$28)*(1+($N$28^5.31/(4.93*10^7)))) -> 4.9458521 | O29: =0.208*EXP(0.05039*O27)*91.9*(EXP(-0.1386*$N$28)*(1+($N$28^5.31/(4.93*10^7)))) -> 5.6098516 | P29: =0.208*EXP(0.05039*P27)*91.9*(EXP(-0.1386*$N$28)*(1+($N$28^5.31/(4.93*10^7)))) -> 6.3629956 | Q29: =0.208*EXP(0.05039*Q27)*91.9*(EXP(-0.1386*$N$28)*(1+($N$28^5.31/(4.93*10^7)))) -> 7.217252 | R29: =0.208*EXP(0.05039*R27)*91.9*(EXP(-0.1386*$N$28)*(1+($N$28^5.31/(4.93*10^7)))) -> 8.1861956 | S29: =0.208*EXP(0.05039*S27)*91.9*(EXP(-0.1386*$N$28)*(1+($N$28^5.31/(4.93*10^7)))) -> 9.2852235 | T29: =0.208*EXP(0.05039*T27)*91.9*(EXP(-0.1386*$N$28)*(1+($N$28^5.31/(4.93*10^7)))) -> 10.5318 | U29: =0.208*EXP(0.05039*U27)*91.9*(EXP(-0.1386*$N$28)*(1+($N$28^5.31/(4.93*10^7)))) -> 11.945734 | ... AD29: =0.208*EXP(0.05039*AD27)*91.9*(EXP(-0.1386*$N$28)*(1+($N$28^5.31/(4.93*10^7)))) -> 37.119753 | AE29: =0.208*12*(1-EXP(-0.0818*(AE27-28)))*91.9*(EXP(-0.1386*$N$28)*(1+($N$28^5.31/(4.93*10^7)))) -> 41.22407 | AF29: =0.208*12*(1-EXP(-0.0818*(AF27-28)))*91.9*(EXP(-0.1386*$N$28)*(1+($N$28^5.31/(4.93*10^7)))) -> 44.576417 | AG29: =0.208*12*(1-EXP(-0.0818*(AG27-28)))*91.9*(EXP(-0.1386*$N$28)*(1+($N$28^5.31/(4.93*10^7)))) -> 47.308763 | AH29: =0.208*12*(1-EXP(-0.0818*(AH27-28)))*91.9*(EXP(-0.1386*$N$28)*(1+($N$28^5.31/(4.93*10^7)))) -> 49.535774 | AI29: =0.208*12*(1-EXP(-0.0818*(AI27-28)))*91.9*(EXP(-0.1386*$N$28)*(1+($N$28^5.31/(4.93*10^7)))) -> 51.35091 | AJ29: =0.208*12*(1-EXP(-0.0818*(AJ27-28)))*91.9*(EXP(-0.1386*$N$28)*(1+($N$28^5.31/(4.93*10^7)))) -> 52.830346 | AK29: =0.208*12*(1-EXP(-0.0818*(AK27-28)))*91.9*(EXP(-0.1386*$N$28)*(1+($N$28^5.31/(4.93*10^7)))) -> 54.036166 | AL29: =0.208*12*(1-EXP(-0.0818*(AL27-28)))*91.9*(EXP(-0.1386*$N$28)*(1+($N$28^5.31/(4.93*10^7)))) -> 55.018976 | ... AP29: =0.208*12*(1-EXP(-0.0818*(AP27-28)))*91.9*(EXP(-0.1386*$N$28)*(1+($N$28^5.31/(4.93*10^7)))) -> 57.438787
A30: 26 | I30: Curing | N30: RSI | AR30: ROS | CI30: CFB: | DM30: CFC: | EQ30: TFC: | FU30: HFI:
A31: 27 | D31: Fuel Type | E31: a | F31: b | G31: c | H31: %C, %c or %DF | I31: factor | J31: q | K31: BUIo | L31: Actual BUI | M31: BE | N31: =N29 -> 4.9458521 | O31: =O29 -> 5.6098516 | P31: =P29 -> 6.3629956 | Q31: =Q29 -> 7.217252 | R31: =R29 -> 8.1861956 | S31: =S29 -> 9.2852235 | T31: =T29 -> 10.5318 | U31: =U29 -> 11.945734 | ... AP31: =AP29 -> 57.438787 | AR31: =N31 -> 4.9458521 | AS31: =O31 -> 5.6098516 | AT31: =P31 -> 6.3629956 | AU31: =Q31 -> 7.217252 | AV31: =R31 -> 8.1861956 | AW31: =S31 -> 9.2852235 | AX31: =T31 -> 10.5318 | AY31: =U31 -> 11.945734 | ... BT31: =AP31 -> 57.438787 | BY31: FFC | BZ31: WFC | CA31: SFC | CC31: CBH | CD31: CFL | CE31: CSI | CF31: RSo | CG31: FME | CI31: =N31 -> 4.9458521 | CJ31: =O31 -> 5.6098516 | CK31: =P31 -> 6.3629956 | CL31: =Q31 -> 7.217252 | CM31: =R31 -> 8.1861956 | CN31: =S31 -> 9.2852235 | CO31: =T31 -> 10.5318 | CP31: =U31 -> 11.945734 | ... DK31: =AP31 -> 57.438787 | DM31: =N31 -> 4.9458521 | DN31: =O31 -> 5.6098516 | DO31: =P31 -> 6.3629956 | DP31: =Q31 -> 7.217252 | DQ31: =R31 -> 8.1861956 | DR31: =S31 -> 9.2852235 | DS31: =T31 -> 10.5318 | DT31: =U31 -> 11.945734 | ... EO31: =AP31 -> 57.438787 | EQ31: =N31 -> 4.9458521 | ER31: =O31 -> 5.6098516 | ES31: =P31 -> 6.3629956 | ET31: =Q31 -> 7.217252 | EU31: =R31 -> 8.1861956 | EV31: =S31 -> 9.2852235 | EW31: =T31 -> 10.5318 | EX31: =U31 -> 11.945734 | ... FS31: =AP31 -> 57.438787 | FU31: =N31 -> 4.9458521 | FV31: =O31 -> 5.6098516 | FW31: =P31 -> 6.3629956 | FX31: =Q31 -> 7.217252 | FY31: =R31 -> 8.1861956 | FZ31: =S31 -> 9.2852235 | GA31: =T31 -> 10.5318 | GB31: =U31 -> 11.945734 | ... GW31: =AP31 -> 57.438787
A32: 28 | D32: C-1 | E32: 90 | F32: 0.0649 | G32: 4.5 | J32: 0.9 | K32: 72 | L32: =IF('Graph-Settings'!$I$6='Graph-Settings'!$C$46, K32, 'Graph-Settings'!$I$6) -> 72 | M32: =EXP(50*LN($J32)*(1/$L32-1/$K32)) -> 1 | N32: =$E32*(1-EXP(-$F32*N$31))^$G32 -> 0.26801316 | O32: =$E32*(1-EXP(-$F32*O$31))^$G32 -> 0.43116358 | P32: =$E32*(1-EXP(-$F32*P$31))^$G32 -> 0.68574148 | Q32: =$E32*(1-EXP(-$F32*Q$31))^$G32 -> 1.076831 | R32: =$E32*(1-EXP(-$F32*R$31))^$G32 -> 1.6672208 | S32: =$E32*(1-EXP(-$F32*S$31))^$G32 -> 2.5412181 | T32: =$E32*(1-EXP(-$F32*T$31))^$G32 -> 3.8071299 | U32: =$E32*(1-EXP(-$F32*U$31))^$G32 -> 5.5966737 | ... AP32: =$E32*(1-EXP(-$F32*AP$31))^$G32 -> 80.662955 | AR32: =$M32*N32 -> 0.26801316 | AS32: =$M32*O32 -> 0.43116358 | AT32: =$M32*P32 -> 0.68574148 | AU32: =$M32*Q32 -> 1.076831 | AV32: =$M32*R32 -> 1.6672208 | AW32: =$M32*S32 -> 2.5412181 | AX32: =$M32*T32 -> 3.8071299 | AY32: =$M32*U32 -> 5.5966737 | ... BT32: =$M32*AP32 -> 80.662955 | BW32: C-1 | CA32: =IF(BY28>84, 0.75+0.75*(1-EXP(-0.23*(BY28-84)))^0.5, 0.75-0.75*(1-EXP(0.23*(BY28-84)))^0.5) -> 1.4208675 | CC32: 2 | CD32: 0.75 | CE32: =0.001*CC32^1.5*(460+25.9*$CC$1)^1.5 -> 458.33598 | CF32: =CE32/(300*CA32) -> 1.0752492 | CI32: =IF(1-EXP(-0.23*(AR32-$CF32))<0, 0, 1-EXP(-0.23*(AR32-$CF32))) -> 0 | CJ32: =IF(1-EXP(-0.23*(AS32-$CF32))<0, 0, 1-EXP(-0.23*(AS32-$CF32))) -> 0 | CK32: =IF(1-EXP(-0.23*(AT32-$CF32))<0, 0, 1-EXP(-0.23*(AT32-$CF32))) -> 0 | CL32: =IF(1-EXP(-0.23*(AU32-$CF32))<0, 0, 1-EXP(-0.23*(AU32-$CF32))) -> 0.00036374265 | CM32: =IF(1-EXP(-0.23*(AV32-$CF32))<0, 0, 1-EXP(-0.23*(AV32-$CF32))) -> 0.12729132 | CN32: =IF(1-EXP(-0.23*(AW32-$CF32))<0, 0, 1-EXP(-0.23*(AW32-$CF32))) -> 0.28621456 | CO32: =IF(1-EXP(-0.23*(AX32-$CF32))<0, 0, 1-EXP(-0.23*(AX32-$CF32))) -> 0.4665194 | CP32: =IF(1-EXP(-0.23*(AY32-$CF32))<0, 0, 1-EXP(-0.23*(AY32-$CF32))) -> 0.64651974 | ... DK32: =IF(1-EXP(-0.23*(BT32-$CF32))<0, 0, 1-EXP(-0.23*(BT32-$CF32))) -> 0.99999999 | DM32: =CI32*$CD32 -> 0 | DN32: =CJ32*$CD32 -> 0 | DO32: =CK32*$CD32 -> 0 | DP32: =CL32*$CD32 -> 0.00027280699 | DQ32: =CM32*$CD32 -> 0.095468489 | DR32: =CN32*$CD32 -> 0.21466092 | DS32: =CO32*$CD32 -> 0.34988955 | DT32: =CP32*$CD32 -> 0.4848898 | ... EO32: =DK32*$CD32 -> 0.74999999 | EQ32: =DM32+$CA32 -> 1.4208675 | ER32: =DN32+$CA32 -> 1.4208675 | ES32: =DO32+$CA32 -> 1.4208675 | ET32: =DP32+$CA32 -> 1.4211403 | EU32: =DQ32+$CA32 -> 1.516336 | EV32: =DR32+$CA32 -> 1.6355284 | EW32: =DS32+$CA32 -> 1.7707571 | EX32: =DT32+$CA32 -> 1.9057573 | ... FS32: =EO32+$CA32 -> 2.1708675 | FU32: =300*EQ32*AR32 -> 114.24336 | FV32: =300*ER32*AS32 -> 183.7879 | FW32: =300*ES32*AT32 -> 292.30434 | FX32: =300*ET32*AU32 -> 459.09836 | FY32: =300*EU32*AV32 -> 758.42008 | FZ32: =300*EV32*AW32 -> 1246.8703 | GA32: =300*EW32*AX32 -> 2022.4507 | GB32: =300*EX32*AY32 -> 3199.7705 | ... GW32: =300*FS32*BT32 -> 52532.576
A33: 29 | D33: C-2 | E33: 110 | F33: 0.0282 | G33: 1.5 | J33: 0.7 | K33: 64 | L33: =IF('Graph-Settings'!$I$6='Graph-Settings'!$C$46, K33, 'Graph-Settings'!$I$6) -> 64 | M33: =EXP(50*LN($J33)*(1/$L33-1/$K33)) -> 1 | N33: =$E33*(1-EXP(-$F33*N$31))^$G33 -> 5.1668599 | O33: =$E33*(1-EXP(-$F33*O$31))^$G33 -> 6.1566468 | P33: =$E33*(1-EXP(-$F33*P$31))^$G33 -> 7.3229537 | Q33: =$E33*(1-EXP(-$F33*Q$31))^$G33 -> 8.6927121 | R33: =$E33*(1-EXP(-$F33*R$31))^$G33 -> 10.295383 | S33: =$E33*(1-EXP(-$F33*S$31))^$G33 -> 12.162616 | T33: =$E33*(1-EXP(-$F33*T$31))^$G33 -> 14.327641 | U33: =$E33*(1-EXP(-$F33*U$31))^$G33 -> 16.824319 | ... AP33: =$E33*(1-EXP(-$F33*AP$31))^$G33 -> 79.013292 | AR33: =$M33*N33 -> 5.1668599 | AS33: =$M33*O33 -> 6.1566468 | AT33: =$M33*P33 -> 7.3229537 | AU33: =$M33*Q33 -> 8.6927121 | AV33: =$M33*R33 -> 10.295383 | AW33: =$M33*S33 -> 12.162616 | AX33: =$M33*T33 -> 14.327641 | AY33: =$M33*U33 -> 16.824319 | ... BT33: =$M33*AP33 -> 79.013292 | BW33: C-2 | CA33: =5*(1-EXP(-0.0115*L33)) -> 2.604869 | CC33: 3 | CD33: 0.8 | CE33: =0.001*CC33^1.5*(460+25.9*$CC$1)^1.5 -> 842.01697 | CF33: =CE33/(300*CA33) -> 1.0774911 | CI33: =IF(1-EXP(-0.23*(AR33-$CF33))<0, 0, 1-EXP(-0.23*(AR33-$CF33))) -> 0.60958884 | CJ33: =IF(1-EXP(-0.23*(AS33-$CF33))<0, 0, 1-EXP(-0.23*(AS33-$CF33))) -> 0.6890757 | CK33: =IF(1-EXP(-0.23*(AT33-$CF33))<0, 0, 1-EXP(-0.23*(AT33-$CF33))) -> 0.76223117 | CL33: =IF(1-EXP(-0.23*(AU33-$CF33))<0, 0, 1-EXP(-0.23*(AU33-$CF33))) -> 0.82648666 | CM33: =IF(1-EXP(-0.23*(AV33-$CF33))<0, 0, 1-EXP(-0.23*(AV33-$CF33))) -> 0.87998219 | CN33: =IF(1-EXP(-0.23*(AW33-$CF33))<0, 0, 1-EXP(-0.23*(AW33-$CF33))) -> 0.92188544 | CO33: =IF(1-EXP(-0.23*(AX33-$CF33))<0, 0, 1-EXP(-0.23*(AX33-$CF33))) -> 0.95252417 | CP33: =IF(1-EXP(-0.23*(AY33-$CF33))<0, 0, 1-EXP(-0.23*(AY33-$CF33))) -> 0.9732647 | ... DK33: =IF(1-EXP(-0.23*(BT33-$CF33))<0, 0, 1-EXP(-0.23*(BT33-$CF33))) -> 0.99999998 | DM33: =CI33*$CD33 -> 0.48767107 | DN33: =CJ33*$CD33 -> 0.55126056 | DO33: =CK33*$CD33 -> 0.60978494 | DP33: =CL33*$CD33 -> 0.66118933 | DQ33: =CM33*$CD33 -> 0.70398576 | DR33: =CN33*$CD33 -> 0.73750835 | DS33: =CO33*$CD33 -> 0.76201934 | DT33: =CP33*$CD33 -> 0.77861176 | ... EO33: =DK33*$CD33 -> 0.79999999 | EQ33: =DM33+$CA33 -> 3.0925401 | ER33: =DN33+$CA33 -> 3.1561296 | ES33: =DO33+$CA33 -> 3.214654 | ET33: =DP33+$CA33 -> 3.2660584 | EU33: =DQ33+$CA33 -> 3.3088548 | EV33: =DR33+$CA33 -> 3.3423774 | EW33: =DS33+$CA33 -> 3.3668884 | EX33: =DT33+$CA33 -> 3.3834808 | ... FS33: =EO33+$CA33 -> 3.404869 | FU33: =300*EQ33*AR33 -> 4793.6165 | FV33: =300*ER33*AS33 -> 5829.3526 | FW33: =300*ES33*AT33 -> 7062.2287 | FX33: =300*ET33*AU33 -> 8517.2715 | FY33: =300*EU33*AV33 -> 10219.778 | FZ33: =300*EV33*AW33 -> 12195.616 | GA33: =300*EW33*AX33 -> 14471.871 | GB33: =300*EX33*AY33 -> 17077.428 | ... GW33: =300*FS33*BT33 -> 80708.973
A34: 30 | D34: C-3 | E34: 110 | F34: 0.0444 | G34: 3 | J34: 0.75 | K34: 62 | L34: =IF('Graph-Settings'!$I$6='Graph-Settings'!$C$46, K34, 'Graph-Settings'!$I$6) -> 62 | M34: =EXP(50*LN($J34)*(1/$L34-1/$K34)) -> 1 | N34: =$E34*(1-EXP(-$F34*N$31))^$G34 -> 0.84300057 | O34: =$E34*(1-EXP(-$F34*O$31))^$G34 -> 1.1789693 | P34: =$E34*(1-EXP(-$F34*P$31))^$G34 -> 1.6398841 | Q34: =$E34*(1-EXP(-$F34*Q$31))^$G34 -> 2.2671227 | R34: =$E34*(1-EXP(-$F34*R$31))^$G34 -> 3.1129646 | S34: =$E34*(1-EXP(-$F34*S$31))^$G34 -> 4.2419583 | T34: =$E34*(1-EXP(-$F34*T$31))^$G34 -> 5.7316063 | U34: =$E34*(1-EXP(-$F34*U$31))^$G34 -> 7.6718058 | ... AP34: =$E34*(1-EXP(-$F34*AP$31))^$G34 -> 86.19879 | AR34: =$M34*N34 -> 0.84300057 | AS34: =$M34*O34 -> 1.1789693 | AT34: =$M34*P34 -> 1.6398841 | AU34: =$M34*Q34 -> 2.2671227 | AV34: =$M34*R34 -> 3.1129646 | AW34: =$M34*S34 -> 4.2419583 | AX34: =$M34*T34 -> 5.7316063 | AY34: =$M34*U34 -> 7.6718058 | ... BT34: =$M34*AP34 -> 86.19879 | BW34: C-3 | CA34: =5*(1-EXP(-0.0164*L34))^2.24 -> 1.828725 | CC34: 8 | CD34: 1.15 | CE34: =0.001*CC34^1.5*(460+25.9*$CC$1)^1.5 -> 3666.6879 | CF34: =CE34/(300*CA34) -> 6.6835053 | CI34: =IF(1-EXP(-0.23*(AR34-$CF34))<0, 0, 1-EXP(-0.23*(AR34-$CF34))) -> 0 | CJ34: =IF(1-EXP(-0.23*(AS34-$CF34))<0, 0, 1-EXP(-0.23*(AS34-$CF34))) -> 0 | CK34: =IF(1-EXP(-0.23*(AT34-$CF34))<0, 0, 1-EXP(-0.23*(AT34-$CF34))) -> 0 | CL34: =IF(1-EXP(-0.23*(AU34-$CF34))<0, 0, 1-EXP(-0.23*(AU34-$CF34))) -> 0 | CM34: =IF(1-EXP(-0.23*(AV34-$CF34))<0, 0, 1-EXP(-0.23*(AV34-$CF34))) -> 0 | CN34: =IF(1-EXP(-0.23*(AW34-$CF34))<0, 0, 1-EXP(-0.23*(AW34-$CF34))) -> 0 | CO34: =IF(1-EXP(-0.23*(AX34-$CF34))<0, 0, 1-EXP(-0.23*(AX34-$CF34))) -> 0 | CP34: =IF(1-EXP(-0.23*(AY34-$CF34))<0, 0, 1-EXP(-0.23*(AY34-$CF34))) -> 0.20332553 | ... DK34: =IF(1-EXP(-0.23*(BT34-$CF34))<0, 0, 1-EXP(-0.23*(BT34-$CF34))) -> 0.99999999 | DM34: =CI34*$CD34 -> 0 | DN34: =CJ34*$CD34 -> 0 | DO34: =CK34*$CD34 -> 0 | DP34: =CL34*$CD34 -> 0 | DQ34: =CM34*$CD34 -> 0 | DR34: =CN34*$CD34 -> 0 | DS34: =CO34*$CD34 -> 0 | DT34: =CP34*$CD34 -> 0.23382436 | ... EO34: =DK34*$CD34 -> 1.15 | EQ34: =DM34+$CA34 -> 1.828725 | ER34: =DN34+$CA34 -> 1.828725 | ES34: =DO34+$CA34 -> 1.828725 | ET34: =DP34+$CA34 -> 1.828725 | EU34: =DQ34+$CA34 -> 1.828725 | EV34: =DR34+$CA34 -> 1.828725 | EW34: =DS34+$CA34 -> 1.828725 | EX34: =DT34+$CA34 -> 2.0625493 | ... FS34: =EO34+$CA34 -> 2.978725 | FU34: =300*EQ34*AR34 -> 462.48486 | FV34: =300*ER34*AS34 -> 646.80316 | FW34: =300*ES34*AT34 -> 899.66912 | FX34: =300*ET34*AU34 -> 1243.7832 | FY34: =300*EU34*AV34 -> 1707.8268 | FZ34: =300*EV34*AW34 -> 2327.2125 | GA34: =300*EW34*AX34 -> 3144.4595 | GB34: =300*EX34*AY34 -> 4747.0434 | ... GW34: =300*FS34*BT34 -> 77028.746
A35: 31 | D35: C-4 | E35: 110 | F35: 0.0293 | G35: 1.5 | J35: 0.8 | K35: 66 | L35: =IF('Graph-Settings'!$I$6='Graph-Settings'!$C$46, K35, 'Graph-Settings'!$I$6) -> 66 | M35: =EXP(50*LN($J35)*(1/$L35-1/$K35)) -> 1 | N35: =$E35*(1-EXP(-$F35*N$31))^$G35 -> 5.4503498 | O35: =$E35*(1-EXP(-$F35*O$31))^$G35 -> 6.4910663 | P35: =$E35*(1-EXP(-$F35*P$31))^$G35 -> 7.7162042 | Q35: =$E35*(1-EXP(-$F35*Q$31))^$G35 -> 9.1534863 | R35: =$E35*(1-EXP(-$F35*R$31))^$G35 -> 10.833085 | S35: =$E35*(1-EXP(-$F35*S$31))^$G35 -> 12.78721 | T35: =$E35*(1-EXP(-$F35*T$31))^$G35 -> 15.049398 | U35: =$E35*(1-EXP(-$F35*U$31))^$G35 -> 17.653455 | ... AP35: =$E35*(1-EXP(-$F35*AP$31))^$G35 -> 80.810967 | AR35: =$M35*N35 -> 5.4503498 | AS35: =$M35*O35 -> 6.4910663 | AT35: =$M35*P35 -> 7.7162042 | AU35: =$M35*Q35 -> 9.1534863 | AV35: =$M35*R35 -> 10.833085 | AW35: =$M35*S35 -> 12.78721 | AX35: =$M35*T35 -> 15.049398 | AY35: =$M35*U35 -> 17.653455 | ... BT35: =$M35*AP35 -> 80.810967 | BW35: C-4 | CA35: =5*(1-EXP(-0.0164*L35))^2.24 -> 1.9794422 | CC35: 4 | CD35: 1.2 | CE35: =0.001*CC35^1.5*(460+25.9*$CC$1)^1.5 -> 1296.3699 | CF35: =CE35/(300*CA35) -> 2.1830559 | CI35: =IF(1-EXP(-0.23*(AR35-$CF35))<0, 0, 1-EXP(-0.23*(AR35-$CF35))) -> 0.5283309 | CJ35: =IF(1-EXP(-0.23*(AS35-$CF35))<0, 0, 1-EXP(-0.23*(AS35-$CF35))) -> 0.62873619 | CK35: =IF(1-EXP(-0.23*(AT35-$CF35))<0, 0, 1-EXP(-0.23*(AT35-$CF35))) -> 0.71990434 | CL35: =IF(1-EXP(-0.23*(AU35-$CF35))<0, 0, 1-EXP(-0.23*(AU35-$CF35))) -> 0.79874831 | CM35: =IF(1-EXP(-0.23*(AV35-$CF35))<0, 0, 1-EXP(-0.23*(AV35-$CF35))) -> 0.86323714 | CN35: =IF(1-EXP(-0.23*(AW35-$CF35))<0, 0, 1-EXP(-0.23*(AW35-$CF35))) -> 0.91274805 | CO35: =IF(1-EXP(-0.23*(AX35-$CF35))<0, 0, 1-EXP(-0.23*(AX35-$CF35))) -> 0.94814266 | CP35: =IF(1-EXP(-0.23*(AY35-$CF35))<0, 0, 1-EXP(-0.23*(AY35-$CF35))) -> 0.9715097 | ... DK35: =IF(1-EXP(-0.23*(BT35-$CF35))<0, 0, 1-EXP(-0.23*(BT35-$CF35))) -> 0.99999999 | DM35: =CI35*$CD35 -> 0.63399707 | DN35: =CJ35*$CD35 -> 0.75448343 | DO35: =CK35*$CD35 -> 0.86388521 | DP35: =CL35*$CD35 -> 0.95849798 | DQ35: =CM35*$CD35 -> 1.0358846 | DR35: =CN35*$CD35 -> 1.0952977 | DS35: =CO35*$CD35 -> 1.1377712 | DT35: =CP35*$CD35 -> 1.1658116 | ... EO35: =DK35*$CD35 -> 1.2 | EQ35: =DM35+$CA35 -> 2.6134393 | ER35: =DN35+$CA35 -> 2.7339257 | ES35: =DO35+$CA35 -> 2.8433275 | ET35: =DP35+$CA35 -> 2.9379402 | EU35: =DQ35+$CA35 -> 3.0153268 | EV35: =DR35+$CA35 -> 3.0747399 | EW35: =DS35+$CA35 -> 3.1172134 | EX35: =DT35+$CA35 -> 3.1452539 | ... FS35: =EO35+$CA35 -> 3.1794422 | FU35: =300*EQ35*AR35 -> 4273.2475 | FV35: =300*ER35*AS35 -> 5323.8279 | FW35: =300*ES35*AT35 -> 6581.9086 | FX35: =300*ET35*AU35 -> 8067.7187 | FY35: =300*EU35*AV35 -> 9799.5879 | FZ35: =300*EV35*AW35 -> 11795.203 | GA35: =300*EW35*AX35 -> 14073.656 | GB35: =300*EX35*AY35 -> 16657.379 | ... GW35: =300*FS35*BT35 -> 77080.14
A36: 32 | D36: C-5 | E36: 30 | F36: 0.0697 | G36: 4 | J36: 0.8 | K36: 56 | L36: =IF('Graph-Settings'!$I$6='Graph-Settings'!$C$46, K36, 'Graph-Settings'!$I$6) -> 56 | M36: =EXP(50*LN($J36)*(1/$L36-1/$K36)) -> 1 | N36: =$E36*(1-EXP(-$F36*N$31))^$G36 -> 0.21686272 | O36: =$E36*(1-EXP(-$F36*O$31))^$G36 -> 0.32906826 | P36: =$E36*(1-EXP(-$F36*P$31))^$G36 -> 0.49396116 | Q36: =$E36*(1-EXP(-$F36*Q$31))^$G36 -> 0.73262331 | R36: =$E36*(1-EXP(-$F36*R$31))^$G36 -> 1.0722211 | S36: =$E36*(1-EXP(-$F36*S$31))^$G36 -> 1.5463223 | T36: =$E36*(1-EXP(-$F36*T$31))^$G36 -> 2.1942729 | U36: =$E36*(1-EXP(-$F36*U$31))^$G36 -> 3.0591008 | ... AP36: =$E36*(1-EXP(-$F36*AP$31))^$G36 -> 27.869004 | AR36: =$M36*N36 -> 0.21686272 | AS36: =$M36*O36 -> 0.32906826 | AT36: =$M36*P36 -> 0.49396116 | AU36: =$M36*Q36 -> 0.73262331 | AV36: =$M36*R36 -> 1.0722211 | AW36: =$M36*S36 -> 1.5463223 | AX36: =$M36*T36 -> 2.1942729 | AY36: =$M36*U36 -> 3.0591008 | ... BT36: =$M36*AP36 -> 27.869004 | BW36: C-5 | CA36: =5*(1-EXP(-0.0149*L36))^2.48 -> 1.2181424 | CC36: 18 | CD36: 1.2 | CE36: =0.001*CC36^1.5*(460+25.9*$CC$1)^1.5 -> 12375.072 | CF36: =CE36/(300*CA36) -> 33.863233 | CI36: =IF(1-EXP(-0.23*(AR36-$CF36))<0, 0, 1-EXP(-0.23*(AR36-$CF36))) -> 0 | CJ36: =IF(1-EXP(-0.23*(AS36-$CF36))<0, 0, 1-EXP(-0.23*(AS36-$CF36))) -> 0 | CK36: =IF(1-EXP(-0.23*(AT36-$CF36))<0, 0, 1-EXP(-0.23*(AT36-$CF36))) -> 0 | CL36: =IF(1-EXP(-0.23*(AU36-$CF36))<0, 0, 1-EXP(-0.23*(AU36-$CF36))) -> 0 | CM36: =IF(1-EXP(-0.23*(AV36-$CF36))<0, 0, 1-EXP(-0.23*(AV36-$CF36))) -> 0 | CN36: =IF(1-EXP(-0.23*(AW36-$CF36))<0, 0, 1-EXP(-0.23*(AW36-$CF36))) -> 0 | CO36: =IF(1-EXP(-0.23*(AX36-$CF36))<0, 0, 1-EXP(-0.23*(AX36-$CF36))) -> 0 | CP36: =IF(1-EXP(-0.23*(AY36-$CF36))<0, 0, 1-EXP(-0.23*(AY36-$CF36))) -> 0 | ... DK36: =IF(1-EXP(-0.23*(BT36-$CF36))<0, 0, 1-EXP(-0.23*(BT36-$CF36))) -> 0 | DM36: =CI36*$CD36 -> 0 | DN36: =CJ36*$CD36 -> 0 | DO36: =CK36*$CD36 -> 0 | DP36: =CL36*$CD36 -> 0 | DQ36: =CM36*$CD36 -> 0 | DR36: =CN36*$CD36 -> 0 | DS36: =CO36*$CD36 -> 0 | DT36: =CP36*$CD36 -> 0 | ... EO36: =DK36*$CD36 -> 0 | EQ36: =DM36+$CA36 -> 1.2181424 | ER36: =DN36+$CA36 -> 1.2181424 | ES36: =DO36+$CA36 -> 1.2181424 | ET36: =DP36+$CA36 -> 1.2181424 | EU36: =DQ36+$CA36 -> 1.2181424 | EV36: =DR36+$CA36 -> 1.2181424 | EW36: =DS36+$CA36 -> 1.2181424 | EX36: =DT36+$CA36 -> 1.2181424 | ... FS36: =EO36+$CA36 -> 1.2181424 | FU36: =300*EQ36*AR36 -> 79.250899 | FV36: =300*ER36*AS36 -> 120.2556 | FW36: =300*ES36*AT36 -> 180.51451 | FX36: =300*ET36*AU36 -> 267.73185 | FY36: =300*EU36*AV36 -> 391.8354 | FZ36: =300*EV36*AW36 -> 565.09222 | GA36: =300*EW36*AX36 -> 801.88103 | GB36: =300*EX36*AY36 -> 1117.9261 | ... GW36: =300*FS36*BT36 -> 10184.524
A37: 33 | D37: C-6 | K37: 62 | L37: =IF('Graph-Settings'!$I$6='Graph-Settings'!$C$46, K37, 'Graph-Settings'!$I$6) -> 62 | AR37: =AR51+CI37*(AR52-AR51) -> 1.0467611 | AS37: =AS51+CJ37*(AS52-AS51) -> 1.4184097 | AT37: =AT51+CK37*(AT52-AT51) -> 1.9045967 | AU37: =AU51+CL37*(AU52-AU51) -> 2.531773 | AV37: =AV51+CM37*(AV52-AV51) -> 3.3282163 | AW37: =AW51+CN37*(AW52-AW51) -> 4.3219874 | AX37: =AX51+CO37*(AX52-AX51) -> 5.5378658 | AY37: =AY51+CP37*(AY52-AY51) -> 12.551167 | ... BT37: =BT51+DK37*(BT52-BT51) -> 56.423238 | BW37: C-6 | CA37: =5*(1-EXP(-0.0149*L37))^2.48 -> 1.4260786 | CC37: =$CG$28 -> 6 | CD37: 1.8 | CE37: =0.001*CC37^1.5*(460+25.9*$CC$1)^1.5 -> 2381.5836 | CF37: =CE37/(300*CA37) -> 5.5667423 | CG37: =((1.5-0.00275*CC28)^4)/(460+(25.9*CC28))*1000 -> 0.77823696 | CI37: =IF(1-EXP(-0.23*(AR51-$CF37))<0, 0, 1-EXP(-0.23*(AR51-$CF37))) -> 0 | CJ37: =IF(1-EXP(-0.23*(AS51-$CF37))<0, 0, 1-EXP(-0.23*(AS51-$CF37))) -> 0 | CK37: =IF(1-EXP(-0.23*(AT51-$CF37))<0, 0, 1-EXP(-0.23*(AT51-$CF37))) -> 0 | CL37: =IF(1-EXP(-0.23*(AU51-$CF37))<0, 0, 1-EXP(-0.23*(AU51-$CF37))) -> 0 | CM37: =IF(1-EXP(-0.23*(AV51-$CF37))<0, 0, 1-EXP(-0.23*(AV51-$CF37))) -> 0 | CN37: =IF(1-EXP(-0.23*(AW51-$CF37))<0, 0, 1-EXP(-0.23*(AW51-$CF37))) -> 0 | CO37: =IF(1-EXP(-0.23*(AX51-$CF37))<0, 0, 1-EXP(-0.23*(AX51-$CF37))) -> 0 | CP37: =IF(1-EXP(-0.23*(AY51-$CF37))<0, 0, 1-EXP(-0.23*(AY51-$CF37))) -> 0.27971215 | ... DK37: =IF(1-EXP(-0.23*(BT51-$CF37))<0, 0, 1-EXP(-0.23*(BT51-$CF37))) -> 0.99554024 | DM37: =CI37*$CD37 -> 0 | DN37: =CJ37*$CD37 -> 0 | DO37: =CK37*$CD37 -> 0 | DP37: =CL37*$CD37 -> 0 | DQ37: =CM37*$CD37 -> 0 | DR37: =CN37*$CD37 -> 0 | DS37: =CO37*$CD37 -> 0 | DT37: =CP37*$CD37 -> 0.50348187 | ... EO37: =DK37*$CD37 -> 1.7919724 | EQ37: =DM37+$CA37 -> 1.4260786 | ER37: =DN37+$CA37 -> 1.4260786 | ES37: =DO37+$CA37 -> 1.4260786 | ET37: =DP37+$CA37 -> 1.4260786 | EU37: =DQ37+$CA37 -> 1.4260786 | EV37: =DR37+$CA37 -> 1.4260786 | EW37: =DS37+$CA37 -> 1.4260786 | EX37: =DT37+$CA37 -> 1.9295605 | ... FS37: =EO37+$CA37 -> 3.218051 | FU37: =300*EQ37*AR37 -> 447.82907 | FV37: =300*ER37*AS37 -> 606.8291 | FW37: =300*ES37*AT37 -> 814.8314 | FX37: =300*ET37*AU37 -> 1083.1522 | FY37: =300*EU37*AV37 -> 1423.8894 | FZ37: =300*EV37*AW37 -> 1849.0481 | GA37: =300*EW37*AX37 -> 2369.2296 | GB37: =300*EX37*AY37 -> 7265.4705 | ... GW37: =300*FS37*BT37 -> 54471.858
A38: 34 | D38: C-7 | E38: 45 | F38: 0.0305 | G38: 2 | J38: 0.85 | K38: 106 | L38: =IF('Graph-Settings'!$I$6='Graph-Settings'!$C$46, K38, 'Graph-Settings'!$I$6) -> 106 | M38: =EXP(50*LN($J38)*(1/$L38-1/$K38)) -> 1 | N38: =$E38*(1-EXP(-$F38*N$31))^$G38 -> 0.88227741 | O38: =$E38*(1-EXP(-$F38*O$31))^$G38 -> 1.1129258 | P38: =$E38*(1-EXP(-$F38*P$31))^$G38 -> 1.4002771 | Q38: =$E38*(1-EXP(-$F38*Q$31))^$G38 -> 1.7567473 | R38: =$E38*(1-EXP(-$F38*R$31))^$G38 -> 2.1968338 | S38: =$E38*(1-EXP(-$F38*S$31))^$G38 -> 2.7371946 | T38: =$E38*(1-EXP(-$F38*T$31))^$G38 -> 3.3966005 | U38: =$E38*(1-EXP(-$F38*U$31))^$G38 -> 4.1956949 | ... AP38: =$E38*(1-EXP(-$F38*AP$31))^$G38 -> 30.743541 | AR38: =$M38*N38 -> 0.88227741 | AS38: =$M38*O38 -> 1.1129258 | AT38: =$M38*P38 -> 1.4002771 | AU38: =$M38*Q38 -> 1.7567473 | AV38: =$M38*R38 -> 2.1968338 | AW38: =$M38*S38 -> 2.7371946 | AX38: =$M38*T38 -> 3.3966005 | AY38: =$M38*U38 -> 4.1956949 | ... BT38: =$M38*AP38 -> 30.743541 | BW38: C-7 | BY38: =2*(1-EXP(-0.104*(BY28-70))) -> 1.7748195 | BZ38: =1.5*(1-EXP(-0.0201*L38)) -> 1.321851 | CA38: =IF(BY38>0, BZ38+BY38, BZ38) -> 3.0966704 | CC38: 10 | CD38: 0.5 | CE38: =0.001*CC38^1.5*(460+25.9*$CC$1)^1.5 -> 5124.3521 | CF38: =CE38/(300*CA38) -> 5.5159805 | CI38: =IF(1-EXP(-0.23*(AR38-$CF38))<0, 0, 1-EXP(-0.23*(AR38-$CF38))) -> 0 | CJ38: =IF(1-EXP(-0.23*(AS38-$CF38))<0, 0, 1-EXP(-0.23*(AS38-$CF38))) -> 0 | CK38: =IF(1-EXP(-0.23*(AT38-$CF38))<0, 0, 1-EXP(-0.23*(AT38-$CF38))) -> 0 | CL38: =IF(1-EXP(-0.23*(AU38-$CF38))<0, 0, 1-EXP(-0.23*(AU38-$CF38))) -> 0 | CM38: =IF(1-EXP(-0.23*(AV38-$CF38))<0, 0, 1-EXP(-0.23*(AV38-$CF38))) -> 0 | CN38: =IF(1-EXP(-0.23*(AW38-$CF38))<0, 0, 1-EXP(-0.23*(AW38-$CF38))) -> 0 | CO38: =IF(1-EXP(-0.23*(AX38-$CF38))<0, 0, 1-EXP(-0.23*(AX38-$CF38))) -> 0 | CP38: =IF(1-EXP(-0.23*(AY38-$CF38))<0, 0, 1-EXP(-0.23*(AY38-$CF38))) -> 0 | ... DK38: =IF(1-EXP(-0.23*(BT38-$CF38))<0, 0, 1-EXP(-0.23*(BT38-$CF38))) -> 0.99697952 | DM38: =CI38*$CD38 -> 0 | DN38: =CJ38*$CD38 -> 0 | DO38: =CK38*$CD38 -> 0 | DP38: =CL38*$CD38 -> 0 | DQ38: =CM38*$CD38 -> 0 | DR38: =CN38*$CD38 -> 0 | DS38: =CO38*$CD38 -> 0 | DT38: =CP38*$CD38 -> 0 | ... EO38: =DK38*$CD38 -> 0.49848976 | EQ38: =DM38+$CA38 -> 3.0966704 | ER38: =DN38+$CA38 -> 3.0966704 | ES38: =DO38+$CA38 -> 3.0966704 | ET38: =DP38+$CA38 -> 3.0966704 | EU38: =DQ38+$CA38 -> 3.0966704 | EV38: =DR38+$CA38 -> 3.0966704 | EW38: =DS38+$CA38 -> 3.0966704 | EX38: =DT38+$CA38 -> 3.0966704 | ... FS38: =EO38+$CA38 -> 3.5951602 | FU38: =300*EQ38*AR38 -> 819.63672 | FV38: =300*ER38*AS38 -> 1033.9093 | FW38: =300*ES38*AT38 -> 1300.859 | FX38: =300*ET38*AU38 -> 1632.0202 | FY38: =300*EU38*AV38 -> 2040.8611 | FZ38: =300*EV38*AW38 -> 2542.8569 | GA38: =300*EW38*AX38 -> 3155.4457 | GB38: =300*EX38*AY38 -> 3897.8054 | ... GW38: =300*FS38*BT38 -> 33158.387
A39: 35 | D39: D-1 | E39: 30 | F39: 0.0232 | G39: 1.6 | J39: 0.9 | K39: 32 | L39: =IF('Graph-Settings'!$I$6='Graph-Settings'!$C$46, K39, 'Graph-Settings'!$I$6) -> 32 | M39: =EXP(50*LN($J39)*(1/$L39-1/$K39)) -> 1 | N39: =$E39*(1-EXP(-$F39*N$31))^$G39 -> 0.85743838 | O39: =$E39*(1-EXP(-$F39*O$31))^$G39 -> 1.0363259 | P39: =$E39*(1-EXP(-$F39*P$31))^$G39 -> 1.2505541 | Q39: =$E39*(1-EXP(-$F39*Q$31))^$G39 -> 1.5063776 | R39: =$E39*(1-EXP(-$F39*R$31))^$G39 -> 1.810892 | S39: =$E39*(1-EXP(-$F39*S$31))^$G39 -> 2.1720471 | T39: =$E39*(1-EXP(-$F39*T$31))^$G39 -> 2.5986167 | U39: =$E39*(1-EXP(-$F39*U$31))^$G39 -> 3.1001044 | ... AP39: =$E39*(1-EXP(-$F39*AP$31))^$G39 -> 18.378857 | AR39: =$M39*N39 -> 0.85743838 | AS39: =$M39*O39 -> 1.0363259 | AT39: =$M39*P39 -> 1.2505541 | AU39: =$M39*Q39 -> 1.5063776 | AV39: =$M39*R39 -> 1.810892 | AW39: =$M39*S39 -> 2.1720471 | AX39: =$M39*T39 -> 2.5986167 | AY39: =$M39*U39 -> 3.1001044 | ... BT39: =$M39*AP39 -> 18.378857 | BW39: D-1 | CA39: =1.5*(1-EXP(-0.0183*L39)) -> 0.66484245 | DM39: =CI39*$CD39 -> 0 | DN39: =CJ39*$CD39 -> 0 | DO39: =CK39*$CD39 -> 0 | DP39: =CL39*$CD39 -> 0 | DQ39: =CM39*$CD39 -> 0 | DR39: =CN39*$CD39 -> 0 | DS39: =CO39*$CD39 -> 0 | DT39: =CP39*$CD39 -> 0 | ... EO39: =DK39*$CD39 -> 0 | EQ39: =DM39+$CA39 -> 0.66484245 | ER39: =DN39+$CA39 -> 0.66484245 | ES39: =DO39+$CA39 -> 0.66484245 | ET39: =DP39+$CA39 -> 0.66484245 | EU39: =DQ39+$CA39 -> 0.66484245 | EV39: =DR39+$CA39 -> 0.66484245 | EW39: =DS39+$CA39 -> 0.66484245 | EX39: =DT39+$CA39 -> 0.66484245 | ... FS39: =EO39+$CA39 -> 0.66484245 | FU39: =300*EQ39*AR39 -> 171.01843 | FV39: =300*ER39*AS39 -> 206.69803 | FW39: =300*ES39*AT39 -> 249.42644 | FX39: =300*ET39*AU39 -> 300.45114 | FY39: =300*EU39*AV39 -> 361.18736 | FZ39: =300*EV39*AW39 -> 433.22074 | GA39: =300*EW39*AX39 -> 518.30122 | GB39: =300*EX39*AY39 -> 618.3243 | ... GW39: =300*FS39*BT39 -> 3665.7133
A40: 36 | D40: D-2 | E40: 30 | F40: 0.0232 | G40: 1.6 | J40: 0.9 | K40: 32 | L40: =IF('Graph-Settings'!$I$6='Graph-Settings'!$C$46, K40, 'Graph-Settings'!$I$6) -> 32 | M40: =EXP(50*LN($J40)*(1/$L40-1/$K40)) -> 1 | N40: =IF('Graph-Settings'!$I$6>69, 0.2*(N39), 0) -> 0.17148768 | O40: =IF('Graph-Settings'!$I$6>69, 0.2*(O39), 0) -> 0.20726518 | P40: =IF('Graph-Settings'!$I$6>69, 0.2*(P39), 0) -> 0.25011083 | Q40: =IF('Graph-Settings'!$I$6>69, 0.2*(Q39), 0) -> 0.30127553 | R40: =IF('Graph-Settings'!$I$6>69, 0.2*(R39), 0) -> 0.3621784 | S40: =IF('Graph-Settings'!$I$6>69, 0.2*(S39), 0) -> 0.43440943 | T40: =IF('Graph-Settings'!$I$6>69, 0.2*(T39), 0) -> 0.51972335 | U40: =IF('Graph-Settings'!$I$6>69, 0.2*(U39), 0) -> 0.62002087 | ... AP40: =IF('Graph-Settings'!$I$6>69, 0.2*(AP39), 0) -> 3.6757714 | AR40: =$M40*N40 -> 0.17148768 | AS40: =$M40*O40 -> 0.20726518 | AT40: =$M40*P40 -> 0.25011083 | AU40: =$M40*Q40 -> 0.30127553 | AV40: =$M40*R40 -> 0.3621784 | AW40: =$M40*S40 -> 0.43440943 | AX40: =$M40*T40 -> 0.51972335 | AY40: =$M40*U40 -> 0.62002087 | ... BT40: =$M40*AP40 -> 3.6757714 | BW40: D-2 | CA40: =1.5*(1-EXP(-0.0183*L40)) -> 0.66484245 | DM40: =CI40*$CD40 -> 0 | DN40: =CJ40*$CD40 -> 0 | DO40: =CK40*$CD40 -> 0 | DP40: =CL40*$CD40 -> 0 | DQ40: =CM40*$CD40 -> 0 | DR40: =CN40*$CD40 -> 0 | DS40: =CO40*$CD40 -> 0 | DT40: =CP40*$CD40 -> 0 | ... EO40: =DK40*$CD40 -> 0 | EQ40: =DM40+$CA40 -> 0.66484245 | ER40: =DN40+$CA40 -> 0.66484245 | ES40: =DO40+$CA40 -> 0.66484245 | ET40: =DP40+$CA40 -> 0.66484245 | EU40: =DQ40+$CA40 -> 0.66484245 | EV40: =DR40+$CA40 -> 0.66484245 | EW40: =DS40+$CA40 -> 0.66484245 | EX40: =DT40+$CA40 -> 0.66484245 | ... FS40: =EO40+$CA40 -> 0.66484245 | FU40: =300*EQ40*AR40 -> 34.203686 | FV40: =300*ER40*AS40 -> 41.339606 | FW40: =300*ES40*AT40 -> 49.885288 | FX40: =300*ET40*AU40 -> 60.090228 | FY40: =300*EU40*AV40 -> 72.237472 | FZ40: =300*EV40*AW40 -> 86.644149 | GA40: =300*EW40*AX40 -> 103.66024 | GB40: =300*EX40*AY40 -> 123.66486 | ... GW40: =300*FS40*BT40 -> 733.14266
A41: 37 | D41: S-1 | E41: 75 | F41: 0.0297 | G41: 1.3 | J41: 0.75 | K41: 38 | L41: =IF('Graph-Settings'!$I$6='Graph-Settings'!$C$46, K41, 'Graph-Settings'!$I$6) -> 38 | M41: =EXP(50*LN($J41)*(1/$L41-1/$K41)) -> 1 | N41: =$E41*(1-EXP(-$F41*N$31))^$G41 -> 5.6389639 | O41: =$E41*(1-EXP(-$F41*O$31))^$G41 -> 6.5599572 | P41: =$E41*(1-EXP(-$F41*P$31))^$G41 -> 7.6189819 | Q41: =$E41*(1-EXP(-$F41*Q$31))^$G41 -> 8.832806 | R41: =$E41*(1-EXP(-$F41*R$31))^$G41 -> 10.218985 | S41: =$E41*(1-EXP(-$F41*S$31))^$G41 -> 11.795457 | T41: =$E41*(1-EXP(-$F41*T$31))^$G41 -> 13.579963 | U41: =$E41*(1-EXP(-$F41*U$31))^$G41 -> 15.589266 | ... AP41: =$E41*(1-EXP(-$F41*AP$31))^$G41 -> 57.79822 | AR41: =$M41*N41 -> 5.6389639 | AS41: =$M41*O41 -> 6.5599572 | AT41: =$M41*P41 -> 7.6189819 | AU41: =$M41*Q41 -> 8.832806 | AV41: =$M41*R41 -> 10.218985 | AW41: =$M41*S41 -> 11.795457 | AX41: =$M41*T41 -> 13.579963 | AY41: =$M41*U41 -> 15.589266 | ... BT41: =$M41*AP41 -> 57.79822 | BW41: S-1 | BY41: =4*(1-EXP(-0.025*L41)) -> 2.4530359 | BZ41: =4*(1-EXP(-0.034*L41)) -> 2.9011168 | CA41: =BY41+BZ41 -> 5.3541527 | DM41: =CI41*$CD41 -> 0 | DN41: =CJ41*$CD41 -> 0 | DO41: =CK41*$CD41 -> 0 | DP41: =CL41*$CD41 -> 0 | DQ41: =CM41*$CD41 -> 0 | DR41: =CN41*$CD41 -> 0 | DS41: =CO41*$CD41 -> 0 | DT41: =CP41*$CD41 -> 0 | ... EO41: =DK41*$CD41 -> 0 | EQ41: =DM41+$CA41 -> 5.3541527 | ER41: =DN41+$CA41 -> 5.3541527 | ES41: =DO41+$CA41 -> 5.3541527 | ET41: =DP41+$CA41 -> 5.3541527 | EU41: =DQ41+$CA41 -> 5.3541527 | EV41: =DR41+$CA41 -> 5.3541527 | EW41: =DS41+$CA41 -> 5.3541527 | EX41: =DT41+$CA41 -> 5.3541527 | ... FS41: =EO41+$CA41 -> 5.3541527 | FU41: =300*EQ41*AR41 -> 9057.5622 | FV41: =300*ER41*AS41 -> 10536.904 | FW41: =300*ES41*AT41 -> 12237.958 | FX41: =300*ET41*AU41 -> 14187.658 | FY41: =300*EU41*AV41 -> 16414.202 | FZ41: =300*EV41*AW41 -> 18946.404 | GA41: =300*EW41*AX41 -> 21812.759 | GB41: =300*EX41*AY41 -> 25040.194 | ... GW41: =300*FS41*BT41 -> 92838.149
A42: 38 | D42: S-2 | E42: 40 | F42: 0.0438 | G42: 1.7 | J42: 0.75 | K42: 63 | L42: =IF('Graph-Settings'!$I$6='Graph-Settings'!$C$46, K42, 'Graph-Settings'!$I$6) -> 63 | M42: =EXP(50*LN($J42)*(1/$L42-1/$K42)) -> 1 | N42: =$E42*(1-EXP(-$F42*N$31))^$G42 -> 2.4788516 | O42: =$E42*(1-EXP(-$F42*O$31))^$G42 -> 2.9987148 | P42: =$E42*(1-EXP(-$F42*P$31))^$G42 -> 3.6165687 | Q42: =$E42*(1-EXP(-$F42*Q$31))^$G42 -> 4.3468583 | R42: =$E42*(1-EXP(-$F42*R$31))^$G42 -> 5.2046965 | S42: =$E42*(1-EXP(-$F42*S$31))^$G42 -> 6.2053077 | T42: =$E42*(1-EXP(-$F42*T$31))^$G42 -> 7.3632313 | U42: =$E42*(1-EXP(-$F42*U$31))^$G42 -> 8.6912519 | ... AP42: =$E42*(1-EXP(-$F42*AP$31))^$G42 -> 34.662481 | AR42: =$M42*N42 -> 2.4788516 | AS42: =$M42*O42 -> 2.9987148 | AT42: =$M42*P42 -> 3.6165687 | AU42: =$M42*Q42 -> 4.3468583 | AV42: =$M42*R42 -> 5.2046965 | AW42: =$M42*S42 -> 6.2053077 | AX42: =$M42*T42 -> 7.3632313 | AY42: =$M42*U42 -> 8.6912519 | ... BT42: =$M42*AP42 -> 34.662481 | BW42: S-2 | BY42: =10*(1-EXP(-0.013*L42)) -> 5.5912769 | BZ42: =6*(1-EXP(-0.06*L42)) -> 5.8630639 | CA42: =BY42+BZ42 -> 11.454341 | DM42: =CI42*$CD42 -> 0 | DN42: =CJ42*$CD42 -> 0 | DO42: =CK42*$CD42 -> 0 | DP42: =CL42*$CD42 -> 0 | DQ42: =CM42*$CD42 -> 0 | DR42: =CN42*$CD42 -> 0 | DS42: =CO42*$CD42 -> 0 | DT42: =CP42*$CD42 -> 0 | ... EO42: =DK42*$CD42 -> 0 | EQ42: =DM42+$CA42 -> 11.454341 | ER42: =DN42+$CA42 -> 11.454341 | ES42: =DO42+$CA42 -> 11.454341 | ET42: =DP42+$CA42 -> 11.454341 | EU42: =DQ42+$CA42 -> 11.454341 | EV42: =DR42+$CA42 -> 11.454341 | EW42: =DS42+$CA42 -> 11.454341 | EX42: =DT42+$CA42 -> 11.454341 | ... FS42: =EO42+$CA42 -> 11.454341 | FU42: =300*EQ42*AR42 -> 8518.0834 | FV42: =300*ER42*AS42 -> 10304.49 | FW42: =300*ES42*AT42 -> 12427.623 | FX42: =300*ET42*AU42 -> 14937.119 | FY42: =300*EU42*AV42 -> 17884.91 | FZ42: =300*EV42*AW42 -> 21323.313 | GA42: =300*EW42*AX42 -> 25302.288 | GB42: =300*EX42*AY42 -> 29865.768 | ... GW42: =300*FS42*BT42 -> 119110.76
A43: 39 | D43: S-3 | E43: 55 | F43: 0.0829 | G43: 3.2 | J43: 0.75 | K43: 31 | L43: =IF('Graph-Settings'!$I$6='Graph-Settings'!$C$46, K43, 'Graph-Settings'!$I$6) -> 31 | M43: =EXP(50*LN($J43)*(1/$L43-1/$K43)) -> 1 | N43: =$E43*(1-EXP(-$F43*N$31))^$G43 -> 1.6831576 | O43: =$E43*(1-EXP(-$F43*O$31))^$G43 -> 2.3212844 | P43: =$E43*(1-EXP(-$F43*P$31))^$G43 -> 3.1694958 | Q43: =$E43*(1-EXP(-$F43*Q$31))^$G43 -> 4.2800225 | R43: =$E43*(1-EXP(-$F43*R$31))^$G43 -> 5.7095567 | S43: =$E43*(1-EXP(-$F43*S$31))^$G43 -> 7.5152076 | T43: =$E43*(1-EXP(-$F43*T$31))^$G43 -> 9.7482474 | U43: =$E43*(1-EXP(-$F43*U$31))^$G43 -> 12.445651 | ... AP43: =$E43*(1-EXP(-$F43*AP$31))^$G43 -> 53.509085 | AR43: =$M43*N43 -> 1.6831576 | AS43: =$M43*O43 -> 2.3212844 | AT43: =$M43*P43 -> 3.1694958 | AU43: =$M43*Q43 -> 4.2800225 | AV43: =$M43*R43 -> 5.7095567 | AW43: =$M43*S43 -> 7.5152076 | AX43: =$M43*T43 -> 9.7482474 | AY43: =$M43*U43 -> 12.445651 | ... BT43: =$M43*AP43 -> 53.509085 | BW43: S-3 | BY43: =12*(1-EXP(-0.0166*L43)) -> 4.8271243 | BZ43: =20*(1-EXP(-0.021*L43)) -> 9.5695202 | CA43: =BY43+BZ43 -> 14.396644 | DM43: =CI43*$CD43 -> 0 | DN43: =CJ43*$CD43 -> 0 | DO43: =CK43*$CD43 -> 0 | DP43: =CL43*$CD43 -> 0 | DQ43: =CM43*$CD43 -> 0 | DR43: =CN43*$CD43 -> 0 | DS43: =CO43*$CD43 -> 0 | DT43: =CP43*$CD43 -> 0 | ... EO43: =DK43*$CD43 -> 0 | EQ43: =DM43+$CA43 -> 14.396644 | ER43: =DN43+$CA43 -> 14.396644 | ES43: =DO43+$CA43 -> 14.396644 | ET43: =DP43+$CA43 -> 14.396644 | EU43: =DQ43+$CA43 -> 14.396644 | EV43: =DR43+$CA43 -> 14.396644 | EW43: =DS43+$CA43 -> 14.396644 | EX43: =DT43+$CA43 -> 14.396644 | ... FS43: =EO43+$CA43 -> 14.396644 | FU43: =300*EQ43*AR43 -> 7269.5465 | FV43: =300*ER43*AS43 -> 10025.612 | FW43: =300*ES43*AT43 -> 13689.031 | FX43: =300*ET43*AU43 -> 18485.389 | FY43: =300*EU43*AV43 -> 24659.537 | FZ43: =300*EV43*AW43 -> 32458.131 | GA43: =300*EW43*AX43 -> 42102.616 | GB43: =300*EX43*AY43 -> 53752.682 | ... GW43: =300*FS43*BT43 -> 231105.38
A44: 40 | D44: O-1a | E44: 190 | F44: 0.031 | G44: 1.4 | H44: =$C$6 -> 75 | I44: =IF(H44<58.8, 0.005*(EXP(0.061*H44)-1), 0.176+0.02*(H44-58.8)) -> 0.5 | N44: =$I44*($E44*(1-EXP(-$F44*N$31))^$G44) -> 6.1880287 | O44: =$I44*($E44*(1-EXP(-$F44*O$31))^$G44) -> 7.2787964 | P44: =$I44*($E44*(1-EXP(-$F44*P$31))^$G44) -> 8.5462492 | Q44: =$I44*($E44*(1-EXP(-$F44*Q$31))^$G44) -> 10.013858 | R44: =$I44*($E44*(1-EXP(-$F44*R$31))^$G44) -> 11.706506 | S44: =$I44*($E44*(1-EXP(-$F44*S$31))^$G44) -> 13.649952 | T44: =$I44*($E44*(1-EXP(-$F44*T$31))^$G44) -> 15.870038 | U44: =$I44*($E44*(1-EXP(-$F44*U$31))^$G44) -> 18.391591 | ... AP44: =$I44*($E44*(1-EXP(-$F44*AP$31))^$G44) -> 73.367548 | AR44: =$I44*($E44*(1-EXP(-$F44*AR$31))^$G44) -> 6.1880287 | AS44: =$I44*($E44*(1-EXP(-$F44*AS$31))^$G44) -> 7.2787964 | AT44: =$I44*($E44*(1-EXP(-$F44*AT$31))^$G44) -> 8.5462492 | AU44: =$I44*($E44*(1-EXP(-$F44*AU$31))^$G44) -> 10.013858 | AV44: =$I44*($E44*(1-EXP(-$F44*AV$31))^$G44) -> 11.706506 | AW44: =$I44*($E44*(1-EXP(-$F44*AW$31))^$G44) -> 13.649952 | AX44: =$I44*($E44*(1-EXP(-$F44*AX$31))^$G44) -> 15.870038 | AY44: =$I44*($E44*(1-EXP(-$F44*AY$31))^$G44) -> 18.391591 | ... BT44: =$I44*($E44*(1-EXP(-$F44*BT$31))^$G44) -> 73.367548 | BW44: O-1a | CA44: =CE28/10 -> 0.35 | DM44: =CI44*$CD44 -> 0 | DN44: =CJ44*$CD44 -> 0 | DO44: =CK44*$CD44 -> 0 | DP44: =CL44*$CD44 -> 0 | DQ44: =CM44*$CD44 -> 0 | DR44: =CN44*$CD44 -> 0 | DS44: =CO44*$CD44 -> 0 | DT44: =CP44*$CD44 -> 0 | ... EO44: =DK44*$CD44 -> 0 | EQ44: =DM44+$CA44 -> 0.35 | ER44: =DN44+$CA44 -> 0.35 | ES44: =DO44+$CA44 -> 0.35 | ET44: =DP44+$CA44 -> 0.35 | EU44: =DQ44+$CA44 -> 0.35 | EV44: =DR44+$CA44 -> 0.35 | EW44: =DS44+$CA44 -> 0.35 | EX44: =DT44+$CA44 -> 0.35 | ... FS44: =EO44+$CA44 -> 0.35 | FU44: =300*EQ44*AR44 -> 649.74301 | FV44: =300*ER44*AS44 -> 764.27362 | FW44: =300*ES44*AT44 -> 897.35617 | FX44: =300*ET44*AU44 -> 1051.4551 | FY44: =300*EU44*AV44 -> 1229.1832 | FZ44: =300*EV44*AW44 -> 1433.2449 | GA44: =300*EW44*AX44 -> 1666.354 | GB44: =300*EX44*AY44 -> 1931.1171 | ... GW44: =300*FS44*BT44 -> 7703.5925
D45: O-1b | E45: 250 | F45: 0.035 | G45: 1.7 | H45: =$C$6 -> 75 | I45: =IF(H45<58.8, 0.005*(EXP(0.061*H45)-1), 0.176+0.02*(H45-58.8)) -> 0.5 | N45: =$I45*($E45*(1-EXP(-$F45*N$31))^$G45) -> 5.4834701 | O45: =$I45*($E45*(1-EXP(-$F45*O$31))^$G45) -> 6.6641971 | P45: =$I45*($E45*(1-EXP(-$F45*P$31))^$G45) -> 8.0791188 | Q45: =$I45*($E45*(1-EXP(-$F45*Q$31))^$G45) -> 9.7672198 | R45: =$I45*($E45*(1-EXP(-$F45*R$31))^$G45) -> 11.771211 | S45: =$I45*($E45*(1-EXP(-$F45*S$31))^$G45) -> 14.136806 | T45: =$I45*($E45*(1-EXP(-$F45*T$31))^$G45) -> 16.911482 | U45: =$I45*($E45*(1-EXP(-$F45*U$31))^$G45) -> 20.142588 | ... AP45: =$I45*($E45*(1-EXP(-$F45*AP$31))^$G45) -> 97.890584 | AR45: =$I45*($E45*(1-EXP(-$F45*AR$31))^$G45) -> 5.4834701 | AS45: =$I45*($E45*(1-EXP(-$F45*AS$31))^$G45) -> 6.6641971 | AT45: =$I45*($E45*(1-EXP(-$F45*AT$31))^$G45) -> 8.0791188 | AU45: =$I45*($E45*(1-EXP(-$F45*AU$31))^$G45) -> 9.7672198 | AV45: =$I45*($E45*(1-EXP(-$F45*AV$31))^$G45) -> 11.771211 | AW45: =$I45*($E45*(1-EXP(-$F45*AW$31))^$G45) -> 14.136806 | AX45: =$I45*($E45*(1-EXP(-$F45*AX$31))^$G45) -> 16.911482 | AY45: =$I45*($E45*(1-EXP(-$F45*AY$31))^$G45) -> 20.142588 | ... BT45: =$I45*($E45*(1-EXP(-$F45*BT$31))^$G45) -> 97.890584 | BW45: O-1b | CA45: =CE28/10 -> 0.35 | DM45: =CI45*$CD45 -> 0 | DN45: =CJ45*$CD45 -> 0 | DO45: =CK45*$CD45 -> 0 | DP45: =CL45*$CD45 -> 0 | DQ45: =CM45*$CD45 -> 0 | DR45: =CN45*$CD45 -> 0 | DS45: =CO45*$CD45 -> 0 | DT45: =CP45*$CD45 -> 0 | ... EO45: =DK45*$CD45 -> 0 | EQ45: =DM45+$CA45 -> 0.35 | ER45: =DN45+$CA45 -> 0.35 | ES45: =DO45+$CA45 -> 0.35 | ET45: =DP45+$CA45 -> 0.35 | EU45: =DQ45+$CA45 -> 0.35 | EV45: =DR45+$CA45 -> 0.35 | EW45: =DS45+$CA45 -> 0.35 | EX45: =DT45+$CA45 -> 0.35 | ... FS45: =EO45+$CA45 -> 0.35 | FU45: =300*EQ45*AR45 -> 575.76436 | FV45: =300*ER45*AS45 -> 699.74069 | FW45: =300*ES45*AT45 -> 848.30747 | FX45: =300*ET45*AU45 -> 1025.5581 | FY45: =300*EU45*AV45 -> 1235.9771 | FZ45: =300*EV45*AW45 -> 1484.3646 | GA45: =300*EW45*AX45 -> 1775.7056 | GB45: =300*EX45*AY45 -> 2114.9717 | ... GW45: =300*FS45*BT45 -> 10278.511
D46: M-1 | H46: =$C$6 -> 75 | J46: 0.8 | K46: 50 | L46: =IF('Graph-Settings'!$I$6='Graph-Settings'!$C$46, K46, 'Graph-Settings'!$I$6) -> 50 | M46: =EXP(50*LN($J46)*(1/$L46-1/$K46)) -> 1 | N46: =($H46/100*N$33)+((100-$H46)/100*N$39) -> 4.0895045 | O46: =($H46/100*O$33)+((100-$H46)/100*O$39) -> 4.8765666 | P46: =($H46/100*P$33)+((100-$H46)/100*P$39) -> 5.8048538 | Q46: =($H46/100*Q$33)+((100-$H46)/100*Q$39) -> 6.8961285 | R46: =($H46/100*R$33)+((100-$H46)/100*R$39) -> 8.1742603 | S46: =($H46/100*S$33)+((100-$H46)/100*S$39) -> 9.664974 | T46: =($H46/100*T$33)+((100-$H46)/100*T$39) -> 11.395385 | U46: =($H46/100*U$33)+((100-$H46)/100*U$39) -> 13.393265 | ... AP46: =($H46/100*AP$33)+((100-$H46)/100*AP$39) -> 63.854683 | AR46: =$M46*N46 -> 4.0895045 | AS46: =$M46*O46 -> 4.8765666 | AT46: =$M46*P46 -> 5.8048538 | AU46: =$M46*Q46 -> 6.8961285 | AV46: =$M46*R46 -> 8.1742603 | AW46: =$M46*S46 -> 9.664974 | AX46: =$M46*T46 -> 11.395385 | AY46: =$M46*U46 -> 13.393265 | ... BT46: =$M46*AP46 -> 63.854683 | BW46: M1 | CA46: =($C$6/100*$CA$6)+((100-$C$6)/100*$CA$12) -> 2.1198624 | CC46: 6 | CD46: 0.8 | CE46: =0.001*CC46^1.5*(460+25.9*$CC$1)^1.5 -> 2381.5836 | CF46: =CE46/(300*CA46) -> 3.7448714 | CI46: =IF(1-EXP(-0.23*(AR46-$CF46))<0, 0, 1-EXP(-0.23*(AR46-$CF46))) -> 0.07620548 | CJ46: =IF(1-EXP(-0.23*(AS46-$CF46))<0, 0, 1-EXP(-0.23*(AS46-$CF46))) -> 0.2291719 | CK46: =IF(1-EXP(-0.23*(AT46-$CF46))<0, 0, 1-EXP(-0.23*(AT46-$CF46))) -> 0.37736571 | CL46: =IF(1-EXP(-0.23*(AU46-$CF46))<0, 0, 1-EXP(-0.23*(AU46-$CF46))) -> 0.51557328 | CM46: =IF(1-EXP(-0.23*(AV46-$CF46))<0, 0, 1-EXP(-0.23*(AV46-$CF46))) -> 0.63895744 | CN46: =IF(1-EXP(-0.23*(AW46-$CF46))<0, 0, 1-EXP(-0.23*(AW46-$CF46))) -> 0.7437556 | CO46: =IF(1-EXP(-0.23*(AX46-$CF46))<0, 0, 1-EXP(-0.23*(AX46-$CF46))) -> 0.82788943 | CP46: =IF(1-EXP(-0.23*(AY46-$CF46))<0, 0, 1-EXP(-0.23*(AY46-$CF46))) -> 0.89129643 | ... DK46: =IF(1-EXP(-0.23*(BT46-$CF46))<0, 0, 1-EXP(-0.23*(BT46-$CF46))) -> 0.99999901 | DM46: =$C$6/100*CI46*$CD46 -> 0.045723288 | DN46: =$C$6/100*CJ46*$CD46 -> 0.13750314 | DO46: =$C$6/100*CK46*$CD46 -> 0.22641943 | DP46: =$C$6/100*CL46*$CD46 -> 0.30934397 | DQ46: =$C$6/100*CM46*$CD46 -> 0.38337447 | DR46: =$C$6/100*CN46*$CD46 -> 0.44625336 | DS46: =$C$6/100*CO46*$CD46 -> 0.49673366 | DT46: =$C$6/100*CP46*$CD46 -> 0.53477786 | ... EO46: =$C$6/100*DK46*$CD46 -> 0.59999941 | EQ46: =DM46+$CA46 -> 2.1655857 | ER46: =DN46+$CA46 -> 2.2573655 | ES46: =DO46+$CA46 -> 2.3462818 | ET46: =DP46+$CA46 -> 2.4292064 | EU46: =DQ46+$CA46 -> 2.5032369 | EV46: =DR46+$CA46 -> 2.5661157 | EW46: =DS46+$CA46 -> 2.616596 | EX46: =DT46+$CA46 -> 2.6546402 | ... FS46: =EO46+$CA46 -> 2.7198618 | FU46: =300*EQ46*AR46 -> 2656.8517 | FV46: =300*ER46*AS46 -> 3302.458 | FW46: =300*ES46*AT46 -> 4085.9469 | FX46: =300*ET46*AU46 -> 5025.6357 | FY46: =300*EU46*AV46 -> 6138.6329 | FZ46: =300*EV46*AW46 -> 7440.4326 | GA46: =300*EW46*AX46 -> 8945.136 | GB46: =300*EX46*AY46 -> 10666.29 | ... GW46: =300*FS46*BT46 -> 52102.774
D47: M-2 | H47: =$C$6 -> 75 | J47: 0.8 | K47: 50 | L47: =IF('Graph-Settings'!$I$6='Graph-Settings'!$C$46, K47, 'Graph-Settings'!$I$6) -> 50 | M47: =EXP(50*LN($J47)*(1/$L47-1/$K47)) -> 1 | N47: =($H47/100*N$33)+((100-$H47)/100*N$40) -> 3.9180169 | O47: =($H47/100*O$33)+((100-$H47)/100*O$40) -> 4.6693014 | P47: =($H47/100*P$33)+((100-$H47)/100*P$40) -> 5.554743 | Q47: =($H47/100*Q$33)+((100-$H47)/100*Q$40) -> 6.5948529 | R47: =($H47/100*R$33)+((100-$H47)/100*R$40) -> 7.8120819 | S47: =($H47/100*S$33)+((100-$H47)/100*S$40) -> 9.2305646 | T47: =($H47/100*T$33)+((100-$H47)/100*T$40) -> 10.875662 | U47: =($H47/100*U$33)+((100-$H47)/100*U$40) -> 12.773245 | ... AP47: =($H47/100*AP$33)+((100-$H47)/100*AP$40) -> 60.178912 | AR47: =$M47*N47 -> 3.9180169 | AS47: =$M47*O47 -> 4.6693014 | AT47: =$M47*P47 -> 5.554743 | AU47: =$M47*Q47 -> 6.5948529 | AV47: =$M47*R47 -> 7.8120819 | AW47: =$M47*S47 -> 9.2305646 | AX47: =$M47*T47 -> 10.875662 | AY47: =$M47*U47 -> 12.773245 | ... BT47: =$M47*AP47 -> 60.178912 | BW47: M2 | CA47: =($C$6/100*$CA$6)+((100-$C$6)/100*$CA$12) -> 2.1198624 | CC47: 6 | CD47: 0.8 | CE47: =0.001*CC47^1.5*(460+25.9*$CC$1)^1.5 -> 2381.5836 | CF47: =CE47/(300*CA47) -> 3.7448714 | CI47: =IF(1-EXP(-0.23*(AR47-$CF47))<0, 0, 1-EXP(-0.23*(AR47-$CF47))) -> 0.039040916 | CJ47: =IF(1-EXP(-0.23*(AS47-$CF47))<0, 0, 1-EXP(-0.23*(AS47-$CF47))) -> 0.19153581 | CK47: =IF(1-EXP(-0.23*(AT47-$CF47))<0, 0, 1-EXP(-0.23*(AT47-$CF47))) -> 0.34049812 | CL47: =IF(1-EXP(-0.23*(AU47-$CF47))<0, 0, 1-EXP(-0.23*(AU47-$CF47))) -> 0.48081538 | CM47: =IF(1-EXP(-0.23*(AV47-$CF47))<0, 0, 1-EXP(-0.23*(AV47-$CF47))) -> 0.60759406 | CN47: =IF(1-EXP(-0.23*(AW47-$CF47))<0, 0, 1-EXP(-0.23*(AW47-$CF47))) -> 0.71683044 | CO47: =IF(1-EXP(-0.23*(AX47-$CF47))<0, 0, 1-EXP(-0.23*(AX47-$CF47))) -> 0.80603583 | CP47: =IF(1-EXP(-0.23*(AY47-$CF47))<0, 0, 1-EXP(-0.23*(AY47-$CF47))) -> 0.874635 | ... DK47: =IF(1-EXP(-0.23*(BT47-$CF47))<0, 0, 1-EXP(-0.23*(BT47-$CF47))) -> 0.99999769 | DM47: =$C$6/100*CI47*$CD47 -> 0.02342455 | DN47: =$C$6/100*CJ47*$CD47 -> 0.11492149 | DO47: =$C$6/100*CK47*$CD47 -> 0.20429887 | DP47: =$C$6/100*CL47*$CD47 -> 0.28848923 | DQ47: =$C$6/100*CM47*$CD47 -> 0.36455644 | DR47: =$C$6/100*CN47*$CD47 -> 0.43009827 | DS47: =$C$6/100*CO47*$CD47 -> 0.4836215 | DT47: =$C$6/100*CP47*$CD47 -> 0.524781 | ... EO47: =$C$6/100*DK47*$CD47 -> 0.59999862 | EQ47: =DM47+$CA47 -> 2.1432869 | ER47: =DN47+$CA47 -> 2.2347839 | ES47: =DO47+$CA47 -> 2.3241613 | ET47: =DP47+$CA47 -> 2.4083516 | EU47: =DQ47+$CA47 -> 2.4844188 | EV47: =DR47+$CA47 -> 2.5499607 | EW47: =DS47+$CA47 -> 2.6034839 | EX47: =DT47+$CA47 -> 2.6446434 | ... FS47: =EO47+$CA47 -> 2.719861 | FU47: =300*EQ47*AR47 -> 2519.2303 | FV47: =300*ER47*AS47 -> 3130.4639 | FW47: =300*ES47*AT47 -> 3873.0355 | FX47: =300*ET47*AU47 -> 4764.8174 | FY47: =300*EU47*AV47 -> 5822.545 | FZ47: =300*EV47*AW47 -> 7061.273 | GA47: =300*EW47*AX47 -> 8494.3831 | GB47: =300*EX47*AY47 -> 10134.203 | ... GW47: =300*FS47*BT47 -> 49103.482
D48: M-3 | E48: 120 | F48: 0.0572 | G48: 1.4 | H48: =$C$6 -> 75 | J48: 0.8 | K48: 50 | L48: =IF('Graph-Settings'!$I$6='Graph-Settings'!$C$46, K48, 'Graph-Settings'!$I$6) -> 50 | M48: =EXP(50*LN($J48)*(1/$L48-1/$K48)) -> 1 | N48: =$H48/100*(($E48*(1-EXP(-$F48*N$31))^$G48)) + ((100-$H48)/100*N39) -> 12.877942 | O48: =$H48/100*(($E48*(1-EXP(-$F48*O$31))^$G48)) + ((100-$H48)/100*O39) -> 14.988466 | P48: =$H48/100*(($E48*(1-EXP(-$F48*P$31))^$G48)) + ((100-$H48)/100*P39) -> 17.3903 | Q48: =$H48/100*(($E48*(1-EXP(-$F48*Q$31))^$G48)) + ((100-$H48)/100*Q39) -> 20.106596 | R48: =$H48/100*(($E48*(1-EXP(-$F48*R$31))^$G48)) + ((100-$H48)/100*R39) -> 23.156884 | S48: =$H48/100*(($E48*(1-EXP(-$F48*S$31))^$G48)) + ((100-$H48)/100*S39) -> 26.555005 | T48: =$H48/100*(($E48*(1-EXP(-$F48*T$31))^$G48)) + ((100-$H48)/100*T39) -> 30.306692 | U48: =$H48/100*(($E48*(1-EXP(-$F48*U$31))^$G48)) + ((100-$H48)/100*U39) -> 34.406917 | ... AP48: =$H48/100*(($E48*(1-EXP(-$F48*AP$31))^$G48)) + ((100-$H48)/100*AP39) -> 89.91511 | AR48: =$M48*N48 -> 12.877942 | AS48: =$M48*O48 -> 14.988466 | AT48: =$M48*P48 -> 17.3903 | AU48: =$M48*Q48 -> 20.106596 | AV48: =$M48*R48 -> 23.156884 | AW48: =$M48*S48 -> 26.555005 | AX48: =$M48*T48 -> 30.306692 | AY48: =$M48*U48 -> 34.406917 | ... BT48: =$M48*AP48 -> 89.91511 | BW48: M3 | CA48: =5*(1-EXP(-0.0115*L48)) -> 2.1864757 | CC48: 6 | CD48: 0.8 | CE48: =0.001*CC48^1.5*(460+25.9*$CC$1)^1.5 -> 2381.5836 | CF48: =CE48/(300*CA48) -> 3.63078 | CI48: =IF(1-EXP(-0.23*(AR48-$CF48))<0, 0, 1-EXP(-0.23*(AR48-$CF48))) -> 0.88078745 | CJ48: =IF(1-EXP(-0.23*(AS48-$CF48))<0, 0, 1-EXP(-0.23*(AS48-$CF48))) -> 0.92663203 | CK48: =IF(1-EXP(-0.23*(AT48-$CF48))<0, 0, 1-EXP(-0.23*(AT48-$CF48))) -> 0.95777275 | CL48: =IF(1-EXP(-0.23*(AU48-$CF48))<0, 0, 1-EXP(-0.23*(AU48-$CF48))) -> 0.97739169 | CM48: =IF(1-EXP(-0.23*(AV48-$CF48))<0, 0, 1-EXP(-0.23*(AV48-$CF48))) -> 0.98879062 | CN48: =IF(1-EXP(-0.23*(AW48-$CF48))<0, 0, 1-EXP(-0.23*(AW48-$CF48))) -> 0.9948696 | CO48: =IF(1-EXP(-0.23*(AX48-$CF48))<0, 0, 1-EXP(-0.23*(AX48-$CF48))) -> 0.99783527 | CP48: =IF(1-EXP(-0.23*(AY48-$CF48))<0, 0, 1-EXP(-0.23*(AY48-$CF48))) -> 0.99915697 | ... DK48: =IF(1-EXP(-0.23*(BT48-$CF48))<0, 0, 1-EXP(-0.23*(BT48-$CF48))) -> 1 | DM48: =CI48*$CD48 -> 0.70462996 | DN48: =CJ48*$CD48 -> 0.74130563 | DO48: =CK48*$CD48 -> 0.7662182 | DP48: =CL48*$CD48 -> 0.78191335 | DQ48: =CM48*$CD48 -> 0.79103249 | DR48: =CN48*$CD48 -> 0.79589568 | DS48: =CO48*$CD48 -> 0.79826822 | DT48: =CP48*$CD48 -> 0.79932558 | ... EO48: =DK48*$CD48 -> 0.8 | EQ48: =DM48+$CA48 -> 2.8911056 | ER48: =DN48+$CA48 -> 2.9277813 | ES48: =DO48+$CA48 -> 2.9526939 | ET48: =DP48+$CA48 -> 2.968389 | EU48: =DQ48+$CA48 -> 2.9775081 | EV48: =DR48+$CA48 -> 2.9823713 | EW48: =DS48+$CA48 -> 2.9847439 | EX48: =DT48+$CA48 -> 2.9858012 | ... FS48: =EO48+$CA48 -> 2.9864757 | FU48: =300*EQ48*AR48 -> 11169.447 | FV48: =300*ER48*AS48 -> 13164.885 | FW48: =300*ES48*AT48 -> 15404.469 | FX48: =300*ET48*AU48 -> 17905.259 | FY48: =300*EU48*AV48 -> 20684.944 | FZ48: =300*EV48*AW48 -> 23759.065 | GA48: =300*EW48*AX48 -> 27137.314 | GB48: =300*EX48*AY48 -> 30819.665 | ... GW48: =300*FS48*BT48 -> 80558.786
D49: M-4 | E49: 100 | F49: 0.0404 | G49: 1.48 | H49: =$C$6 -> 75 | J49: 0.8 | K49: 50 | L49: =IF('Graph-Settings'!$I$6='Graph-Settings'!$C$46, K49, 'Graph-Settings'!$I$6) -> 50 | M49: =EXP(50*LN($J49)*(1/$L49-1/$K49)) -> 1 | N49: =$H49/100*(($E49*(1-EXP(-$F49*N$31))^$G49)) + ((100-$H49)/100*N40) -> 6.0247305 | O49: =$H49/100*(($E49*(1-EXP(-$F49*O$31))^$G49)) + ((100-$H49)/100*O40) -> 7.123003 | P49: =$H49/100*(($E49*(1-EXP(-$F49*P$31))^$G49)) + ((100-$H49)/100*P40) -> 8.4008499 | Q49: =$H49/100*(($E49*(1-EXP(-$F49*Q$31))^$G49)) + ((100-$H49)/100*Q40) -> 9.88071 | R49: =$H49/100*(($E49*(1-EXP(-$F49*R$31))^$G49)) + ((100-$H49)/100*R40) -> 11.585492 | S49: =$H49/100*(($E49*(1-EXP(-$F49*S$31))^$G49)) + ((100-$H49)/100*S40) -> 13.537685 | T49: =$H49/100*(($E49*(1-EXP(-$F49*T$31))^$G49)) + ((100-$H49)/100*T40) -> 15.758143 | U49: =$H49/100*(($E49*(1-EXP(-$F49*U$31))^$G49)) + ((100-$H49)/100*U40) -> 18.264523 | ... AP49: =$H49/100*(($E49*(1-EXP(-$F49*AP$31))^$G49)) + ((100-$H49)/100*AP40) -> 65.27788 | AR49: =$M49*N49 -> 6.0247305 | AS49: =$M49*O49 -> 7.123003 | AT49: =$M49*P49 -> 8.4008499 | AU49: =$M49*Q49 -> 9.88071 | AV49: =$M49*R49 -> 11.585492 | AW49: =$M49*S49 -> 13.537685 | AX49: =$M49*T49 -> 15.758143 | AY49: =$M49*U49 -> 18.264523 | ... BT49: =$M49*AP49 -> 65.27788 | BW49: M4 | CA49: =5*(1-EXP(-0.0115*L48)) -> 2.1864757 | CC49: 6 | CD49: 0.8 | CE49: =0.001*CC49^1.5*(460+25.9*$CC$1)^1.5 -> 2381.5836 | CF49: =CE49/(300*CA49) -> 3.63078 | CI49: =IF(1-EXP(-0.23*(AR49-$CF49))<0, 0, 1-EXP(-0.23*(AR49-$CF49))) -> 0.42340123 | CJ49: =IF(1-EXP(-0.23*(AS49-$CF49))<0, 0, 1-EXP(-0.23*(AS49-$CF49))) -> 0.55211164 | CK49: =IF(1-EXP(-0.23*(AT49-$CF49))<0, 0, 1-EXP(-0.23*(AT49-$CF49))) -> 0.66616756 | CL49: =IF(1-EXP(-0.23*(AU49-$CF49))<0, 0, 1-EXP(-0.23*(AU49-$CF49))) -> 0.76247535 | CM49: =IF(1-EXP(-0.23*(AV49-$CF49))<0, 0, 1-EXP(-0.23*(AV49-$CF49))) -> 0.83951965 | CN49: =IF(1-EXP(-0.23*(AW49-$CF49))<0, 0, 1-EXP(-0.23*(AW49-$CF49))) -> 0.89757127 | CO49: =IF(1-EXP(-0.23*(AX49-$CF49))<0, 0, 1-EXP(-0.23*(AX49-$CF49))) -> 0.93853538 | CP49: =IF(1-EXP(-0.23*(AY49-$CF49))<0, 0, 1-EXP(-0.23*(AY49-$CF49))) -> 0.96546427 | ... DK49: =IF(1-EXP(-0.23*(BT49-$CF49))<0, 0, 1-EXP(-0.23*(BT49-$CF49))) -> 0.9999993 | DM49: =CI49*$CD49 -> 0.33872098 | DN49: =CJ49*$CD49 -> 0.44168931 | DO49: =CK49*$CD49 -> 0.53293405 | DP49: =CL49*$CD49 -> 0.60998028 | DQ49: =CM49*$CD49 -> 0.67161572 | DR49: =CN49*$CD49 -> 0.71805702 | DS49: =CO49*$CD49 -> 0.7508283 | DT49: =CP49*$CD49 -> 0.77237142 | ... EO49: =DK49*$CD49 -> 0.79999944 | EQ49: =DM49+$CA49 -> 2.5251966 | ER49: =DN49+$CA49 -> 2.628165 | ES49: =DO49+$CA49 -> 2.7194097 | ET49: =DP49+$CA49 -> 2.7964559 | EU49: =DQ49+$CA49 -> 2.8580914 | EV49: =DR49+$CA49 -> 2.9045327 | EW49: =DS49+$CA49 -> 2.937304 | EX49: =DT49+$CA49 -> 2.9588471 | ... FS49: =EO49+$CA49 -> 2.9864751 | FU49: =300*EQ49*AR49 -> 4564.0888 | FV49: =300*ER49*AS49 -> 5616.1281 | FW49: =300*ES49*AT49 -> 6853.6058 | FX49: =300*ET49*AU49 -> 8289.291 | FY49: =300*EU49*AV49 -> 9933.7185 | FZ49: =300*EV49*AW49 -> 11796.194 | GA49: =300*EW49*AX49 -> 13885.937 | GB49: =300*EX49*AY49 -> 16212.579 | ... GW49: =300*FS49*BT49 -> 58485.229
D51: C-6 (surf.) | E51: 30 | F51: 0.08 | G51: 3 | J51: 0.8 | K51: 62 | L51: =IF('Graph-Settings'!$I$6='Graph-Settings'!$C$46, K51, 'Graph-Settings'!$I$6) -> 62 | M51: =EXP(50*LN($J51)*(1/$L51-1/$K51)) -> 1 | N51: =$E51*(1-EXP(-$F51*N$31))^$G51 -> 1.0467611 | O51: =$E51*(1-EXP(-$F51*O$31))^$G51 -> 1.4184097 | P51: =$E51*(1-EXP(-$F51*P$31))^$G51 -> 1.9045967 | Q51: =$E51*(1-EXP(-$F51*Q$31))^$G51 -> 2.531773 | R51: =$E51*(1-EXP(-$F51*R$31))^$G51 -> 3.3282163 | S51: =$E51*(1-EXP(-$F51*S$31))^$G51 -> 4.3219874 | T51: =$E51*(1-EXP(-$F51*T$31))^$G51 -> 5.5378658 | U51: =$E51*(1-EXP(-$F51*U$31))^$G51 -> 6.993283 | ... AP51: =$E51*(1-EXP(-$F51*AP$31))^$G51 -> 29.100046 | AQ51: RSS: | AR51: =$M51*N51 -> 1.0467611 | AS51: =$M51*O51 -> 1.4184097 | AT51: =$M51*P51 -> 1.9045967 | AU51: =$M51*Q51 -> 2.531773 | AV51: =$M51*R51 -> 3.3282163 | AW51: =$M51*S51 -> 4.3219874 | AX51: =$M51*T51 -> 5.5378658 | AY51: =$M51*U51 -> 6.993283 | ... BT51: =$M51*AP51 -> 29.100046
D52: C-6 (crown) | E52: 60 | F52: 0.0497 | G52: 1 | N52: =$E52*(1-EXP(-$F52*N$31))^$G52 -> 13.075698 | O52: =$E52*(1-EXP(-$F52*O$31))^$G52 -> 14.598963 | P52: =$E52*(1-EXP(-$F52*P$31))^$G52 -> 16.266969 | Q52: =$E52*(1-EXP(-$F52*Q$31))^$G52 -> 18.084858 | R52: =$E52*(1-EXP(-$F52*R$31))^$G52 -> 20.055514 | S52: =$E52*(1-EXP(-$F52*S$31))^$G52 -> 22.178832 | T52: =$E52*(1-EXP(-$F52*T$31))^$G52 -> 24.450926 | U52: =$E52*(1-EXP(-$F52*U$31))^$G52 -> 26.863296 | ... AP52: =$E52*(1-EXP(-$F52*AP$31))^$G52 -> 56.545641 | AQ52: RSC: | AR52: =N52*($CG$37/0.778237) -> 13.075697 | AS52: =O52*($CG$37/0.778237) -> 14.598963 | AT52: =P52*($CG$37/0.778237) -> 16.266968 | AU52: =Q52*($CG$37/0.778237) -> 18.084857 | AV52: =R52*($CG$37/0.778237) -> 20.055513 | AW52: =S52*($CG$37/0.778237) -> 22.178831 | AX52: =T52*($CG$37/0.778237) -> 24.450925 | AY52: =U52*($CG$37/0.778237) -> 26.863294 | ... BT52: =AP52*($CG$37/0.778237) -> 56.545639
A54: # Comments | N54: #m is calculated from FFMC (copied from BX28, originally from Graph-Settings sheet), based on Van Wagner 1987, eq. 2b | P54: # Row 29 calculates ISI from m and various WS values (row ) based on Van Wagner 1987, p. 20 | AE54: # For wind speeds > 40 km/h, ISI is calculated using eq. 53a (STX-3, p. 32) designed to avoid excessively high ISI values. | AR54: # Once the ISI has been calculated from wind speed, the remaining fire behaviour calculation steps are performed identically to the ISI-based calculations (rows 3-25 above).

Sheet Calcs-control2
A1: Control2 | D1: ROSi=a * [1-exp(-b * ISI)]^c | M1: Index: | AR1: 1 | AS1: 2 | AT1: 3 | AU1: 4 | AV1: 5 | AW1: 6 | AX1: 7 | AY1: 8 | AZ1: 9 | BA1: 10 | BB1: 11 | BC1: 12 | BD1: 13 | BE1: 14 | BF1: 15 | BG1: 16 | BH1: 17 | BI1: 18 | BJ1: 19 | BK1: 20 | BL1: 21 | BM1: 22 | BN1: 23 | BO1: 24 | BP1: 25 | BQ1: 26 | BR1: 27 | BS1: 28 | BT1: 29 | BX1: FFMC = | BY1: ='Graph-Settings'!J6 -> 91 | BZ1: BUI = | CA1: ='Graph-Settings'!I6 -> Std/No ROS effect | CB1: FMC= | CC1: ='Graph-Settings'!H6 -> 97 | CD1: GFL= | CE1: ='Graph-Settings'!K6 -> 3.5 | CF1: C6 CBH: | CG1: ='Graph-Settings'!L6 -> 6 | FT1: Index: | FU1: 1 | FV1: 2 | FW1: 3 | FX1: 4 | FY1: 5 | FZ1: 6 | GA1: 7 | GB1: 8 | GC1: 9 | GD1: 10 | GE1: 11 | GF1: 12 | GG1: 13 | GH1: 14 | GI1: 15 | GJ1: 16 | GK1: 17 | GL1: 18 | GM1: 19 | GN1: 20 | GO1: 21 | GP1: 22 | GQ1: 23 | GR1: 24 | GS1: 25 | GT1: 26 | GU1: 27 | GV1: 28 | GW1: 29 | GZ1: Final ROS Output | HA1: =IF('Graph-Settings'!$N$5=1, 'Calcs-control2'!HA5, 'Calcs-control2'!HA9) -> 2.7989607 | HB1: =IF('Graph-Settings'!$N$5=1, 'Calcs-control2'!HB5, 'Calcs-control2'!HB9) -> 3.3377114 | HC1: =IF('Graph-Settings'!$N$5=1, 'Calcs-control2'!HC5, 'Calcs-control2'!HC9) -> 3.9733011 | HD1: =IF('Graph-Settings'!$N$5=1, 'Calcs-control2'!HD5, 'Calcs-control2'!HD9) -> 4.7207422 | HE1: =IF('Graph-Settings'!$N$5=1, 'Calcs-control2'!HE5, 'Calcs-control2'!HE9) -> 5.5965405 | HF1: =IF('Graph-Settings'!$N$5=1, 'Calcs-control2'!HF5, 'Calcs-control2'!HF9) -> 6.6185386 | HG1: =IF('Graph-Settings'!$N$5=1, 'Calcs-control2'!HG5, 'Calcs-control2'!HG9) -> 7.8056187 | HH1: =IF('Graph-Settings'!$N$5=1, 'Calcs-control2'!HH5, 'Calcs-control2'!HH9) -> 9.1772212 | ... IC1: =IF('Graph-Settings'!$N$5=1, 'Calcs-control2'!IC5, 'Calcs-control2'!IC9) -> 44.288867 | IF1: Final HFI output | IG1: =IF('Graph-Settings'!$N$5=1, 'Calcs-control2'!IG5, 'Calcs-control2'!IG9) -> 1454.22 | IH1: =IF('Graph-Settings'!$N$5=1, 'Calcs-control2'!IH5, 'Calcs-control2'!IH9) -> 1734.1317 | II1: =IF('Graph-Settings'!$N$5=1, 'Calcs-control2'!II5, 'Calcs-control2'!II9) -> 2064.3569 | IJ1: =IF('Graph-Settings'!$N$5=1, 'Calcs-control2'!IJ5, 'Calcs-control2'!IJ9) -> 2472.0061 | IK1: =IF('Graph-Settings'!$N$5=1, 'Calcs-control2'!IK5, 'Calcs-control2'!IK9) -> 3061.2171 | IL1: =IF('Graph-Settings'!$N$5=1, 'Calcs-control2'!IL5, 'Calcs-control2'!IL9) -> 3765.2167 | IM1: =IF('Graph-Settings'!$N$5=1, 'Calcs-control2'!IM5, 'Calcs-control2'!IM9) -> 4594.7082 | IN1: =IF('Graph-Settings'!$N$5=1, 'Calcs-control2'!IN5, 'Calcs-control2'!IN9) -> 5558.3055 | ... JI1: =IF('Graph-Settings'!$N$5=1, 'Calcs-control2'!JI5, 'Calcs-control2'!JI9) -> 28856.094 | JK1: [End]
B3: Range - | I3: Curing | N3: RSI | AR3: ROS | CI3: CFB: | DM3: CFC: | EQ3: TFC: | FU3: HFI: | GZ3: ISI/Wind Sp: | HA3: 0 | HB3: 2.5 | HC3: 5 | HD3: 7.5 | HE3: 10 | HF3: 12.5 | HG3: 15 | HH3: 17.5 | HI3: 20 | HJ3: 22.5 | HK3: 25 | HL3: 27.5 | HM3: 30 | HN3: 32.5 | HO3: 35 | HP3: 37.5 | HQ3: 40 | HR3: 42.5 | HS3: 45 | HT3: 47.5 | HU3: 50 | HV3: 52.5 | HW3: 55 | HX3: 57.5 | HY3: 60 | HZ3: 62.5 | IA3: 65 | IB3: 67.5 | IC3: 70 | IF3: ISI/Wind Sp | IG3: 0 | IH3: 2.5 | II3: 5 | IJ3: 7.5 | IK3: 10 | IL3: 12.5 | IM3: 15 | IN3: 17.5 | IO3: 20 | IP3: 22.5 | IQ3: 25 | IR3: 27.5 | IS3: 30 | IT3: 32.5 | IU3: 35 | IV3: 37.5 | IW3: 40 | IX3: 42.5 | IY3: 45 | IZ3: 47.5 | JA3: 50 | JB3: 52.5 | JC3: 55 | JD3: 57.5 | JE3: 60 | JF3: 62.5 | JG3: 65 | JH3: 67.5 | JI3: 70
A4: Index | B4: % C, %c or %DF | C4: % Modifier: | D4: Fuel Type | E4: a | F4: b | G4: c | H4: %C, %c or %DF | I4: factor | J4: q | K4: BUIo | L4: Actual BUI | M4: BE | N4: 0 | O4: 2.5 | P4: 5 | Q4: 7.5 | R4: 10 | S4: 12.5 | T4: 15 | U4: 17.5 | V4: 20 | W4: 22.5 | X4: 25 | Y4: 27.5 | Z4: 30 | AA4: 32.5 | AB4: 35 | AC4: 37.5 | AD4: 40 | AE4: 42.5 | AF4: 45 | AG4: 47.5 | AH4: 50 | AI4: 52.5 | AJ4: 55 | AK4: 57.5 | AL4: 60 | AM4: 62.5 | AN4: 65 | AO4: 67.5 | AP4: 70 | AR4: 0 | AS4: 2.5 | AT4: 5 | AU4: 7.5 | AV4: 10 | AW4: 12.5 | AX4: 15 | AY4: 17.5 | AZ4: 20 | BA4: 22.5 | BB4: 25 | BC4: 27.5 | BD4: 30 | BE4: 32.5 | BF4: 35 | BG4: 37.5 | BH4: 40 | BI4: 42.5 | BJ4: 45 | BK4: 47.5 | BL4: 50 | BM4: 52.5 | BN4: 55 | BO4: 57.5 | BP4: 60 | BQ4: 62.5 | BR4: 65 | BS4: 67.5 | BT4: 70 | BY4: FFC | BZ4: WFC | CA4: SFC | CC4: CBH | CD4: CFL | CE4: CSI | CF4: RSo | CG4: FME | CI4: 0 | CJ4: 2.5 | CK4: 5 | CL4: 7.5 | CM4: 10 | CN4: 12.5 | CO4: 15 | CP4: 17.5 | CQ4: 20 | CR4: 22.5 | CS4: 25 | CT4: 27.5 | CU4: 30 | CV4: 32.5 | CW4: 35 | CX4: 37.5 | CY4: 40 | CZ4: 42.5 | DA4: 45 | DB4: 47.5 | DC4: 50 | DD4: 52.5 | DE4: 55 | DF4: 57.5 | DG4: 60 | DH4: 62.5 | DI4: 65 | DJ4: 67.5 | DK4: 70 | DM4: 0 | DN4: 2.5 | DO4: 5 | DP4: 7.5 | DQ4: 10 | DR4: 12.5 | DS4: 15 | DT4: 17.5 | DU4: 20 | DV4: 22.5 | DW4: 25 | DX4: 27.5 | DY4: 30 | DZ4: 32.5 | EA4: 35 | EB4: 37.5 | EC4: 40 | ED4: 42.5 | EE4: 45 | EF4: 47.5 | EG4: 50 | EH4: 52.5 | EI4: 55 | EJ4: 57.5 | EK4: 60 | EL4: 62.5 | EM4: 65 | EN4: 67.5 | EO4: 70 | EQ4: 0 | ER4: 2.5 | ES4: 5 | ET4: 7.5 | EU4: 10 | EV4: 12.5 | EW4: 15 | EX4: 17.5 | EY4: 20 | EZ4: 22.5 | FA4: 25 | FB4: 27.5 | FC4: 30 | FD4: 32.5 | FE4: 35 | FF4: 37.5 | FG4: 40 | FH4: 42.5 | FI4: 45 | FJ4: 47.5 | FK4: 50 | FL4: 52.5 | FM4: 55 | FN4: 57.5 | FO4: 60 | FP4: 62.5 | FQ4: 65 | FR4: 67.5 | FS4: 70 | FU4: 0 | FV4: 2.5 | FW4: 5 | FX4: 7.5 | FY4: 10 | FZ4: 12.5 | GA4: 15 | GB4: 17.5 | GC4: 20 | GD4: 22.5 | GE4: 25 | GF4: 27.5 | GG4: 30 | GH4: 32.5 | GI4: 35 | GJ4: 37.5 | GK4: 40 | GL4: 42.5 | GM4: 45 | GN4: 47.5 | GO4: 50 | GP4: 52.5 | GQ4: 55 | GR4: 57.5 | GS4: 60 | GT4: 62.5 | GU4: 65 | GV4: 67.5 | GW4: 70 | GZ4: ROS output values (ISI) | IF4: HFI output values (ISI)
A5: 1 | B5: =IF(AND($GZ$5>12, $GZ$5<19), A5*5-5, "") -> 0 | C5: 12 | D5: C-1 | E5: 90 | F5: 0.0649 | G5: 4.5 | J5: 0.9 | K5: 72 | L5: =IF('Graph-Settings'!$I$6='Graph-Settings'!$C$46, K5, 'Graph-Settings'!$I$6) -> 72 | M5: =EXP(50*LN($J5)*(1/$L5-1/$K5)) -> 1 | N5: =$E5*(1-EXP(-$F5*N$4))^$G5 -> 0 | O5: =$E5*(1-EXP(-$F5*O$4))^$G5 -> 0.017525574 | P5: =$E5*(1-EXP(-$F5*P$4))^$G5 -> 0.27937434 | Q5: =$E5*(1-EXP(-$F5*Q$4))^$G5 -> 1.2323679 | R5: =$E5*(1-EXP(-$F5*R$4))^$G5 -> 3.2310526 | S5: =$E5*(1-EXP(-$F5*S$4))^$G5 -> 6.397585 | T5: =$E5*(1-EXP(-$F5*T$4))^$G5 -> 10.642844 | U5: =$E5*(1-EXP(-$F5*U$4))^$G5 -> 15.744724 | ... AP5: =$E5*(1-EXP(-$F5*AP$4))^$G5 -> 85.769769 | AR5: =$M5*N5 -> 0 | AS5: =$M5*O5 -> 0.017525574 | AT5: =$M5*P5 -> 0.27937434 | AU5: =$M5*Q5 -> 1.2323679 | AV5: =$M5*R5 -> 3.2310526 | AW5: =$M5*S5 -> 6.397585 | AX5: =$M5*T5 -> 10.642844 | AY5: =$M5*U5 -> 15.744724 | ... BT5: =$M5*AP5 -> 85.769769 | BW5: C-1 | CA5: =IF(BY1>84, 0.75+0.75*(1-EXP(-0.23*(BY1-84)))^0.5, 0.75-0.75*(1-EXP(0.23*(BY1-84)))^0.5) -> 1.4208675 | CC5: 2 | CD5: 0.75 | CE5: =0.001*CC5^1.5*(460+25.9*$CC$1)^1.5 -> 458.33598 | CF5: =CE5/(300*CA5) -> 1.0752492 | CI5: =IF(1-EXP(-0.23*(AR5-$CF5))<0, 0, 1-EXP(-0.23*(AR5-$CF5))) -> 0 | CJ5: =IF(1-EXP(-0.23*(AS5-$CF5))<0, 0, 1-EXP(-0.23*(AS5-$CF5))) -> 0 | CK5: =IF(1-EXP(-0.23*(AT5-$CF5))<0, 0, 1-EXP(-0.23*(AT5-$CF5))) -> 0 | CL5: =IF(1-EXP(-0.23*(AU5-$CF5))<0, 0, 1-EXP(-0.23*(AU5-$CF5))) -> 0.035492159 | CM5: =IF(1-EXP(-0.23*(AV5-$CF5))<0, 0, 1-EXP(-0.23*(AV5-$CF5))) -> 0.39093774 | CN5: =IF(1-EXP(-0.23*(AW5-$CF5))<0, 0, 1-EXP(-0.23*(AW5-$CF5))) -> 0.70598875 | CO5: =IF(1-EXP(-0.23*(AX5-$CF5))<0, 0, 1-EXP(-0.23*(AX5-$CF5))) -> 0.8892574 | CP5: =IF(1-EXP(-0.23*(AY5-$CF5))<0, 0, 1-EXP(-0.23*(AY5-$CF5))) -> 0.96574693 | ... DK5: =IF(1-EXP(-0.23*(BT5-$CF5))<0, 0, 1-EXP(-0.23*(BT5-$CF5))) -> 1 | DM5: =CI5*$CD5 -> 0 | DN5: =CJ5*$CD5 -> 0 | DO5: =CK5*$CD5 -> 0 | DP5: =CL5*$CD5 -> 0.02661912 | DQ5: =CM5*$CD5 -> 0.29320331 | DR5: =CN5*$CD5 -> 0.52949156 | DS5: =CO5*$CD5 -> 0.66694305 | DT5: =CP5*$CD5 -> 0.7243102 | ... EO5: =DK5*$CD5 -> 0.75 | EQ5: =DM5+$CA5 -> 1.4208675 | ER5: =DN5+$CA5 -> 1.4208675 | ES5: =DO5+$CA5 -> 1.4208675 | ET5: =DP5+$CA5 -> 1.4474866 | EU5: =DQ5+$CA5 -> 1.7140708 | EV5: =DR5+$CA5 -> 1.9503591 | EW5: =DS5+$CA5 -> 2.0878106 | EX5: =DT5+$CA5 -> 2.1451777 | ... FS5: =EO5+$CA5 -> 2.1708675 | FU5: =300*EQ5*AR5 -> 0 | FV5: =300*ER5*AS5 -> 7.4704554 | FW5: =300*ES5*AT5 -> 119.08618 | FX5: =300*ET5*AU5 -> 535.15084 | FY5: =300*EU5*AV5 -> 1661.4759 | FZ5: =300*EV5*AW5 -> 3743.2764 | GA5: =300*EW5*AX5 -> 6666.0723 | GB5: =300*EX5*AY5 -> 10132.569 | ... GW5: =300*FS5*BT5 -> 55858.442 | GY5: Control2b | GZ5: 16 | HA5: =INDEX($AR$5:$BT$22, $GZ5, AR$1) -> 0 | HB5: =INDEX($AR$5:$BT$22, $GZ5, AS$1) -> 1.1015995 | HC5: =INDEX($AR$5:$BT$22, $GZ5, AT$1) -> 2.963788 | HD5: =INDEX($AR$5:$BT$22, $GZ5, AU$1) -> 5.1789627 | HE5: =INDEX($AR$5:$BT$22, $GZ5, AV$1) -> 7.5867314 | HF5: =INDEX($AR$5:$BT$22, $GZ5, AW$1) -> 10.093036 | HG5: =INDEX($AR$5:$BT$22, $GZ5, AX$1) -> 12.636242 | HH5: =INDEX($AR$5:$BT$22, $GZ5, AY$1) -> 15.173892 | ... IC5: =INDEX($AR$5:$BT$22, $GZ5, BT$1) -> 50.243495 | IE5: Control2 | IF5: =GZ5 -> 16 | IG5: =INDEX($FU$5:$GW$22, $IF5, FU$1) -> 0 | IH5: =INDEX($FU$5:$GW$22, $IF5, FV$1) -> 572.34388 | II5: =INDEX($FU$5:$GW$22, $IF5, FW$1) -> 1539.8572 | IJ5: =INDEX($FU$5:$GW$22, $IF5, FX$1) -> 2778.214 | IK5: =INDEX($FU$5:$GW$22, $IF5, FY$1) -> 4441.2164 | IL5: =INDEX($FU$5:$GW$22, $IF5, FZ$1) -> 6200.9592 | IM5: =INDEX($FU$5:$GW$22, $IF5, GA$1) -> 7971.4999 | IN5: =INDEX($FU$5:$GW$22, $IF5, GB$1) -> 9711.3264 | ... JI5: =INDEX($FU$5:$GW$22, $IF5, GW$1) -> 32736.325
A6: 2 | B6: =IF(AND($GZ$5>12, $GZ$5<19), A6*5-5, "") -> 5 | C6: =C5*5-5 -> 55 | D6: C-2 | E6: 110 | F6: 0.0282 | G6: 1.5 | J6: 0.7 | K6: 64 | L6: =IF('Graph-Settings'!$I$6='Graph-Settings'!$C$46, K6, 'Graph-Settings'!$I$6) -> 64 | M6: =EXP(50*LN($J6)*(1/$L6-1/$K6)) -> 1 | N6: =$E6*(1-EXP(-$F6*N$4))^$G6 -> 0 | O6: =$E6*(1-EXP(-$F6*O$4))^$G6 -> 1.9536553 | P6: =$E6*(1-EXP(-$F6*P$4))^$G6 -> 5.2460722 | Q6: =$E6*(1-EXP(-$F6*Q$4))^$G6 -> 9.1554989 | R6: =$E6*(1-EXP(-$F6*R$4))^$G6 -> 13.398932 | S6: =$E6*(1-EXP(-$F6*S$4))^$G6 -> 17.810824 | T6: =$E6*(1-EXP(-$F6*T$4))^$G6 -> 22.282958 | U6: =$E6*(1-EXP(-$F6*U$4))^$G6 -> 26.740984 | ... AP6: =$E6*(1-EXP(-$F6*AP$4))^$G6 -> 87.896779 | AR6: =$M6*N6 -> 0 | AS6: =$M6*O6 -> 1.9536553 | AT6: =$M6*P6 -> 5.2460722 | AU6: =$M6*Q6 -> 9.1554989 | AV6: =$M6*R6 -> 13.398932 | AW6: =$M6*S6 -> 17.810824 | AX6: =$M6*T6 -> 22.282958 | AY6: =$M6*U6 -> 26.740984 | ... BT6: =$M6*AP6 -> 87.896779 | BW6: C-2 | CA6: =5*(1-EXP(-0.0115*L6)) -> 2.604869 | CC6: 3 | CD6: 0.8 | CE6: =0.001*CC6^1.5*(460+25.9*$CC$1)^1.5 -> 842.01697 | CF6: =CE6/(300*CA6) -> 1.0774911 | CI6: =IF(1-EXP(-0.23*(AR6-$CF6))<0, 0, 1-EXP(-0.23*(AR6-$CF6))) -> 0 | CJ6: =IF(1-EXP(-0.23*(AS6-$CF6))<0, 0, 1-EXP(-0.23*(AS6-$CF6))) -> 0.18251095 | CK6: =IF(1-EXP(-0.23*(AT6-$CF6))<0, 0, 1-EXP(-0.23*(AT6-$CF6))) -> 0.61663726 | CL6: =IF(1-EXP(-0.23*(AU6-$CF6))<0, 0, 1-EXP(-0.23*(AU6-$CF6))) -> 0.84400663 | CM6: =IF(1-EXP(-0.23*(AV6-$CF6))<0, 0, 1-EXP(-0.23*(AV6-$CF6))) -> 0.9412187 | CN6: =IF(1-EXP(-0.23*(AW6-$CF6))<0, 0, 1-EXP(-0.23*(AW6-$CF6))) -> 0.97869187 | CO6: =IF(1-EXP(-0.23*(AX6-$CF6))<0, 0, 1-EXP(-0.23*(AX6-$CF6))) -> 0.99238212 | CP6: =IF(1-EXP(-0.23*(AY6-$CF6))<0, 0, 1-EXP(-0.23*(AY6-$CF6))) -> 0.99726768 | ... DK6: =IF(1-EXP(-0.23*(BT6-$CF6))<0, 0, 1-EXP(-0.23*(BT6-$CF6))) -> 1 | DM6: =CI6*$CD6 -> 0 | DN6: =CJ6*$CD6 -> 0.14600876 | DO6: =CK6*$CD6 -> 0.49330981 | DP6: =CL6*$CD6 -> 0.67520531 | DQ6: =CM6*$CD6 -> 0.75297496 | DR6: =CN6*$CD6 -> 0.7829535 | DS6: =CO6*$CD6 -> 0.7939057 | DT6: =CP6*$CD6 -> 0.79781414 | ... EO6: =DK6*$CD6 -> 0.8 | EQ6: =DM6+$CA6 -> 2.604869 | ER6: =DN6+$CA6 -> 2.7508778 | ES6: =DO6+$CA6 -> 3.0981788 | ET6: =DP6+$CA6 -> 3.2800743 | EU6: =DQ6+$CA6 -> 3.357844 | EV6: =DR6+$CA6 -> 3.3878225 | EW6: =DS6+$CA6 -> 3.3987747 | EX6: =DT6+$CA6 -> 3.4026832 | ... FS6: =EO6+$CA6 -> 3.404869 | FU6: =300*EQ6*AR6 -> 0 | FV6: =300*ER6*AS6 -> 1612.2801 | FW6: =300*ES6*AT6 -> 4875.9809 | FX6: =300*ET6*AU6 -> 9009.2151 | FY6: =300*EU6*AV6 -> 13497.457 | FZ6: =300*EV6*AW6 -> 18101.973 | GA6: =300*EW6*AX6 -> 22720.426 | GB6: =300*EX6*AY6 -> 27297.328 | ... GW6: =300*FS6*BT6 -> 89783.106
A7: 3 | B7: =IF(AND($GZ$5>12, $GZ$5<19), A7*5-5, "") -> 10 | D7: C-3 | E7: 110 | F7: 0.0444 | G7: 3 | J7: 0.75 | K7: 62 | L7: =IF('Graph-Settings'!$I$6='Graph-Settings'!$C$46, K7, 'Graph-Settings'!$I$6) -> 62 | M7: =EXP(50*LN($J7)*(1/$L7-1/$K7)) -> 1 | N7: =$E7*(1-EXP(-$F7*N$4))^$G7 -> 0 | O7: =$E7*(1-EXP(-$F7*O$4))^$G7 -> 0.12756173 | P7: =$E7*(1-EXP(-$F7*P$4))^$G7 -> 0.86797241 | Q7: =$E7*(1-EXP(-$F7*Q$4))^$G7 -> 2.4992491 | R7: =$E7*(1-EXP(-$F7*R$4))^$G7 -> 5.0697417 | S7: =$E7*(1-EXP(-$F7*S$4))^$G7 -> 8.4996386 | T7: =$E7*(1-EXP(-$F7*T$4))^$G7 -> 12.645792 | U7: =$E7*(1-EXP(-$F7*U$4))^$G7 -> 17.341902 | ... AP7: =$E7*(1-EXP(-$F7*AP$4))^$G7 -> 95.901482 | AR7: =$M7*N7 -> 0 | AS7: =$M7*O7 -> 0.12756173 | AT7: =$M7*P7 -> 0.86797241 | AU7: =$M7*Q7 -> 2.4992491 | AV7: =$M7*R7 -> 5.0697417 | AW7: =$M7*S7 -> 8.4996386 | AX7: =$M7*T7 -> 12.645792 | AY7: =$M7*U7 -> 17.341902 | ... BT7: =$M7*AP7 -> 95.901482 | BW7: C-3 | CA7: =5*(1-EXP(-0.0164*L7))^2.24 -> 1.828725 | CC7: 8 | CD7: 1.15 | CE7: =0.001*CC7^1.5*(460+25.9*$CC$1)^1.5 -> 3666.6879 | CF7: =CE7/(300*CA7) -> 6.6835053 | CI7: =IF(1-EXP(-0.23*(AR7-$CF7))<0, 0, 1-EXP(-0.23*(AR7-$CF7))) -> 0 | CJ7: =IF(1-EXP(-0.23*(AS7-$CF7))<0, 0, 1-EXP(-0.23*(AS7-$CF7))) -> 0 | CK7: =IF(1-EXP(-0.23*(AT7-$CF7))<0, 0, 1-EXP(-0.23*(AT7-$CF7))) -> 0 | CL7: =IF(1-EXP(-0.23*(AU7-$CF7))<0, 0, 1-EXP(-0.23*(AU7-$CF7))) -> 0 | CM7: =IF(1-EXP(-0.23*(AV7-$CF7))<0, 0, 1-EXP(-0.23*(AV7-$CF7))) -> 0 | CN7: =IF(1-EXP(-0.23*(AW7-$CF7))<0, 0, 1-EXP(-0.23*(AW7-$CF7))) -> 0.34144726 | CO7: =IF(1-EXP(-0.23*(AX7-$CF7))<0, 0, 1-EXP(-0.23*(AX7-$CF7))) -> 0.74622977 | CP7: =IF(1-EXP(-0.23*(AY7-$CF7))<0, 0, 1-EXP(-0.23*(AY7-$CF7))) -> 0.91382982 | ... DK7: =IF(1-EXP(-0.23*(BT7-$CF7))<0, 0, 1-EXP(-0.23*(BT7-$CF7))) -> 1 | DM7: =CI7*$CD7 -> 0 | DN7: =CJ7*$CD7 -> 0 | DO7: =CK7*$CD7 -> 0 | DP7: =CL7*$CD7 -> 0 | DQ7: =CM7*$CD7 -> 0 | DR7: =CN7*$CD7 -> 0.39266434 | DS7: =CO7*$CD7 -> 0.85816423 | DT7: =CP7*$CD7 -> 1.0509043 | ... EO7: =DK7*$CD7 -> 1.15 | EQ7: =DM7+$CA7 -> 1.828725 | ER7: =DN7+$CA7 -> 1.828725 | ES7: =DO7+$CA7 -> 1.828725 | ET7: =DP7+$CA7 -> 1.828725 | EU7: =DQ7+$CA7 -> 1.828725 | EV7: =DR7+$CA7 -> 2.2213893 | EW7: =DS7+$CA7 -> 2.6868892 | EX7: =DT7+$CA7 -> 2.8796293 | ... FS7: =EO7+$CA7 -> 2.978725 | FU7: =300*EQ7*AR7 -> 0 | FV7: =300*ER7*AS7 -> 69.982594 | FW7: =300*ES7*AT7 -> 476.18484 | FX7: =300*ET7*AU7 -> 1371.1318 | FY7: =300*EU7*AV7 -> 2781.3489 | FZ7: =300*EV7*AW7 -> 5664.3019 | GA7: =300*EW7*AX7 -> 10193.353 | GB7: =300*EX7*AY7 -> 14981.474 | ... GW7: =300*FS7*BT7 -> 85699.242
A8: 4 | B8: =IF(AND($GZ$5>12, $GZ$5<19), A8*5-5, "") -> 15 | D8: C-4 | E8: 110 | F8: 0.0293 | G8: 1.5 | J8: 0.8 | K8: 66 | L8: =IF('Graph-Settings'!$I$6='Graph-Settings'!$C$46, K8, 'Graph-Settings'!$I$6) -> 66 | M8: =EXP(50*LN($J8)*(1/$L8-1/$K8)) -> 1 | N8: =$E8*(1-EXP(-$F8*N$4))^$G8 -> 0 | O8: =$E8*(1-EXP(-$F8*O$4))^$G8 -> 2.0648605 | P8: =$E8*(1-EXP(-$F8*P$4))^$G8 -> 5.5336727 | Q8: =$E8*(1-EXP(-$F8*Q$4))^$G8 -> 9.6387137 | R8: =$E8*(1-EXP(-$F8*R$4))^$G8 -> 14.079475 | S8: =$E8*(1-EXP(-$F8*S$4))^$G8 -> 18.681029 | T8: =$E8*(1-EXP(-$F8*T$4))^$G8 -> 23.329815 | U8: =$E8*(1-EXP(-$F8*U$4))^$G8 -> 27.948505 | ... AP8: =$E8*(1-EXP(-$F8*AP$4))^$G8 -> 89.477607 | AR8: =$M8*N8 -> 0 | AS8: =$M8*O8 -> 2.0648605 | AT8: =$M8*P8 -> 5.5336727 | AU8: =$M8*Q8 -> 9.6387137 | AV8: =$M8*R8 -> 14.079475 | AW8: =$M8*S8 -> 18.681029 | AX8: =$M8*T8 -> 23.329815 | AY8: =$M8*U8 -> 27.948505 | ... BT8: =$M8*AP8 -> 89.477607 | BW8: C-4 | CA8: =5*(1-EXP(-0.0164*L8))^2.24 -> 1.9794422 | CC8: 4 | CD8: 1.2 | CE8: =0.001*CC8^1.5*(460+25.9*$CC$1)^1.5 -> 1296.3699 | CF8: =CE8/(300*CA8) -> 2.1830559 | CI8: =IF(1-EXP(-0.23*(AR8-$CF8))<0, 0, 1-EXP(-0.23*(AR8-$CF8))) -> 0 | CJ8: =IF(1-EXP(-0.23*(AS8-$CF8))<0, 0, 1-EXP(-0.23*(AS8-$CF8))) -> 0 | CK8: =IF(1-EXP(-0.23*(AT8-$CF8))<0, 0, 1-EXP(-0.23*(AT8-$CF8))) -> 0.53728403 | CL8: =IF(1-EXP(-0.23*(AU8-$CF8))<0, 0, 1-EXP(-0.23*(AU8-$CF8))) -> 0.82000052 | CM8: =IF(1-EXP(-0.23*(AV8-$CF8))<0, 0, 1-EXP(-0.23*(AV8-$CF8))) -> 0.93518229 | CN8: =IF(1-EXP(-0.23*(AW8-$CF8))<0, 0, 1-EXP(-0.23*(AW8-$CF8))) -> 0.97750661 | CO8: =IF(1-EXP(-0.23*(AX8-$CF8))<0, 0, 1-EXP(-0.23*(AX8-$CF8))) -> 0.99227856 | CP8: =IF(1-EXP(-0.23*(AY8-$CF8))<0, 0, 1-EXP(-0.23*(AY8-$CF8))) -> 0.99733101 | ... DK8: =IF(1-EXP(-0.23*(BT8-$CF8))<0, 0, 1-EXP(-0.23*(BT8-$CF8))) -> 1 | DM8: =CI8*$CD8 -> 0 | DN8: =CJ8*$CD8 -> 0 | DO8: =CK8*$CD8 -> 0.64474083 | DP8: =CL8*$CD8 -> 0.98400062 | DQ8: =CM8*$CD8 -> 1.1222188 | DR8: =CN8*$CD8 -> 1.1730079 | DS8: =CO8*$CD8 -> 1.1907343 | DT8: =CP8*$CD8 -> 1.1967972 | ... EO8: =DK8*$CD8 -> 1.2 | EQ8: =DM8+$CA8 -> 1.9794422 | ER8: =DN8+$CA8 -> 1.9794422 | ES8: =DO8+$CA8 -> 2.6241831 | ET8: =DP8+$CA8 -> 2.9634429 | EU8: =DQ8+$CA8 -> 3.101661 | EV8: =DR8+$CA8 -> 3.1524502 | EW8: =DS8+$CA8 -> 3.1701765 | EX8: =DT8+$CA8 -> 3.1762394 | ... FS8: =EO8+$CA8 -> 3.1794422 | FU8: =300*EQ8*AR8 -> 0 | FV8: =300*ER8*AS8 -> 1226.1816 | FW8: =300*ES8*AT8 -> 4356.4111 | FX8: =300*ET8*AU8 -> 8569.1332 | FY8: =300*EU8*AV8 -> 13100.928 | FZ8: =300*EV8*AW8 -> 17667.304 | GA8: =300*EW8*AX8 -> 22187.89 | GB8: =300*EX8*AY8 -> 26631.344 | ... GW8: =300*FS8*BT8 -> 85346.665 | GZ8: ROS output values (wind speed) | IF8: HFI output values (Wind Speed)
A9: 5 | B9: =IF(AND($GZ$5>12, $GZ$5<19), A9*5-5, "") -> 20 | D9: C-5 | E9: 30 | F9: 0.0697 | G9: 4 | J9: 0.8 | K9: 56 | L9: =IF('Graph-Settings'!$I$6='Graph-Settings'!$C$46, K9, 'Graph-Settings'!$I$6) -> 56 | M9: =EXP(50*LN($J9)*(1/$L9-1/$K9)) -> 1 | N9: =$E9*(1-EXP(-$F9*N$4))^$G9 -> 0 | O9: =$E9*(1-EXP(-$F9*O$4))^$G9 -> 0.019618146 | P9: =$E9*(1-EXP(-$F9*P$4))^$G9 -> 0.22491129 | Q9: =$E9*(1-EXP(-$F9*Q$4))^$G9 -> 0.82409534 | R9: =$E9*(1-EXP(-$F9*R$4))^$G9 -> 1.9040073 | S9: =$E9*(1-EXP(-$F9*S$4))^$G9 -> 3.4319002 | T9: =$E9*(1-EXP(-$F9*T$4))^$G9 -> 5.3054017 | U9: =$E9*(1-EXP(-$F9*U$4))^$G9 -> 7.3982418 | ... AP9: =$E9*(1-EXP(-$F9*AP$4))^$G9 -> 29.097803 | AR9: =$M9*N9 -> 0 | AS9: =$M9*O9 -> 0.019618146 | AT9: =$M9*P9 -> 0.22491129 | AU9: =$M9*Q9 -> 0.82409534 | AV9: =$M9*R9 -> 1.9040073 | AW9: =$M9*S9 -> 3.4319002 | AX9: =$M9*T9 -> 5.3054017 | AY9: =$M9*U9 -> 7.3982418 | ... BT9: =$M9*AP9 -> 29.097803 | BW9: C-5 | CA9: =5*(1-EXP(-0.0149*L9))^2.48 -> 1.2181424 | CC9: 18 | CD9: 1.2 | CE9: =0.001*CC9^1.5*(460+25.9*$CC$1)^1.5 -> 12375.072 | CF9: =CE9/(300*CA9) -> 33.863233 | CI9: =IF(1-EXP(-0.23*(AR9-$CF9))<0, 0, 1-EXP(-0.23*(AR9-$CF9))) -> 0 | CJ9: =IF(1-EXP(-0.23*(AS9-$CF9))<0, 0, 1-EXP(-0.23*(AS9-$CF9))) -> 0 | CK9: =IF(1-EXP(-0.23*(AT9-$CF9))<0, 0, 1-EXP(-0.23*(AT9-$CF9))) -> 0 | CL9: =IF(1-EXP(-0.23*(AU9-$CF9))<0, 0, 1-EXP(-0.23*(AU9-$CF9))) -> 0 | CM9: =IF(1-EXP(-0.23*(AV9-$CF9))<0, 0, 1-EXP(-0.23*(AV9-$CF9))) -> 0 | CN9: =IF(1-EXP(-0.23*(AW9-$CF9))<0, 0, 1-EXP(-0.23*(AW9-$CF9))) -> 0 | CO9: =IF(1-EXP(-0.23*(AX9-$CF9))<0, 0, 1-EXP(-0.23*(AX9-$CF9))) -> 0 | CP9: =IF(1-EXP(-0.23*(AY9-$CF9))<0, 0, 1-EXP(-0.23*(AY9-$CF9))) -> 0 | ... DK9: =IF(1-EXP(-0.23*(BT9-$CF9))<0, 0, 1-EXP(-0.23*(BT9-$CF9))) -> 0 | DM9: =CI9*$CD9 -> 0 | DN9: =CJ9*$CD9 -> 0 | DO9: =CK9*$CD9 -> 0 | DP9: =CL9*$CD9 -> 0 | DQ9: =CM9*$CD9 -> 0 | DR9: =CN9*$CD9 -> 0 | DS9: =CO9*$CD9 -> 0 | DT9: =CP9*$CD9 -> 0 | ... EO9: =DK9*$CD9 -> 0 | EQ9: =DM9+$CA9 -> 1.2181424 | ER9: =DN9+$CA9 -> 1.2181424 | ES9: =DO9+$CA9 -> 1.2181424 | ET9: =DP9+$CA9 -> 1.2181424 | EU9: =DQ9+$CA9 -> 1.2181424 | EV9: =DR9+$CA9 -> 1.2181424 | EW9: =DS9+$CA9 -> 1.2181424 | EX9: =DT9+$CA9 -> 1.2181424 | ... FS9: =EO9+$CA9 -> 1.2181424 | FU9: =300*EQ9*AR9 -> 0 | FV9: =300*ER9*AS9 -> 7.1693086 | FW9: =300*ES9*AT9 -> 82.192192 | FX9: =300*ET9*AU9 -> 301.15963 | FY9: =300*EU9*AV9 -> 695.8056 | FZ9: =300*EV9*AW9 -> 1254.1629 | GA9: =300*EW9*AX9 -> 1938.8204 | GB9: =300*EX9*AY9 -> 2703.6335 | ... GW9: =300*FS9*BT9 -> 10633.58 | GY9: Control2b | GZ9: =GZ5 -> 16 | HA9: =INDEX($AR$32:$BT$49, $GZ9, AR$28) -> 2.7989607 | HB9: =INDEX($AR$32:$BT$49, $GZ9, AS$28) -> 3.3377114 | HC9: =INDEX($AR$32:$BT$49, $GZ9, AT$28) -> 3.9733011 | HD9: =INDEX($AR$32:$BT$49, $GZ9, AU$28) -> 4.7207422 | HE9: =INDEX($AR$32:$BT$49, $GZ9, AV$28) -> 5.5965405 | HF9: =INDEX($AR$32:$BT$49, $GZ9, AW$28) -> 6.6185386 | HG9: =INDEX($AR$32:$BT$49, $GZ9, AX$28) -> 7.8056187 | HH9: =INDEX($AR$32:$BT$49, $GZ9, AY$28) -> 9.1772212 | ... IC9: =INDEX($AR$32:$BT$49, $GZ9, BT$28) -> 44.288867 | IE9: Control2 | IF9: =IF5 -> 16 | IG9: =INDEX($FU$32:$GW$49, $IF9, FU$28) -> 1454.22 | IH9: =INDEX($FU$32:$GW$49, $IF9, FV$28) -> 1734.1317 | II9: =INDEX($FU$32:$GW$49, $IF9, FW$28) -> 2064.3569 | IJ9: =INDEX($FU$32:$GW$49, $IF9, FX$28) -> 2472.0061 | IK9: =INDEX($FU$32:$GW$49, $IF9, FY$28) -> 3061.2171 | IL9: =INDEX($FU$32:$GW$49, $IF9, FZ$28) -> 3765.2167 | IM9: =INDEX($FU$32:$GW$49, $IF9, GA$28) -> 4594.7082 | IN9: =INDEX($FU$32:$GW$49, $IF9, GB$28) -> 5558.3055 | ... JI9: =INDEX($FU$32:$GW$49, $IF9, GW$28) -> 28856.094
A10: 6 | B10: =IF(AND($GZ$5>12, $GZ$5<19), A10*5-5, "") -> 25 | D10: C-6 | K10: 62 | L10: =IF('Graph-Settings'!$I$6='Graph-Settings'!$C$46, K10, 'Graph-Settings'!$I$6) -> 62 | AR10: =AR24+CI10*(AR25-AR24) -> 0 | AS10: =AS24+CJ10*(AS25-AS24) -> 0.17868728 | AT10: =AT24+CK10*(AT25-AT24) -> 1.0749763 | AU10: =AU24+CL10*(AU25-AU24) -> 2.7554652 | AV10: =AV24+CM10*(AV25-AV24) -> 5.0095413 | AW10: =AW24+CN10*(AW25-AW24) -> 15.051649 | AX10: =AX24+CO10*(AX25-AX24) -> 24.257609 | AY10: =AY24+CP10*(AY25-AY24) -> 30.711665 | ... BT10: =BT24+DK10*(BT25-BT24) -> 58.038249 | BW10: C-6 | CA10: =5*(1-EXP(-0.0149*L10))^2.48 -> 1.4260786 | CC10: =$CG$1 -> 6 | CD10: 1.8 | CE10: =0.001*CC10^1.5*(460+25.9*$CC$1)^1.5 -> 2381.5836 | CF10: =CE10/(300*CA10) -> 5.5667423 | CG10: =((1.5-0.00275*CC1)^4)/(460+(25.9*CC1))*1000 -> 0.77823696 | CI10: =IF(1-EXP(-0.23*(AR24-$CF10))<0, 0, 1-EXP(-0.23*(AR24-$CF10))) -> 0 | CJ10: =IF(1-EXP(-0.23*(AS24-$CF10))<0, 0, 1-EXP(-0.23*(AS24-$CF10))) -> 0 | CK10: =IF(1-EXP(-0.23*(AT24-$CF10))<0, 0, 1-EXP(-0.23*(AT24-$CF10))) -> 0 | CL10: =IF(1-EXP(-0.23*(AU24-$CF10))<0, 0, 1-EXP(-0.23*(AU24-$CF10))) -> 0 | CM10: =IF(1-EXP(-0.23*(AV24-$CF10))<0, 0, 1-EXP(-0.23*(AV24-$CF10))) -> 0 | CN10: =IF(1-EXP(-0.23*(AW24-$CF10))<0, 0, 1-EXP(-0.23*(AW24-$CF10))) -> 0.3702639 | CO10: =IF(1-EXP(-0.23*(AX24-$CF10))<0, 0, 1-EXP(-0.23*(AX24-$CF10))) -> 0.65844858 | CP10: =IF(1-EXP(-0.23*(AY24-$CF10))<0, 0, 1-EXP(-0.23*(AY24-$CF10))) -> 0.81182651 | ... DK10: =IF(1-EXP(-0.23*(BT24-$CF10))<0, 0, 1-EXP(-0.23*(BT24-$CF10))) -> 0.99608675 | DM10: =CI10*$CD10 -> 0 | DN10: =CJ10*$CD10 -> 0 | DO10: =CK10*$CD10 -> 0 | DP10: =CL10*$CD10 -> 0 | DQ10: =CM10*$CD10 -> 0 | DR10: =CN10*$CD10 -> 0.66647501 | DS10: =CO10*$CD10 -> 1.1852074 | DT10: =CP10*$CD10 -> 1.4612877 | ... EO10: =DK10*$CD10 -> 1.7929561 | EQ10: =DM10+$CA10 -> 1.4260786 | ER10: =DN10+$CA10 -> 1.4260786 | ES10: =DO10+$CA10 -> 1.4260786 | ET10: =DP10+$CA10 -> 1.4260786 | EU10: =DQ10+$CA10 -> 1.4260786 | EV10: =DR10+$CA10 -> 2.0925536 | EW10: =DS10+$CA10 -> 2.6112861 | EX10: =DT10+$CA10 -> 2.8873663 | ... FS10: =EO10+$CA10 -> 3.2190348 | FU10: =300*EQ10*AR10 -> 0 | FV10: =300*ER10*AS10 -> 76.446634 | FW10: =300*ES10*AT10 -> 459.9002 | FX10: =300*ET10*AU10 -> 1178.853 | FY10: =300*EU10*AV10 -> 2143.1999 | FZ10: =300*EV10*AW10 -> 9448.9151 | GA10: =300*EW10*AX10 -> 19003.067 | GB10: =300*EX10*AY10 -> 26602.748 | ... GW10: =300*FS10*BT10 -> 56048.142
A11: 7 | B11: =IF(AND($GZ$5>12, $GZ$5<19), A11*5-5, "") -> 30 | D11: C-7 | E11: 45 | F11: 0.0305 | G11: 2 | J11: 0.85 | K11: 106 | L11: =IF('Graph-Settings'!$I$6='Graph-Settings'!$C$46, K11, 'Graph-Settings'!$I$6) -> 106 | M11: =EXP(50*LN($J11)*(1/$L11-1/$K11)) -> 1 | N11: =$E11*(1-EXP(-$F11*N$4))^$G11 -> 0 | O11: =$E11*(1-EXP(-$F11*O$4))^$G11 -> 0.2425424 | P11: =$E11*(1-EXP(-$F11*P$4))^$G11 -> 0.90025139 | Q11: =$E11*(1-EXP(-$F11*Q$4))^$G11 -> 1.8814072 | R11: =$E11*(1-EXP(-$F11*R$4))^$G11 -> 3.1096854 | S11: =$E11*(1-EXP(-$F11*S$4))^$G11 -> 4.521802 | T11: =$E11*(1-EXP(-$F11*T$4))^$G11 -> 6.0655036 | U11: =$E11*(1-EXP(-$F11*U$4))^$G11 -> 7.6978549 | ... AP11: =$E11*(1-EXP(-$F11*AP$4))^$G11 -> 34.987167 | AR11: =$M11*N11 -> 0 | AS11: =$M11*O11 -> 0.2425424 | AT11: =$M11*P11 -> 0.90025139 | AU11: =$M11*Q11 -> 1.8814072 | AV11: =$M11*R11 -> 3.1096854 | AW11: =$M11*S11 -> 4.521802 | AX11: =$M11*T11 -> 6.0655036 | AY11: =$M11*U11 -> 7.6978549 | ... BT11: =$M11*AP11 -> 34.987167 | BW11: C-7 | BY11: =2*(1-EXP(-0.104*(BY1-70))) -> 1.7748195 | BZ11: =1.5*(1-EXP(-0.0201*L11)) -> 1.321851 | CA11: =IF(BY11>0, BZ11+BY11, BZ11) -> 3.0966704 | CC11: 10 | CD11: 0.5 | CE11: =0.001*CC11^1.5*(460+25.9*$CC$1)^1.5 -> 5124.3521 | CF11: =CE11/(300*CA11) -> 5.5159805 | CI11: =IF(1-EXP(-0.23*(AR11-$CF11))<0, 0, 1-EXP(-0.23*(AR11-$CF11))) -> 0 | CJ11: =IF(1-EXP(-0.23*(AS11-$CF11))<0, 0, 1-EXP(-0.23*(AS11-$CF11))) -> 0 | CK11: =IF(1-EXP(-0.23*(AT11-$CF11))<0, 0, 1-EXP(-0.23*(AT11-$CF11))) -> 0 | CL11: =IF(1-EXP(-0.23*(AU11-$CF11))<0, 0, 1-EXP(-0.23*(AU11-$CF11))) -> 0 | CM11: =IF(1-EXP(-0.23*(AV11-$CF11))<0, 0, 1-EXP(-0.23*(AV11-$CF11))) -> 0 | CN11: =IF(1-EXP(-0.23*(AW11-$CF11))<0, 0, 1-EXP(-0.23*(AW11-$CF11))) -> 0 | CO11: =IF(1-EXP(-0.23*(AX11-$CF11))<0, 0, 1-EXP(-0.23*(AX11-$CF11))) -> 0.11872919 | CP11: =IF(1-EXP(-0.23*(AY11-$CF11))<0, 0, 1-EXP(-0.23*(AY11-$CF11))) -> 0.39457896 | ... DK11: =IF(1-EXP(-0.23*(BT11-$CF11))<0, 0, 1-EXP(-0.23*(BT11-$CF11))) -> 0.99886187 | DM11: =CI11*$CD11 -> 0 | DN11: =CJ11*$CD11 -> 0 | DO11: =CK11*$CD11 -> 0 | DP11: =CL11*$CD11 -> 0 | DQ11: =CM11*$CD11 -> 0 | DR11: =CN11*$CD11 -> 0 | DS11: =CO11*$CD11 -> 0.059364597 | DT11: =CP11*$CD11 -> 0.19728948 | ... EO11: =DK11*$CD11 -> 0.49943094 | EQ11: =DM11+$CA11 -> 3.0966704 | ER11: =DN11+$CA11 -> 3.0966704 | ES11: =DO11+$CA11 -> 3.0966704 | ET11: =DP11+$CA11 -> 3.0966704 | EU11: =DQ11+$CA11 -> 3.0966704 | EV11: =DR11+$CA11 -> 3.0966704 | EW11: =DS11+$CA11 -> 3.156035 | EX11: =DT11+$CA11 -> 3.2939599 | ... FS11: =EO11+$CA11 -> 3.5961014 | FU11: =300*EQ11*AR11 -> 0 | FV11: =300*ER11*AS11 -> 225.32216 | FW11: =300*ES11*AT11 -> 836.33456 | FX11: =300*ET11*AU11 -> 1747.8294 | FY11: =300*EU11*AV11 -> 2888.9013 | FZ11: =300*EV11*AW11 -> 4200.7592 | GA11: =300*EW11*AX11 -> 5742.8825 | GB11: =300*EX11*AY11 -> 7606.9277 | ... GW11: =300*FS11*BT11 -> 37745.22
A12: 8 | B12: =IF(AND($GZ$5>12, $GZ$5<19), A12*5-5, "") -> 35 | D12: D-1 | E12: 30 | F12: 0.0232 | G12: 1.6 | J12: 0.9 | K12: 32 | L12: =IF('Graph-Settings'!$I$6='Graph-Settings'!$C$46, K12, 'Graph-Settings'!$I$6) -> 32 | M12: =EXP(50*LN($J12)*(1/$L12-1/$K12)) -> 1 | N12: =$E12*(1-EXP(-$F12*N$4))^$G12 -> 0 | O12: =$E12*(1-EXP(-$F12*O$4))^$G12 -> 0.30099008 | P12: =$E12*(1-EXP(-$F12*P$4))^$G12 -> 0.87164784 | Q12: =$E12*(1-EXP(-$F12*Q$4))^$G12 -> 1.5937589 | R12: =$E12*(1-EXP(-$F12*R$4))^$G12 -> 2.4146525 | S12: =$E12*(1-EXP(-$F12*S$4))^$G12 -> 3.3009198 | T12: =$E12*(1-EXP(-$F12*T$4))^$G12 -> 4.2290542 | U12: =$E12*(1-EXP(-$F12*U$4))^$G12 -> 5.1816731 | ... AP12: =$E12*(1-EXP(-$F12*AP$4))^$G12 -> 21.114076 | AR12: =$M12*N12 -> 0 | AS12: =$M12*O12 -> 0.30099008 | AT12: =$M12*P12 -> 0.87164784 | AU12: =$M12*Q12 -> 1.5937589 | AV12: =$M12*R12 -> 2.4146525 | AW12: =$M12*S12 -> 3.3009198 | AX12: =$M12*T12 -> 4.2290542 | AY12: =$M12*U12 -> 5.1816731 | ... BT12: =$M12*AP12 -> 21.114076 | BW12: D-1 | CA12: =1.5*(1-EXP(-0.0183*L12)) -> 0.66484245 | DM12: =CI12*$CD12 -> 0 | DN12: =CJ12*$CD12 -> 0 | DO12: =CK12*$CD12 -> 0 | DP12: =CL12*$CD12 -> 0 | DQ12: =CM12*$CD12 -> 0 | DR12: =CN12*$CD12 -> 0 | DS12: =CO12*$CD12 -> 0 | DT12: =CP12*$CD12 -> 0 | ... EO12: =DK12*$CD12 -> 0 | EQ12: =DM12+$CA12 -> 0.66484245 | ER12: =DN12+$CA12 -> 0.66484245 | ES12: =DO12+$CA12 -> 0.66484245 | ET12: =DP12+$CA12 -> 0.66484245 | EU12: =DQ12+$CA12 -> 0.66484245 | EV12: =DR12+$CA12 -> 0.66484245 | EW12: =DS12+$CA12 -> 0.66484245 | EX12: =DT12+$CA12 -> 0.66484245 | ... FS12: =EO12+$CA12 -> 0.66484245 | FU12: =300*EQ12*AR12 -> 0 | FV12: =300*ER12*AS12 -> 60.033294 | FW12: =300*ES12*AT12 -> 173.85255 | FX12: =300*ET12*AU12 -> 317.87957 | FY12: =300*EU12*AV12 -> 481.60905 | FZ12: =300*EV12*AW12 -> 658.37748 | GA12: =300*EW12*AX12 -> 843.49643 | GB12: =300*EX12*AY12 -> 1033.4989 | ... GW12: =300*FS12*BT12 -> 4211.2601
A13: 9 | B13: =IF(AND($GZ$5>12, $GZ$5<19), A13*5-5, "") -> 40 | D13: D-2 | E13: 30 | F13: 0.0232 | G13: 1.6 | J13: 0.9 | K13: 32 | L13: =IF('Graph-Settings'!$I$6='Graph-Settings'!$C$46, K13, 'Graph-Settings'!$I$6) -> 32 | M13: =EXP(50*LN($J13)*(1/$L13-1/$K13)) -> 1 | N13: =IF('Graph-Settings'!$I$6>69, 0.2*(N12), 0) -> 0 | O13: =IF('Graph-Settings'!$I$6>69, 0.2*(O12), 0) -> 0.060198015 | P13: =IF('Graph-Settings'!$I$6>69, 0.2*(P12), 0) -> 0.17432957 | Q13: =IF('Graph-Settings'!$I$6>69, 0.2*(Q12), 0) -> 0.31875178 | R13: =IF('Graph-Settings'!$I$6>69, 0.2*(R12), 0) -> 0.4829305 | S13: =IF('Graph-Settings'!$I$6>69, 0.2*(S12), 0) -> 0.66018396 | T13: =IF('Graph-Settings'!$I$6>69, 0.2*(T12), 0) -> 0.84581084 | U13: =IF('Graph-Settings'!$I$6>69, 0.2*(U12), 0) -> 1.0363346 | ... AP13: =IF('Graph-Settings'!$I$6>69, 0.2*(AP12), 0) -> 4.2228151 | AR13: =$M13*N13 -> 0 | AS13: =$M13*O13 -> 0.060198015 | AT13: =$M13*P13 -> 0.17432957 | AU13: =$M13*Q13 -> 0.31875178 | AV13: =$M13*R13 -> 0.4829305 | AW13: =$M13*S13 -> 0.66018396 | AX13: =$M13*T13 -> 0.84581084 | AY13: =$M13*U13 -> 1.0363346 | ... BT13: =$M13*AP13 -> 4.2228151 | BW13: D-2 | CA13: =1.5*(1-EXP(-0.0183*L13)) -> 0.66484245 | DM13: =CI13*$CD13 -> 0 | DN13: =CJ13*$CD13 -> 0 | DO13: =CK13*$CD13 -> 0 | DP13: =CL13*$CD13 -> 0 | DQ13: =CM13*$CD13 -> 0 | DR13: =CN13*$CD13 -> 0 | DS13: =CO13*$CD13 -> 0 | DT13: =CP13*$CD13 -> 0 | ... EO13: =DK13*$CD13 -> 0 | EQ13: =DM13+$CA13 -> 0.66484245 | ER13: =DN13+$CA13 -> 0.66484245 | ES13: =DO13+$CA13 -> 0.66484245 | ET13: =DP13+$CA13 -> 0.66484245 | EU13: =DQ13+$CA13 -> 0.66484245 | EV13: =DR13+$CA13 -> 0.66484245 | EW13: =DS13+$CA13 -> 0.66484245 | EX13: =DT13+$CA13 -> 0.66484245 | ... FS13: =EO13+$CA13 -> 0.66484245 | FU13: =300*EQ13*AR13 -> 0 | FV13: =300*ER13*AS13 -> 12.006659 | FW13: =300*ES13*AT13 -> 34.770509 | FX13: =300*ET13*AU13 -> 63.575914 | FY13: =300*EU13*AV13 -> 96.32181 | FZ13: =300*EV13*AW13 -> 131.6755 | GA13: =300*EW13*AX13 -> 168.69929 | GB13: =300*EX13*AY13 -> 206.69978 | ... GW13: =300*FS13*BT13 -> 842.25202
A14: 10 | B14: =IF(AND($GZ$5>12, $GZ$5<19), A14*5-5, "") -> 45 | D14: S-1 | E14: 75 | F14: 0.0297 | G14: 1.3 | J14: 0.75 | K14: 38 | L14: =IF('Graph-Settings'!$I$6='Graph-Settings'!$C$46, K14, 'Graph-Settings'!$I$6) -> 38 | M14: =EXP(50*LN($J14)*(1/$L14-1/$K14)) -> 1 | N14: =$E14*(1-EXP(-$F14*N$4))^$G14 -> 0 | O14: =$E14*(1-EXP(-$F14*O$4))^$G14 -> 2.4329669 | P14: =$E14*(1-EXP(-$F14*P$4))^$G14 -> 5.7135239 | Q14: =$E14*(1-EXP(-$F14*Q$4))^$G14 -> 9.2365676 | R14: =$E14*(1-EXP(-$F14*R$4))^$G14 -> 12.819693 | S14: =$E14*(1-EXP(-$F14*S$4))^$G14 -> 16.370635 | T14: =$E14*(1-EXP(-$F14*T$4))^$G14 -> 19.836435 | U14: =$E14*(1-EXP(-$F14*U$4))^$G14 -> 23.185355 | ... AP14: =$E14*(1-EXP(-$F14*AP$4))^$G14 -> 63.04289 | AR14: =$M14*N14 -> 0 | AS14: =$M14*O14 -> 2.4329669 | AT14: =$M14*P14 -> 5.7135239 | AU14: =$M14*Q14 -> 9.2365676 | AV14: =$M14*R14 -> 12.819693 | AW14: =$M14*S14 -> 16.370635 | AX14: =$M14*T14 -> 19.836435 | AY14: =$M14*U14 -> 23.185355 | ... BT14: =$M14*AP14 -> 63.04289 | BW14: S-1 | BY14: =4*(1-EXP(-0.025*L14)) -> 2.4530359 | BZ14: =4*(1-EXP(-0.034*L14)) -> 2.9011168 | CA14: =BY14+BZ14 -> 5.3541527 | DM14: =CI14*$CD14 -> 0 | DN14: =CJ14*$CD14 -> 0 | DO14: =CK14*$CD14 -> 0 | DP14: =CL14*$CD14 -> 0 | DQ14: =CM14*$CD14 -> 0 | DR14: =CN14*$CD14 -> 0 | DS14: =CO14*$CD14 -> 0 | DT14: =CP14*$CD14 -> 0 | ... EO14: =DK14*$CD14 -> 0 | EQ14: =DM14+$CA14 -> 5.3541527 | ER14: =DN14+$CA14 -> 5.3541527 | ES14: =DO14+$CA14 -> 5.3541527 | ET14: =DP14+$CA14 -> 5.3541527 | EU14: =DQ14+$CA14 -> 5.3541527 | EV14: =DR14+$CA14 -> 5.3541527 | EW14: =DS14+$CA14 -> 5.3541527 | EX14: =DT14+$CA14 -> 5.3541527 | ... FS14: =EO14+$CA14 -> 5.3541527 | FU14: =300*EQ14*AR14 -> 0 | FV14: =300*ER14*AS14 -> 3907.943 | FW14: =300*ES14*AT14 -> 9177.3238 | FX14: =300*ET14*AU14 -> 14836.198 | FY14: =300*EU14*AV14 -> 20591.578 | FZ14: =300*EV14*AW14 -> 26295.265 | GA14: =300*EW14*AX14 -> 31862.192 | GB14: =300*EX14*AY14 -> 37241.38 | ... GW14: =300*FS14*BT14 -> 101262.38
A15: 11 | B15: =IF(AND($GZ$5>12, $GZ$5<19), A15*5-5, "") -> 50 | D15: S-2 | E15: 40 | F15: 0.0438 | G15: 1.7 | J15: 0.75 | K15: 63 | L15: =IF('Graph-Settings'!$I$6='Graph-Settings'!$C$46, K15, 'Graph-Settings'!$I$6) -> 63 | M15: =EXP(50*LN($J15)*(1/$L15-1/$K15)) -> 1 | N15: =$E15*(1-EXP(-$F15*N$4))^$G15 -> 0 | O15: =$E15*(1-EXP(-$F15*O$4))^$G15 -> 0.84920169 | P15: =$E15*(1-EXP(-$F15*P$4))^$G15 -> 2.5202631 | Q15: =$E15*(1-EXP(-$F15*Q$4))^$G15 -> 4.5943166 | R15: =$E15*(1-EXP(-$F15*R$4))^$G15 -> 6.8670521 | S15: =$E15*(1-EXP(-$F15*S$4))^$G15 -> 9.21301 | T15: =$E15*(1-EXP(-$F15*T$4))^$G15 -> 11.551025 | U15: =$E15*(1-EXP(-$F15*U$4))^$G15 -> 13.828114 | ... AP15: =$E15*(1-EXP(-$F15*AP$4))^$G15 -> 36.882653 | AR15: =$M15*N15 -> 0 | AS15: =$M15*O15 -> 0.84920169 | AT15: =$M15*P15 -> 2.5202631 | AU15: =$M15*Q15 -> 4.5943166 | AV15: =$M15*R15 -> 6.8670521 | AW15: =$M15*S15 -> 9.21301 | AX15: =$M15*T15 -> 11.551025 | AY15: =$M15*U15 -> 13.828114 | ... BT15: =$M15*AP15 -> 36.882653 | BW15: S-2 | BY15: =10*(1-EXP(-0.013*L15)) -> 5.5912769 | BZ15: =6*(1-EXP(-0.06*L15)) -> 5.8630639 | CA15: =BY15+BZ15 -> 11.454341 | DM15: =CI15*$CD15 -> 0 | DN15: =CJ15*$CD15 -> 0 | DO15: =CK15*$CD15 -> 0 | DP15: =CL15*$CD15 -> 0 | DQ15: =CM15*$CD15 -> 0 | DR15: =CN15*$CD15 -> 0 | DS15: =CO15*$CD15 -> 0 | DT15: =CP15*$CD15 -> 0 | ... EO15: =DK15*$CD15 -> 0 | EQ15: =DM15+$CA15 -> 11.454341 | ER15: =DN15+$CA15 -> 11.454341 | ES15: =DO15+$CA15 -> 11.454341 | ET15: =DP15+$CA15 -> 11.454341 | EU15: =DQ15+$CA15 -> 11.454341 | EV15: =DR15+$CA15 -> 11.454341 | EW15: =DS15+$CA15 -> 11.454341 | EX15: =DT15+$CA15 -> 11.454341 | ... FS15: =EO15+$CA15 -> 11.454341 | FU15: =300*EQ15*AR15 -> 0 | FV15: =300*ER15*AS15 -> 2918.1137 | FW15: =300*ES15*AT15 -> 8660.3857 | FX15: =300*ET15*AU15 -> 15787.461 | FY15: =300*EU15*AV15 -> 23597.267 | FZ15: =300*EV15*AW15 -> 31658.687 | GA15: =300*EW15*AX15 -> 39692.815 | GB15: =300*EX15*AY15 -> 47517.578 | ... GW15: =300*FS15*BT15 -> 126739.94
A16: 12 | B16: =IF(AND($GZ$5>12, $GZ$5<19), A16*5-5, "") -> 55 | D16: S-3 | E16: 55 | F16: 0.0829 | G16: 3.2 | J16: 0.75 | K16: 31 | L16: =IF('Graph-Settings'!$I$6='Graph-Settings'!$C$46, K16, 'Graph-Settings'!$I$6) -> 31 | M16: =EXP(50*LN($J16)*(1/$L16-1/$K16)) -> 1 | N16: =$E16*(1-EXP(-$F16*N$4))^$G16 -> 0 | O16: =$E16*(1-EXP(-$F16*O$4))^$G16 -> 0.25799987 | P16: =$E16*(1-EXP(-$F16*P$4))^$G16 -> 1.7312179 | Q16: =$E16*(1-EXP(-$F16*Q$4))^$G16 -> 4.6796167 | R16: =$E16*(1-EXP(-$F16*R$4))^$G16 -> 8.7752372 | S16: =$E16*(1-EXP(-$F16*S$4))^$G16 -> 13.533872 | T16: =$E16*(1-EXP(-$F16*T$4))^$G16 -> 18.516979 | U16: =$E16*(1-EXP(-$F16*U$4))^$G16 -> 23.398012 | ... AP16: =$E16*(1-EXP(-$F16*AP$4))^$G16 -> 54.470508 | AR16: =$M16*N16 -> 0 | AS16: =$M16*O16 -> 0.25799987 | AT16: =$M16*P16 -> 1.7312179 | AU16: =$M16*Q16 -> 4.6796167 | AV16: =$M16*R16 -> 8.7752372 | AW16: =$M16*S16 -> 13.533872 | AX16: =$M16*T16 -> 18.516979 | AY16: =$M16*U16 -> 23.398012 | ... BT16: =$M16*AP16 -> 54.470508 | BW16: S-3 | BY16: =12*(1-EXP(-0.0166*L16)) -> 4.8271243 | BZ16: =20*(1-EXP(-0.021*L16)) -> 9.5695202 | CA16: =BY16+BZ16 -> 14.396644 | DM16: =CI16*$CD16 -> 0 | DN16: =CJ16*$CD16 -> 0 | DO16: =CK16*$CD16 -> 0 | DP16: =CL16*$CD16 -> 0 | DQ16: =CM16*$CD16 -> 0 | DR16: =CN16*$CD16 -> 0 | DS16: =CO16*$CD16 -> 0 | DT16: =CP16*$CD16 -> 0 | ... EO16: =DK16*$CD16 -> 0 | EQ16: =DM16+$CA16 -> 14.396644 | ER16: =DN16+$CA16 -> 14.396644 | ES16: =DO16+$CA16 -> 14.396644 | ET16: =DP16+$CA16 -> 14.396644 | EU16: =DQ16+$CA16 -> 14.396644 | EV16: =DR16+$CA16 -> 14.396644 | EW16: =DS16+$CA16 -> 14.396644 | EX16: =DT16+$CA16 -> 14.396644 | ... FS16: =EO16+$CA16 -> 14.396644 | FU16: =300*EQ16*AR16 -> 0 | FV16: =300*ER16*AS16 -> 1114.2997 | FW16: =300*ES16*AT16 -> 7477.1185 | FX16: =300*ET16*AU16 -> 20211.233 | FY16: =300*EU16*AV16 -> 37900.191 | FZ16: =300*EV16*AW16 -> 58452.703 | GA16: =300*EW16*AX16 -> 79974.711 | GB16: =300*EX16*AY16 -> 101055.86 | ... GW16: =300*FS16*BT16 -> 235257.76
A17: 13 | B17: =IF(AND($GZ$5>12, $GZ$5<19), A17*5-5, "") -> 60 | D17: O-1a | E17: 190 | F17: 0.031 | G17: 1.4 | H17: =$C$6 -> 55 | I17: =IF(H17<58.8, 0.005*(EXP(0.061*H17)-1), 0.176+0.02*(H17-58.8)) -> 0.13822802 | N17: =$I17*($E17*(1-EXP(-$F17*N$4))^$G17) -> 0 | O17: =$I17*($E17*(1-EXP(-$F17*O$4))^$G17) -> 0.69336793 | P17: =$I17*($E17*(1-EXP(-$F17*P$4))^$G17) -> 1.7350086 | Q17: =$I17*($E17*(1-EXP(-$F17*Q$4))^$G17) -> 2.9042182 | R17: =$I17*($E17*(1-EXP(-$F17*R$4))^$G17) -> 4.125217 | S17: =$I17*($E17*(1-EXP(-$F17*S$4))^$G17) -> 5.3570659 | T17: =$I17*($E17*(1-EXP(-$F17*T$4))^$G17) -> 6.5748969 | U17: =$I17*($E17*(1-EXP(-$F17*U$4))^$G17) -> 7.7628949 | ... AP17: =$I17*($E17*(1-EXP(-$F17*AP$4))^$G17) -> 22.163329 | AR17: =$I17*($E17*(1-EXP(-$F17*AR$4))^$G17) -> 0 | AS17: =$I17*($E17*(1-EXP(-$F17*AS$4))^$G17) -> 0.69336793 | AT17: =$I17*($E17*(1-EXP(-$F17*AT$4))^$G17) -> 1.7350086 | AU17: =$I17*($E17*(1-EXP(-$F17*AU$4))^$G17) -> 2.9042182 | AV17: =$I17*($E17*(1-EXP(-$F17*AV$4))^$G17) -> 4.125217 | AW17: =$I17*($E17*(1-EXP(-$F17*AW$4))^$G17) -> 5.3570659 | AX17: =$I17*($E17*(1-EXP(-$F17*AX$4))^$G17) -> 6.5748969 | AY17: =$I17*($E17*(1-EXP(-$F17*AY$4))^$G17) -> 7.7628949 | ... BT17: =$I17*($E17*(1-EXP(-$F17*BT$4))^$G17) -> 22.163329 | BW17: O-1a | CA17: =CE1/10 -> 0.35 | DM17: =CI17*$CD17 -> 0 | DN17: =CJ17*$CD17 -> 0 | DO17: =CK17*$CD17 -> 0 | DP17: =CL17*$CD17 -> 0 | DQ17: =CM17*$CD17 -> 0 | DR17: =CN17*$CD17 -> 0 | DS17: =CO17*$CD17 -> 0 | DT17: =CP17*$CD17 -> 0 | ... EO17: =DK17*$CD17 -> 0 | EQ17: =DM17+$CA17 -> 0.35 | ER17: =DN17+$CA17 -> 0.35 | ES17: =DO17+$CA17 -> 0.35 | ET17: =DP17+$CA17 -> 0.35 | EU17: =DQ17+$CA17 -> 0.35 | EV17: =DR17+$CA17 -> 0.35 | EW17: =DS17+$CA17 -> 0.35 | EX17: =DT17+$CA17 -> 0.35 | ... FS17: =EO17+$CA17 -> 0.35 | FU17: =300*EQ17*AR17 -> 0 | FV17: =300*ER17*AS17 -> 72.803633 | FW17: =300*ES17*AT17 -> 182.17591 | FX17: =300*ET17*AU17 -> 304.94291 | FY17: =300*EU17*AV17 -> 433.14778 | FZ17: =300*EV17*AW17 -> 562.49192 | GA17: =300*EW17*AX17 -> 690.36417 | GB17: =300*EX17*AY17 -> 815.10397 | ... GW17: =300*FS17*BT17 -> 2327.1496
A18: 14 | B18: =IF(AND($GZ$5>12, $GZ$5<19), A18*5-5, "") -> 65 | D18: O-1b | E18: 250 | F18: 0.035 | G18: 1.7 | H18: =$C$6 -> 55 | I18: =IF(H18<58.8, 0.005*(EXP(0.061*H18)-1), 0.176+0.02*(H18-58.8)) -> 0.13822802 | N18: =$I18*($E18*(1-EXP(-$F18*N$4))^$G18) -> 0 | O18: =$I18*($E18*(1-EXP(-$F18*O$4))^$G18) -> 0.51036942 | P18: =$I18*($E18*(1-EXP(-$F18*P$4))^$G18) -> 1.5418472 | Q18: =$I18*($E18*(1-EXP(-$F18*Q$4))^$G18) -> 2.859384 | R18: =$I18*($E18*(1-EXP(-$F18*R$4))^$G18) -> 4.3452397 | S18: =$I18*($E18*(1-EXP(-$F18*S$4))^$G18) -> 5.9234443 | T18: =$I18*($E18*(1-EXP(-$F18*T$4))^$G18) -> 7.5415833 | U18: =$I18*($E18*(1-EXP(-$F18*U$4))^$G18) -> 9.1625589 | ... AP18: =$I18*($E18*(1-EXP(-$F18*AP$4))^$G18) -> 29.641996 | AR18: =$I18*($E18*(1-EXP(-$F18*AR$4))^$G18) -> 0 | AS18: =$I18*($E18*(1-EXP(-$F18*AS$4))^$G18) -> 0.51036942 | AT18: =$I18*($E18*(1-EXP(-$F18*AT$4))^$G18) -> 1.5418472 | AU18: =$I18*($E18*(1-EXP(-$F18*AU$4))^$G18) -> 2.859384 | AV18: =$I18*($E18*(1-EXP(-$F18*AV$4))^$G18) -> 4.3452397 | AW18: =$I18*($E18*(1-EXP(-$F18*AW$4))^$G18) -> 5.9234443 | AX18: =$I18*($E18*(1-EXP(-$F18*AX$4))^$G18) -> 7.5415833 | AY18: =$I18*($E18*(1-EXP(-$F18*AY$4))^$G18) -> 9.1625589 | ... BT18: =$I18*($E18*(1-EXP(-$F18*BT$4))^$G18) -> 29.641996 | BW18: O-1b | CA18: =CE1/10 -> 0.35 | DM18: =CI18*$CD18 -> 0 | DN18: =CJ18*$CD18 -> 0 | DO18: =CK18*$CD18 -> 0 | DP18: =CL18*$CD18 -> 0 | DQ18: =CM18*$CD18 -> 0 | DR18: =CN18*$CD18 -> 0 | DS18: =CO18*$CD18 -> 0 | DT18: =CP18*$CD18 -> 0 | ... EO18: =DK18*$CD18 -> 0 | EQ18: =DM18+$CA18 -> 0.35 | ER18: =DN18+$CA18 -> 0.35 | ES18: =DO18+$CA18 -> 0.35 | ET18: =DP18+$CA18 -> 0.35 | EU18: =DQ18+$CA18 -> 0.35 | EV18: =DR18+$CA18 -> 0.35 | EW18: =DS18+$CA18 -> 0.35 | EX18: =DT18+$CA18 -> 0.35 | ... FS18: =EO18+$CA18 -> 0.35 | FU18: =300*EQ18*AR18 -> 0 | FV18: =300*ER18*AS18 -> 53.588789 | FW18: =300*ES18*AT18 -> 161.89396 | FX18: =300*ET18*AU18 -> 300.23532 | FY18: =300*EU18*AV18 -> 456.25017 | FZ18: =300*EV18*AW18 -> 621.96166 | GA18: =300*EW18*AX18 -> 791.86625 | GB18: =300*EX18*AY18 -> 962.06868 | ... GW18: =300*FS18*BT18 -> 3112.4096
A19: 15 | B19: =IF(AND($GZ$5>12, $GZ$5<19), A19*5-5, "") -> 70 | D19: M-1 | H19: =$C$6 -> 55 | J19: 0.8 | K19: 50 | L19: =IF('Graph-Settings'!$I$6='Graph-Settings'!$C$46, K19, 'Graph-Settings'!$I$6) -> 50 | M19: =EXP(50*LN($J19)*(1/$L19-1/$K19)) -> 1 | N19: =($H19/100*N$6)+((100-$H19)/100*N$12) -> 0 | O19: =($H19/100*O$6)+((100-$H19)/100*O$12) -> 1.209956 | P19: =($H19/100*P$6)+((100-$H19)/100*P$12) -> 3.2775812 | Q19: =($H19/100*Q$6)+((100-$H19)/100*Q$12) -> 5.7527159 | R19: =($H19/100*R$6)+((100-$H19)/100*R$12) -> 8.4560063 | S19: =($H19/100*S$6)+((100-$H19)/100*S$12) -> 11.281367 | T19: =($H19/100*T$6)+((100-$H19)/100*T$12) -> 14.158701 | U19: =($H19/100*U$6)+((100-$H19)/100*U$12) -> 17.039294 | ... AP19: =($H19/100*AP$6)+((100-$H19)/100*AP$12) -> 57.844562 | AR19: =$M19*N19 -> 0 | AS19: =$M19*O19 -> 1.209956 | AT19: =$M19*P19 -> 3.2775812 | AU19: =$M19*Q19 -> 5.7527159 | AV19: =$M19*R19 -> 8.4560063 | AW19: =$M19*S19 -> 11.281367 | AX19: =$M19*T19 -> 14.158701 | AY19: =$M19*U19 -> 17.039294 | ... BT19: =$M19*AP19 -> 57.844562 | BW19: M1 | CA19: =($C$6/100*$CA$6)+((100-$C$6)/100*$CA$12) -> 1.7318571 | CC19: 6 | CD19: 0.8 | CE19: =0.001*CC19^1.5*(460+25.9*$CC$1)^1.5 -> 2381.5836 | CF19: =CE19/(300*CA19) -> 4.5838726 | CI19: =IF(1-EXP(-0.23*(AR19-$CF19))<0, 0, 1-EXP(-0.23*(AR19-$CF19))) -> 0 | CJ19: =IF(1-EXP(-0.23*(AS19-$CF19))<0, 0, 1-EXP(-0.23*(AS19-$CF19))) -> 0 | CK19: =IF(1-EXP(-0.23*(AT19-$CF19))<0, 0, 1-EXP(-0.23*(AT19-$CF19))) -> 0 | CL19: =IF(1-EXP(-0.23*(AU19-$CF19))<0, 0, 1-EXP(-0.23*(AU19-$CF19))) -> 0.23572986 | CM19: =IF(1-EXP(-0.23*(AV19-$CF19))<0, 0, 1-EXP(-0.23*(AV19-$CF19))) -> 0.58958678 | CN19: =IF(1-EXP(-0.23*(AW19-$CF19))<0, 0, 1-EXP(-0.23*(AW19-$CF19))) -> 0.78570973 | CO19: =IF(1-EXP(-0.23*(AX19-$CF19))<0, 0, 1-EXP(-0.23*(AX19-$CF19))) -> 0.88944151 | CP19: =IF(1-EXP(-0.23*(AY19-$CF19))<0, 0, 1-EXP(-0.23*(AY19-$CF19))) -> 0.94300244 | ... DK19: =IF(1-EXP(-0.23*(BT19-$CF19))<0, 0, 1-EXP(-0.23*(BT19-$CF19))) -> 0.99999521 | DM19: =$C$6/100*CI19*$CD19 -> 0 | DN19: =$C$6/100*CJ19*$CD19 -> 0 | DO19: =$C$6/100*CK19*$CD19 -> 0 | DP19: =$C$6/100*CL19*$CD19 -> 0.10372114 | DQ19: =$C$6/100*CM19*$CD19 -> 0.25941818 | DR19: =$C$6/100*CN19*$CD19 -> 0.34571228 | DS19: =$C$6/100*CO19*$CD19 -> 0.39135426 | DT19: =$C$6/100*CP19*$CD19 -> 0.41492108 | ... EO19: =$C$6/100*DK19*$CD19 -> 0.43999789 | EQ19: =DM19+$CA19 -> 1.7318571 | ER19: =DN19+$CA19 -> 1.7318571 | ES19: =DO19+$CA19 -> 1.7318571 | ET19: =DP19+$CA19 -> 1.8355782 | EU19: =DQ19+$CA19 -> 1.9912753 | EV19: =DR19+$CA19 -> 2.0775694 | EW19: =DS19+$CA19 -> 2.1232113 | EX19: =DT19+$CA19 -> 2.1467781 | ... FS19: =EO19+$CA19 -> 2.171855 | FU19: =300*EQ19*AR19 -> 0 | FV19: =300*ER19*AS19 -> 628.64124 | FW19: =300*ES19*AT19 -> 1702.8907 | FX19: =300*ET19*AU19 -> 3167.868 | FY19: =300*EU19*AV19 -> 5051.4708 | FZ19: =300*EV19*AW19 -> 7031.3468 | GA19: =300*EW19*AX19 -> 9018.5744 | GB19: =300*EX19*AY19 -> 10973.875 | ... GW19: =300*FS19*BT19 -> 37689
A20: 16 | B20: =IF(AND($GZ$5>12, $GZ$5<19), A20*5-5, "") -> 75 | D20: M-2 | H20: =$C$6 -> 55 | J20: 0.8 | K20: 50 | L20: =IF('Graph-Settings'!$I$6='Graph-Settings'!$C$46, K20, 'Graph-Settings'!$I$6) -> 50 | M20: =EXP(50*LN($J20)*(1/$L20-1/$K20)) -> 1 | N20: =($H20/100*N$6)+((100-$H20)/100*N$13) -> 0 | O20: =($H20/100*O$6)+((100-$H20)/100*O$13) -> 1.1015995 | P20: =($H20/100*P$6)+((100-$H20)/100*P$13) -> 2.963788 | Q20: =($H20/100*Q$6)+((100-$H20)/100*Q$13) -> 5.1789627 | R20: =($H20/100*R$6)+((100-$H20)/100*R$13) -> 7.5867314 | S20: =($H20/100*S$6)+((100-$H20)/100*S$13) -> 10.093036 | T20: =($H20/100*T$6)+((100-$H20)/100*T$13) -> 12.636242 | U20: =($H20/100*U$6)+((100-$H20)/100*U$13) -> 15.173892 | ... AP20: =($H20/100*AP$6)+((100-$H20)/100*AP$13) -> 50.243495 | AR20: =$M20*N20 -> 0 | AS20: =$M20*O20 -> 1.1015995 | AT20: =$M20*P20 -> 2.963788 | AU20: =$M20*Q20 -> 5.1789627 | AV20: =$M20*R20 -> 7.5867314 | AW20: =$M20*S20 -> 10.093036 | AX20: =$M20*T20 -> 12.636242 | AY20: =$M20*U20 -> 15.173892 | ... BT20: =$M20*AP20 -> 50.243495 | BW20: M2 | CA20: =($C$6/100*$CA$6)+((100-$C$6)/100*$CA$12) -> 1.7318571 | CC20: 6 | CD20: 0.8 | CE20: =0.001*CC20^1.5*(460+25.9*$CC$1)^1.5 -> 2381.5836 | CF20: =CE20/(300*CA20) -> 4.5838726 | CI20: =IF(1-EXP(-0.23*(AR20-$CF20))<0, 0, 1-EXP(-0.23*(AR20-$CF20))) -> 0 | CJ20: =IF(1-EXP(-0.23*(AS20-$CF20))<0, 0, 1-EXP(-0.23*(AS20-$CF20))) -> 0 | CK20: =IF(1-EXP(-0.23*(AT20-$CF20))<0, 0, 1-EXP(-0.23*(AT20-$CF20))) -> 0 | CL20: =IF(1-EXP(-0.23*(AU20-$CF20))<0, 0, 1-EXP(-0.23*(AU20-$CF20))) -> 0.12791704 | CM20: =IF(1-EXP(-0.23*(AV20-$CF20))<0, 0, 1-EXP(-0.23*(AV20-$CF20))) -> 0.49875363 | CN20: =IF(1-EXP(-0.23*(AW20-$CF20))<0, 0, 1-EXP(-0.23*(AW20-$CF20))) -> 0.71835493 | CO20: =IF(1-EXP(-0.23*(AX20-$CF20))<0, 0, 1-EXP(-0.23*(AX20-$CF20))) -> 0.84308403 | CP20: =IF(1-EXP(-0.23*(AY20-$CF20))<0, 0, 1-EXP(-0.23*(AY20-$CF20))) -> 0.91246393 | ... DK20: =IF(1-EXP(-0.23*(BT20-$CF20))<0, 0, 1-EXP(-0.23*(BT20-$CF20))) -> 0.99997251 | DM20: =$C$6/100*CI20*$CD20 -> 0 | DN20: =$C$6/100*CJ20*$CD20 -> 0 | DO20: =$C$6/100*CK20*$CD20 -> 0 | DP20: =$C$6/100*CL20*$CD20 -> 0.056283499 | DQ20: =$C$6/100*CM20*$CD20 -> 0.2194516 | DR20: =$C$6/100*CN20*$CD20 -> 0.31607617 | DS20: =$C$6/100*CO20*$CD20 -> 0.37095697 | DT20: =$C$6/100*CP20*$CD20 -> 0.40148413 | ... EO20: =$C$6/100*DK20*$CD20 -> 0.4399879 | EQ20: =DM20+$CA20 -> 1.7318571 | ER20: =DN20+$CA20 -> 1.7318571 | ES20: =DO20+$CA20 -> 1.7318571 | ET20: =DP20+$CA20 -> 1.7881406 | EU20: =DQ20+$CA20 -> 1.9513087 | EV20: =DR20+$CA20 -> 2.0479332 | EW20: =DS20+$CA20 -> 2.102814 | EX20: =DT20+$CA20 -> 2.1333412 | ... FS20: =EO20+$CA20 -> 2.171845 | FU20: =300*EQ20*AR20 -> 0 | FV20: =300*ER20*AS20 -> 572.34388 | FW20: =300*ES20*AT20 -> 1539.8572 | FX20: =300*ET20*AU20 -> 2778.214 | FY20: =300*EU20*AV20 -> 4441.2164 | FZ20: =300*EV20*AW20 -> 6200.9592 | GA20: =300*EW20*AX20 -> 7971.4999 | GB20: =300*EX20*AY20 -> 9711.3264 | ... GW20: =300*FS20*BT20 -> 32736.325
A21: 17 | B21: =IF(AND($GZ$5>12, $GZ$5<19), A21*5-5, "") -> 80 | D21: M-3 | E21: 120 | F21: 0.0572 | G21: 1.4 | H21: =$C$6 -> 55 | J21: 0.8 | K21: 50 | L21: =IF('Graph-Settings'!$I$6='Graph-Settings'!$C$46, K21, 'Graph-Settings'!$I$6) -> 50 | M21: =EXP(50*LN($J21)*(1/$L21-1/$K21)) -> 1 | N21: =$H21/100*(($E21*(1-EXP(-$F21*N$4))^$G21)) + ((100-$H21)/100*N12) -> 0 | O21: =$H21/100*(($E21*(1-EXP(-$F21*O$4))^$G21)) + ((100-$H21)/100*O12) -> 4.0624326 | P21: =$H21/100*(($E21*(1-EXP(-$F21*P$4))^$G21)) + ((100-$H21)/100*P12) -> 9.8020639 | Q21: =$H21/100*(($E21*(1-EXP(-$F21*Q$4))^$G21)) + ((100-$H21)/100*Q12) -> 15.825674 | R21: =$H21/100*(($E21*(1-EXP(-$F21*R$4))^$G21)) + ((100-$H21)/100*R12) -> 21.70586 | S21: =$H21/100*(($E21*(1-EXP(-$F21*S$4))^$G21)) + ((100-$H21)/100*S12) -> 27.254829 | T21: =$H21/100*(($E21*(1-EXP(-$F21*T$4))^$G21)) + ((100-$H21)/100*T12) -> 32.390843 | U21: =$H21/100*(($E21*(1-EXP(-$F21*U$4))^$G21)) + ((100-$H21)/100*U12) -> 37.08676 | ... AP21: =$H21/100*(($E21*(1-EXP(-$F21*AP$4))^$G21)) + ((100-$H21)/100*AP12) -> 73.821897 | AR21: =$M21*N21 -> 0 | AS21: =$M21*O21 -> 4.0624326 | AT21: =$M21*P21 -> 9.8020639 | AU21: =$M21*Q21 -> 15.825674 | AV21: =$M21*R21 -> 21.70586 | AW21: =$M21*S21 -> 27.254829 | AX21: =$M21*T21 -> 32.390843 | AY21: =$M21*U21 -> 37.08676 | ... BT21: =$M21*AP21 -> 73.821897 | BW21: M3 | CA21: =5*(1-EXP(-0.0115*L21)) -> 2.1864757 | CC21: 6 | CD21: 0.8 | CE21: =0.001*CC21^1.5*(460+25.9*$CC$1)^1.5 -> 2381.5836 | CF21: =CE21/(300*CA21) -> 3.63078 | CI21: =IF(1-EXP(-0.23*(AR21-$CF21))<0, 0, 1-EXP(-0.23*(AR21-$CF21))) -> 0 | CJ21: =IF(1-EXP(-0.23*(AS21-$CF21))<0, 0, 1-EXP(-0.23*(AS21-$CF21))) -> 0.094510955 | CK21: =IF(1-EXP(-0.23*(AT21-$CF21))<0, 0, 1-EXP(-0.23*(AT21-$CF21))) -> 0.75813977 | CL21: =IF(1-EXP(-0.23*(AU21-$CF21))<0, 0, 1-EXP(-0.23*(AU21-$CF21))) -> 0.93948268 | CM21: =IF(1-EXP(-0.23*(AV21-$CF21))<0, 0, 1-EXP(-0.23*(AV21-$CF21))) -> 0.98434975 | CN21: =IF(1-EXP(-0.23*(AW21-$CF21))<0, 0, 1-EXP(-0.23*(AW21-$CF21))) -> 0.99563236 | CO21: =IF(1-EXP(-0.23*(AX21-$CF21))<0, 0, 1-EXP(-0.23*(AX21-$CF21))) -> 0.99865964 | CP21: =IF(1-EXP(-0.23*(AY21-$CF21))<0, 0, 1-EXP(-0.23*(AY21-$CF21))) -> 0.99954485 | ... DK21: =IF(1-EXP(-0.23*(BT21-$CF21))<0, 0, 1-EXP(-0.23*(BT21-$CF21))) -> 0.9999999 | DM21: =CI21*$CD21 -> 0 | DN21: =CJ21*$CD21 -> 0.075608764 | DO21: =CK21*$CD21 -> 0.60651182 | DP21: =CL21*$CD21 -> 0.75158614 | DQ21: =CM21*$CD21 -> 0.7874798 | DR21: =CN21*$CD21 -> 0.79650588 | DS21: =CO21*$CD21 -> 0.79892771 | DT21: =CP21*$CD21 -> 0.79963588 | ... EO21: =DK21*$CD21 -> 0.79999992 | EQ21: =DM21+$CA21 -> 2.1864757 | ER21: =DN21+$CA21 -> 2.2620844 | ES21: =DO21+$CA21 -> 2.7929875 | ET21: =DP21+$CA21 -> 2.9380618 | EU21: =DQ21+$CA21 -> 2.9739555 | EV21: =DR21+$CA21 -> 2.9829815 | EW21: =DS21+$CA21 -> 2.9854034 | EX21: =DT21+$CA21 -> 2.9861115 | ... FS21: =EO21+$CA21 -> 2.9864756 | FU21: =300*EQ21*AR21 -> 0 | FV21: =300*ER21*AS21 -> 2756.8697 | FW21: =300*ES21*AT21 -> 8213.1125 | FX21: =300*ET21*AU21 -> 13949.043 | FY21: =300*EU21*AV21 -> 19365.678 | FZ21: =300*EV21*AW21 -> 24390.196 | GA21: =300*EW21*AX21 -> 29009.92 | GB21: =300*EX21*AY21 -> 33223.561 | ... GW21: =300*FS21*BT21 -> 66140.188
A22: 18 | B22: =IF(AND($GZ$5>12, $GZ$5<19), A22*5-5, "") -> 85 | D22: M-4 | E22: 100 | F22: 0.0404 | G22: 1.48 | H22: =$C$6 -> 55 | J22: 0.8 | K22: 50 | L22: =IF('Graph-Settings'!$I$6='Graph-Settings'!$C$46, K22, 'Graph-Settings'!$I$6) -> 50 | M22: =EXP(50*LN($J22)*(1/$L22-1/$K22)) -> 1 | N22: =$H22/100*(($E22*(1-EXP(-$F22*N$4))^$G22)) + ((100-$H22)/100*N13) -> 0 | O22: =$H22/100*(($E22*(1-EXP(-$F22*O$4))^$G22)) + ((100-$H22)/100*O13) -> 1.7433066 | P22: =$H22/100*(($E22*(1-EXP(-$F22*P$4))^$G22)) + ((100-$H22)/100*P13) -> 4.5294401 | Q22: =$H22/100*(($E22*(1-EXP(-$F22*Q$4))^$G22)) + ((100-$H22)/100*Q13) -> 7.6939637 | R22: =$H22/100*(($E22*(1-EXP(-$F22*R$4))^$G22)) + ((100-$H22)/100*R13) -> 10.990294 | S22: =$H22/100*(($E22*(1-EXP(-$F22*S$4))^$G22)) + ((100-$H22)/100*S13) -> 14.285017 | T22: =$H22/100*(($E22*(1-EXP(-$F22*T$4))^$G22)) + ((100-$H22)/100*T13) -> 17.499377 | U22: =$H22/100*(($E22*(1-EXP(-$F22*U$4))^$G22)) + ((100-$H22)/100*U13) -> 20.58601 | ... AP22: =$H22/100*(($E22*(1-EXP(-$F22*AP$4))^$G22)) + ((100-$H22)/100*AP13) -> 52.156027 | AR22: =$M22*N22 -> 0 | AS22: =$M22*O22 -> 1.7433066 | AT22: =$M22*P22 -> 4.5294401 | AU22: =$M22*Q22 -> 7.6939637 | AV22: =$M22*R22 -> 10.990294 | AW22: =$M22*S22 -> 14.285017 | AX22: =$M22*T22 -> 17.499377 | AY22: =$M22*U22 -> 20.58601 | ... BT22: =$M22*AP22 -> 52.156027 | BW22: M4 | CA22: =5*(1-EXP(-0.0115*L21)) -> 2.1864757 | CC22: 6 | CD22: 0.8 | CE22: =0.001*CC22^1.5*(460+25.9*$CC$1)^1.5 -> 2381.5836 | CF22: =CE22/(300*CA22) -> 3.63078 | CI22: =IF(1-EXP(-0.23*(AR22-$CF22))<0, 0, 1-EXP(-0.23*(AR22-$CF22))) -> 0 | CJ22: =IF(1-EXP(-0.23*(AS22-$CF22))<0, 0, 1-EXP(-0.23*(AS22-$CF22))) -> 0 | CK22: =IF(1-EXP(-0.23*(AT22-$CF22))<0, 0, 1-EXP(-0.23*(AT22-$CF22))) -> 0.18672976 | CL22: =IF(1-EXP(-0.23*(AU22-$CF22))<0, 0, 1-EXP(-0.23*(AU22-$CF22))) -> 0.60723046 | CM22: =IF(1-EXP(-0.23*(AV22-$CF22))<0, 0, 1-EXP(-0.23*(AV22-$CF22))) -> 0.81597585 | CN22: =IF(1-EXP(-0.23*(AW22-$CF22))<0, 0, 1-EXP(-0.23*(AW22-$CF22))) -> 0.91374735 | CO22: =IF(1-EXP(-0.23*(AX22-$CF22))<0, 0, 1-EXP(-0.23*(AX22-$CF22))) -> 0.95881896 | CP22: =IF(1-EXP(-0.23*(AY22-$CF22))<0, 0, 1-EXP(-0.23*(AY22-$CF22))) -> 0.97975207 | ... DK22: =IF(1-EXP(-0.23*(BT22-$CF22))<0, 0, 1-EXP(-0.23*(BT22-$CF22))) -> 0.99998578 | DM22: =CI22*$CD22 -> 0 | DN22: =CJ22*$CD22 -> 0 | DO22: =CK22*$CD22 -> 0.14938381 | DP22: =CL22*$CD22 -> 0.48578437 | DQ22: =CM22*$CD22 -> 0.65278068 | DR22: =CN22*$CD22 -> 0.73099788 | DS22: =CO22*$CD22 -> 0.76705517 | DT22: =CP22*$CD22 -> 0.78380166 | ... EO22: =DK22*$CD22 -> 0.79998862 | EQ22: =DM22+$CA22 -> 2.1864757 | ER22: =DN22+$CA22 -> 2.1864757 | ES22: =DO22+$CA22 -> 2.3358595 | ET22: =DP22+$CA22 -> 2.67226 | EU22: =DQ22+$CA22 -> 2.8392563 | EV22: =DR22+$CA22 -> 2.9174735 | EW22: =DS22+$CA22 -> 2.9535308 | EX22: =DT22+$CA22 -> 2.9702773 | ... FS22: =EO22+$CA22 -> 2.9864643 | FU22: =300*EQ22*AR22 -> 0 | FV22: =300*ER22*AS22 -> 1143.5092 | FW22: =300*ES22*AT22 -> 3174.0407 | FX22: =300*ET22*AU22 -> 6168.0815 | FY22: =300*EU22*AV22 -> 9361.2787 | FZ22: =300*EV22*AW22 -> 12502.848 | GA22: =300*EW22*AX22 -> 15505.485 | GB22: =300*EX22*AY22 -> 18343.847 | ... GW22: =300*FS22*BT22 -> 46728.634
A23: 19 | B23: =IF(AND($GZ$5>12, $GZ$5<19), A23*5-5, "") -> 90 | D23: None
A24: 20 | B24: =IF(AND($GZ$5>12, $GZ$5<19), A24*5-5, "") -> 95 | D24: C-6 (surf.) | E24: 30 | F24: 0.08 | G24: 3 | J24: 0.8 | K24: 62 | L24: =IF('Graph-Settings'!$I$6='Graph-Settings'!$C$46, K24, 'Graph-Settings'!$I$6) -> 62 | M24: =EXP(50*LN($J24)*(1/$L24-1/$K24)) -> 1 | N24: =$E24*(1-EXP(-$F24*N$4))^$G24 -> 0 | O24: =$E24*(1-EXP(-$F24*O$4))^$G24 -> 0.17868728 | P24: =$E24*(1-EXP(-$F24*P$4))^$G24 -> 1.0749763 | Q24: =$E24*(1-EXP(-$F24*Q$4))^$G24 -> 2.7554652 | R24: =$E24*(1-EXP(-$F24*R$4))^$G24 -> 5.0095413 | S24: =$E24*(1-EXP(-$F24*S$4))^$G24 -> 7.5774137 | T24: =$E24*(1-EXP(-$F24*T$4))^$G24 -> 10.237425 | U24: =$E24*(1-EXP(-$F24*U$4))^$G24 -> 12.829312 | ... AP24: =$E24*(1-EXP(-$F24*AP$4))^$G24 -> 29.668421 | AQ24: RSS: | AR24: =$M24*N24 -> 0 | AS24: =$M24*O24 -> 0.17868728 | AT24: =$M24*P24 -> 1.0749763 | AU24: =$M24*Q24 -> 2.7554652 | AV24: =$M24*R24 -> 5.0095413 | AW24: =$M24*S24 -> 7.5774137 | AX24: =$M24*T24 -> 10.237425 | AY24: =$M24*U24 -> 12.829312 | ... BT24: =$M24*AP24 -> 29.668421
A25: 21 | B25: =IF(AND($GZ$5>12, $GZ$5<19), A25*5-5, "") -> 100 | D25: C-6 (crown) | E25: 60 | F25: 0.0497 | G25: 1 | N25: =$E25*(1-EXP(-$F25*N$4))^$G25 -> 0 | O25: =$E25*(1-EXP(-$F25*O$4))^$G25 -> 7.0104586 | P25: =$E25*(1-EXP(-$F25*P$4))^$G25 -> 13.201808 | Q25: =$E25*(1-EXP(-$F25*Q$4))^$G25 -> 18.669755 | R25: =$E25*(1-EXP(-$F25*R$4))^$G25 -> 23.498821 | S25: =$E25*(1-EXP(-$F25*S$4))^$G25 -> 27.763654 | T25: =$E25*(1-EXP(-$F25*T$4))^$G25 -> 31.53018 | U25: =$E25*(1-EXP(-$F25*U$4))^$G25 -> 34.856622 | ... AP25: =$E25*(1-EXP(-$F25*AP$4))^$G25 -> 58.149706 | AQ25: RSC: | AR25: =N25*($CG$10/0.778237) -> 0 | AS25: =O25*($CG$10/0.778237) -> 7.0104583 | AT25: =P25*($CG$10/0.778237) -> 13.201808 | AU25: =Q25*($CG$10/0.778237) -> 18.669754 | AV25: =R25*($CG$10/0.778237) -> 23.49882 | AW25: =S25*($CG$10/0.778237) -> 27.763653 | AX25: =T25*($CG$10/0.778237) -> 31.530179 | AY25: =U25*($CG$10/0.778237) -> 34.85662 | ... BT25: =AP25*($CG$10/0.778237) -> 58.149703
A26: 22
A27: 23 | M27: Wind Spd | N27: 0 | O27: 2.5 | P27: 5 | Q27: 7.5 | R27: 10 | S27: 12.5 | T27: 15 | U27: 17.5 | V27: 20 | W27: 22.5 | X27: 25 | Y27: 27.5 | Z27: 30 | AA27: 32.5 | AB27: 35 | AC27: 37.5 | AD27: 40 | AE27: 42.5 | AF27: 45 | AG27: 47.5 | AH27: 50 | AI27: 52.5 | AJ27: 55 | AK27: 57.5 | AL27: 60 | AM27: 62.5 | AN27: 65 | AO27: 67.5 | AP27: 70
A28: 24 | M28: m | N28: =101-BY28 -> 10 | AR28: 1 | AS28: 2 | AT28: 3 | AU28: 4 | AV28: 5 | AW28: 6 | AX28: 7 | AY28: 8 | AZ28: 9 | BA28: 10 | BB28: 11 | BC28: 12 | BD28: 13 | BE28: 14 | BF28: 15 | BG28: 16 | BH28: 17 | BI28: 18 | BJ28: 19 | BK28: 20 | BL28: 21 | BM28: 22 | BN28: 23 | BO28: 24 | BP28: 25 | BQ28: 26 | BR28: 27 | BS28: 28 | BT28: 29 | BX28: FFMC = | BY28: =BY1 -> 91 | BZ28: BUI = | CA28: =CA1 -> Std/No ROS effect | CB28: FMC= | CC28: =CC1 -> 97 | CD28: GFL= | CE28: =CE1 -> 3.5 | CF28: C6 CBH: | CG28: =CG1 -> 6 | FT28: Index: | FU28: 1 | FV28: 2 | FW28: 3 | FX28: 4 | FY28: 5 | FZ28: 6 | GA28: 7 | GB28: 8 | GC28: 9 | GD28: 10 | GE28: 11 | GF28: 12 | GG28: 13 | GH28: 14 | GI28: 15 | GJ28: 16 | GK28: 17 | GL28: 18 | GM28: 19 | GN28: 20 | GO28: 21 | GP28: 22 | GQ28: 23 | GR28: 24 | GS28: 25 | GT28: 26 | GU28: 27 | GV28: 28 | GW28: 29
A29: 25 | M29: ISI | N29: =0.208*EXP(0.05039*N27)*91.9*(EXP(-0.1386*$N$28)*(1+($N$28^5.31/(4.93*10^7)))) -> 4.8000039 | O29: =0.208*EXP(0.05039*O27)*91.9*(EXP(-0.1386*$N$28)*(1+($N$28^5.31/(4.93*10^7)))) -> 5.4444227 | P29: =0.208*EXP(0.05039*P27)*91.9*(EXP(-0.1386*$N$28)*(1+($N$28^5.31/(4.93*10^7)))) -> 6.1753572 | Q29: =0.208*EXP(0.05039*Q27)*91.9*(EXP(-0.1386*$N$28)*(1+($N$28^5.31/(4.93*10^7)))) -> 7.0044225 | R29: =0.208*EXP(0.05039*R27)*91.9*(EXP(-0.1386*$N$28)*(1+($N$28^5.31/(4.93*10^7)))) -> 7.9447929 | S29: =0.208*EXP(0.05039*S27)*91.9*(EXP(-0.1386*$N$28)*(1+($N$28^5.31/(4.93*10^7)))) -> 9.0114116 | T29: =0.208*EXP(0.05039*T27)*91.9*(EXP(-0.1386*$N$28)*(1+($N$28^5.31/(4.93*10^7)))) -> 10.221228 | U29: =0.208*EXP(0.05039*U27)*91.9*(EXP(-0.1386*$N$28)*(1+($N$28^5.31/(4.93*10^7)))) -> 11.593467 | ... AD29: =0.208*EXP(0.05039*AD27)*91.9*(EXP(-0.1386*$N$28)*(1+($N$28^5.31/(4.93*10^7)))) -> 36.025129 | AE29: =0.208*12*(1-EXP(-0.0818*(AE27-28)))*91.9*(EXP(-0.1386*$N$28)*(1+($N$28^5.31/(4.93*10^7)))) -> 40.008414 | AF29: =0.208*12*(1-EXP(-0.0818*(AF27-28)))*91.9*(EXP(-0.1386*$N$28)*(1+($N$28^5.31/(4.93*10^7)))) -> 43.261903 | AG29: =0.208*12*(1-EXP(-0.0818*(AG27-28)))*91.9*(EXP(-0.1386*$N$28)*(1+($N$28^5.31/(4.93*10^7)))) -> 45.913675 | AH29: =0.208*12*(1-EXP(-0.0818*(AH27-28)))*91.9*(EXP(-0.1386*$N$28)*(1+($N$28^5.31/(4.93*10^7)))) -> 48.075014 | AI29: =0.208*12*(1-EXP(-0.0818*(AI27-28)))*91.9*(EXP(-0.1386*$N$28)*(1+($N$28^5.31/(4.93*10^7)))) -> 49.836624 | AJ29: =0.208*12*(1-EXP(-0.0818*(AJ27-28)))*91.9*(EXP(-0.1386*$N$28)*(1+($N$28^5.31/(4.93*10^7)))) -> 51.272432 | AK29: =0.208*12*(1-EXP(-0.0818*(AK27-28)))*91.9*(EXP(-0.1386*$N$28)*(1+($N$28^5.31/(4.93*10^7)))) -> 52.442694 | AL29: =0.208*12*(1-EXP(-0.0818*(AL27-28)))*91.9*(EXP(-0.1386*$N$28)*(1+($N$28^5.31/(4.93*10^7)))) -> 53.396522 | ... AP29: =0.208*12*(1-EXP(-0.0818*(AP27-28)))*91.9*(EXP(-0.1386*$N$28)*(1+($N$28^5.31/(4.93*10^7)))) -> 55.744975
A30: 26 | I30: Curing | N30: RSI | AR30: ROS | CI30: CFB: | DM30: CFC: | EQ30: TFC: | FU30: HFI:
A31: 27 | D31: Fuel Type | E31: a | F31: b | G31: c | H31: %C, %c or %DF | I31: factor | J31: q | K31: BUIo | L31: Actual BUI | M31: BE | N31: =N29 -> 4.8000039 | O31: =O29 -> 5.4444227 | P31: =P29 -> 6.1753572 | Q31: =Q29 -> 7.0044225 | R31: =R29 -> 7.9447929 | S31: =S29 -> 9.0114116 | T31: =T29 -> 10.221228 | U31: =U29 -> 11.593467 | ... AP31: =AP29 -> 55.744975 | AR31: =N31 -> 4.8000039 | AS31: =O31 -> 5.4444227 | AT31: =P31 -> 6.1753572 | AU31: =Q31 -> 7.0044225 | AV31: =R31 -> 7.9447929 | AW31: =S31 -> 9.0114116 | AX31: =T31 -> 10.221228 | AY31: =U31 -> 11.593467 | ... BT31: =AP31 -> 55.744975 | BY31: FFC | BZ31: WFC | CA31: SFC | CC31: CBH | CD31: CFL | CE31: CSI | CF31: RSo | CG31: FME | CI31: =N31 -> 4.8000039 | CJ31: =O31 -> 5.4444227 | CK31: =P31 -> 6.1753572 | CL31: =Q31 -> 7.0044225 | CM31: =R31 -> 7.9447929 | CN31: =S31 -> 9.0114116 | CO31: =T31 -> 10.221228 | CP31: =U31 -> 11.593467 | ... DK31: =AP31 -> 55.744975 | DM31: =N31 -> 4.8000039 | DN31: =O31 -> 5.4444227 | DO31: =P31 -> 6.1753572 | DP31: =Q31 -> 7.0044225 | DQ31: =R31 -> 7.9447929 | DR31: =S31 -> 9.0114116 | DS31: =T31 -> 10.221228 | DT31: =U31 -> 11.593467 | ... EO31: =AP31 -> 55.744975 | EQ31: =N31 -> 4.8000039 | ER31: =O31 -> 5.4444227 | ES31: =P31 -> 6.1753572 | ET31: =Q31 -> 7.0044225 | EU31: =R31 -> 7.9447929 | EV31: =S31 -> 9.0114116 | EW31: =T31 -> 10.221228 | EX31: =U31 -> 11.593467 | ... FS31: =AP31 -> 55.744975 | FU31: =N31 -> 4.8000039 | FV31: =O31 -> 5.4444227 | FW31: =P31 -> 6.1753572 | FX31: =Q31 -> 7.0044225 | FY31: =R31 -> 7.9447929 | FZ31: =S31 -> 9.0114116 | GA31: =T31 -> 10.221228 | GB31: =U31 -> 11.593467 | ... GW31: =AP31 -> 55.744975
A32: 28 | D32: C-1 | E32: 90 | F32: 0.0649 | G32: 4.5 | J32: 0.9 | K32: 72 | L32: =IF('Graph-Settings'!$I$6='Graph-Settings'!$C$46, K32, 'Graph-Settings'!$I$6) -> 72 | M32: =EXP(50*LN($J32)*(1/$L32-1/$K32)) -> 1 | N32: =$E32*(1-EXP(-$F32*N$31))^$G32 -> 0.23901264 | O32: =$E32*(1-EXP(-$F32*O$31))^$G32 -> 0.38548674 | P32: =$E32*(1-EXP(-$F32*P$31))^$G32 -> 0.61483336 | Q32: =$E32*(1-EXP(-$F32*Q$31))^$G32 -> 0.96852835 | R32: =$E32*(1-EXP(-$F32*R$31))^$G32 -> 1.5047866 | S32: =$E32*(1-EXP(-$F32*S$31))^$G32 -> 2.3025036 | T32: =$E32*(1-EXP(-$F32*T$31))^$G32 -> 3.4641884 | U32: =$E32*(1-EXP(-$F32*U$31))^$G32 -> 5.1162924 | ... AP32: =$E32*(1-EXP(-$F32*AP$31))^$G32 -> 79.628939 | AR32: =$M32*N32 -> 0.23901264 | AS32: =$M32*O32 -> 0.38548674 | AT32: =$M32*P32 -> 0.61483336 | AU32: =$M32*Q32 -> 0.96852835 | AV32: =$M32*R32 -> 1.5047866 | AW32: =$M32*S32 -> 2.3025036 | AX32: =$M32*T32 -> 3.4641884 | AY32: =$M32*U32 -> 5.1162924 | ... BT32: =$M32*AP32 -> 79.628939 | BW32: C-1 | CA32: =IF(BY28>84, 0.75+0.75*(1-EXP(-0.23*(BY28-84)))^0.5, 0.75-0.75*(1-EXP(0.23*(BY28-84)))^0.5) -> 1.4208675 | CC32: 2 | CD32: 0.75 | CE32: =0.001*CC32^1.5*(460+25.9*$CC$1)^1.5 -> 458.33598 | CF32: =CE32/(300*CA32) -> 1.0752492 | CI32: =IF(1-EXP(-0.23*(AR32-$CF32))<0, 0, 1-EXP(-0.23*(AR32-$CF32))) -> 0 | CJ32: =IF(1-EXP(-0.23*(AS32-$CF32))<0, 0, 1-EXP(-0.23*(AS32-$CF32))) -> 0 | CK32: =IF(1-EXP(-0.23*(AT32-$CF32))<0, 0, 1-EXP(-0.23*(AT32-$CF32))) -> 0 | CL32: =IF(1-EXP(-0.23*(AU32-$CF32))<0, 0, 1-EXP(-0.23*(AU32-$CF32))) -> 0 | CM32: =IF(1-EXP(-0.23*(AV32-$CF32))<0, 0, 1-EXP(-0.23*(AV32-$CF32))) -> 0.094070334 | CN32: =IF(1-EXP(-0.23*(AW32-$CF32))<0, 0, 1-EXP(-0.23*(AW32-$CF32))) -> 0.24592883 | CO32: =IF(1-EXP(-0.23*(AX32-$CF32))<0, 0, 1-EXP(-0.23*(AX32-$CF32))) -> 0.42273626 | CP32: =IF(1-EXP(-0.23*(AY32-$CF32))<0, 0, 1-EXP(-0.23*(AY32-$CF32))) -> 0.60522526 | ... DK32: =IF(1-EXP(-0.23*(BT32-$CF32))<0, 0, 1-EXP(-0.23*(BT32-$CF32))) -> 0.99999999 | DM32: =CI32*$CD32 -> 0 | DN32: =CJ32*$CD32 -> 0 | DO32: =CK32*$CD32 -> 0 | DP32: =CL32*$CD32 -> 0 | DQ32: =CM32*$CD32 -> 0.070552751 | DR32: =CN32*$CD32 -> 0.18444662 | DS32: =CO32*$CD32 -> 0.3170522 | DT32: =CP32*$CD32 -> 0.45391894 | ... EO32: =DK32*$CD32 -> 0.74999999 | EQ32: =DM32+$CA32 -> 1.4208675 | ER32: =DN32+$CA32 -> 1.4208675 | ES32: =DO32+$CA32 -> 1.4208675 | ET32: =DP32+$CA32 -> 1.4208675 | EU32: =DQ32+$CA32 -> 1.4914203 | EV32: =DR32+$CA32 -> 1.6053141 | EW32: =DS32+$CA32 -> 1.7379197 | EX32: =DT32+$CA32 -> 1.8747865 | ... FS32: =EO32+$CA32 -> 2.1708675 | FU32: =300*EQ32*AR32 -> 101.88159 | FV32: =300*ER32*AS32 -> 164.31767 | FW32: =300*ES32*AT32 -> 262.07902 | FX32: =300*ET32*AU32 -> 412.84514 | FY32: =300*EU32*AV32 -> 673.28077 | FZ32: =300*EV32*AW32 -> 1108.8725 | GA32: =300*EW32*AX32 -> 1806.1444 | GB32: =300*EX32*AY32 -> 2877.5867 | ... GW32: =300*FS32*BT32 -> 51859.163
A33: 29 | D33: C-2 | E33: 110 | F33: 0.0282 | G33: 1.5 | J33: 0.7 | K33: 64 | L33: =IF('Graph-Settings'!$I$6='Graph-Settings'!$C$46, K33, 'Graph-Settings'!$I$6) -> 64 | M33: =EXP(50*LN($J33)*(1/$L33-1/$K33)) -> 1 | N33: =$E33*(1-EXP(-$F33*N$31))^$G33 -> 4.9549169 | O33: =$E33*(1-EXP(-$F33*O$31))^$G33 -> 5.9064292 | P33: =$E33*(1-EXP(-$F33*P$31))^$G33 -> 7.0284531 | Q33: =$E33*(1-EXP(-$F33*Q$31))^$G33 -> 8.3472921 | R33: =$E33*(1-EXP(-$F33*R$31))^$G33 -> 9.8918288 | S33: =$E33*(1-EXP(-$F33*S$31))^$G33 -> 11.693237 | T33: =$E33*(1-EXP(-$F33*T$31))^$G33 -> 13.784442 | U33: =$E33*(1-EXP(-$F33*U$31))^$G33 -> 16.199262 | ... AP33: =$E33*(1-EXP(-$F33*AP$31))^$G33 -> 77.586568 | AR33: =$M33*N33 -> 4.9549169 | AS33: =$M33*O33 -> 5.9064292 | AT33: =$M33*P33 -> 7.0284531 | AU33: =$M33*Q33 -> 8.3472921 | AV33: =$M33*R33 -> 9.8918288 | AW33: =$M33*S33 -> 11.693237 | AX33: =$M33*T33 -> 13.784442 | AY33: =$M33*U33 -> 16.199262 | ... BT33: =$M33*AP33 -> 77.586568 | BW33: C-2 | CA33: =5*(1-EXP(-0.0115*L33)) -> 2.604869 | CC33: 3 | CD33: 0.8 | CE33: =0.001*CC33^1.5*(460+25.9*$CC$1)^1.5 -> 842.01697 | CF33: =CE33/(300*CA33) -> 1.0774911 | CI33: =IF(1-EXP(-0.23*(AR33-$CF33))<0, 0, 1-EXP(-0.23*(AR33-$CF33))) -> 0.59008602 | CJ33: =IF(1-EXP(-0.23*(AS33-$CF33))<0, 0, 1-EXP(-0.23*(AS33-$CF33))) -> 0.67065708 | CK33: =IF(1-EXP(-0.23*(AT33-$CF33))<0, 0, 1-EXP(-0.23*(AT33-$CF33))) -> 0.74556789 | CL33: =IF(1-EXP(-0.23*(AU33-$CF33))<0, 0, 1-EXP(-0.23*(AU33-$CF33))) -> 0.81213924 | CM33: =IF(1-EXP(-0.23*(AV33-$CF33))<0, 0, 1-EXP(-0.23*(AV33-$CF33))) -> 0.86830909 | CN33: =IF(1-EXP(-0.23*(AW33-$CF33))<0, 0, 1-EXP(-0.23*(AW33-$CF33))) -> 0.91298036 | CO33: =IF(1-EXP(-0.23*(AX33-$CF33))<0, 0, 1-EXP(-0.23*(AX33-$CF33))) -> 0.94620629 | CP33: =IF(1-EXP(-0.23*(AY33-$CF33))<0, 0, 1-EXP(-0.23*(AY33-$CF33))) -> 0.96913114 | ... DK33: =IF(1-EXP(-0.23*(BT33-$CF33))<0, 0, 1-EXP(-0.23*(BT33-$CF33))) -> 0.99999998 | DM33: =CI33*$CD33 -> 0.47206881 | DN33: =CJ33*$CD33 -> 0.53652566 | DO33: =CK33*$CD33 -> 0.59645432 | DP33: =CL33*$CD33 -> 0.64971139 | DQ33: =CM33*$CD33 -> 0.69464727 | DR33: =CN33*$CD33 -> 0.73038429 | DS33: =CO33*$CD33 -> 0.75696503 | DT33: =CP33*$CD33 -> 0.77530491 | ... EO33: =DK33*$CD33 -> 0.79999998 | EQ33: =DM33+$CA33 -> 3.0769378 | ER33: =DN33+$CA33 -> 3.1413947 | ES33: =DO33+$CA33 -> 3.2013233 | ET33: =DP33+$CA33 -> 3.2545804 | EU33: =DQ33+$CA33 -> 3.2995163 | EV33: =DR33+$CA33 -> 3.3352533 | EW33: =DS33+$CA33 -> 3.3618341 | EX33: =DT33+$CA33 -> 3.3801739 | ... FS33: =EO33+$CA33 -> 3.404869 | FU33: =300*EQ33*AR33 -> 4573.7914 | FV33: =300*ER33*AS33 -> 5566.3276 | FW33: =300*ES33*AT33 -> 6750.1053 | FX33: =300*ET33*AU33 -> 8150.0801 | FY33: =300*EU33*AV33 -> 9791.4751 | FZ33: =300*EV33*AW33 -> 11699.972 | GA33: =300*EW33*AX33 -> 13902.302 | GB33: =300*EX33*AY33 -> 16426.897 | ... GW33: =300*FS33*BT33 -> 79251.631
A34: 30 | D34: C-3 | E34: 110 | F34: 0.0444 | G34: 3 | J34: 0.75 | K34: 62 | L34: =IF('Graph-Settings'!$I$6='Graph-Settings'!$C$46, K34, 'Graph-Settings'!$I$6) -> 62 | M34: =EXP(50*LN($J34)*(1/$L34-1/$K34)) -> 1 | N34: =$E34*(1-EXP(-$F34*N$31))^$G34 -> 0.77784987 | O34: =$E34*(1-EXP(-$F34*O$31))^$G34 -> 1.0891639 | P34: =$E34*(1-EXP(-$F34*P$31))^$G34 -> 1.5170167 | Q34: =$E34*(1-EXP(-$F34*Q$31))^$G34 -> 2.1004334 | R34: =$E34*(1-EXP(-$F34*R$31))^$G34 -> 2.8889635 | S34: =$E34*(1-EXP(-$F34*S$31))^$G34 -> 3.9441449 | T34: =$E34*(1-EXP(-$F34*T$31))^$G34 -> 5.3403953 | U34: =$E34*(1-EXP(-$F34*U$31))^$G34 -> 7.1648087 | ... AP34: =$E34*(1-EXP(-$F34*AP$31))^$G34 -> 84.499952 | AR34: =$M34*N34 -> 0.77784987 | AS34: =$M34*O34 -> 1.0891639 | AT34: =$M34*P34 -> 1.5170167 | AU34: =$M34*Q34 -> 2.1004334 | AV34: =$M34*R34 -> 2.8889635 | AW34: =$M34*S34 -> 3.9441449 | AX34: =$M34*T34 -> 5.3403953 | AY34: =$M34*U34 -> 7.1648087 | ... BT34: =$M34*AP34 -> 84.499952 | BW34: C-3 | CA34: =5*(1-EXP(-0.0164*L34))^2.24 -> 1.828725 | CC34: 8 | CD34: 1.15 | CE34: =0.001*CC34^1.5*(460+25.9*$CC$1)^1.5 -> 3666.6879 | CF34: =CE34/(300*CA34) -> 6.6835053 | CI34: =IF(1-EXP(-0.23*(AR34-$CF34))<0, 0, 1-EXP(-0.23*(AR34-$CF34))) -> 0 | CJ34: =IF(1-EXP(-0.23*(AS34-$CF34))<0, 0, 1-EXP(-0.23*(AS34-$CF34))) -> 0 | CK34: =IF(1-EXP(-0.23*(AT34-$CF34))<0, 0, 1-EXP(-0.23*(AT34-$CF34))) -> 0 | CL34: =IF(1-EXP(-0.23*(AU34-$CF34))<0, 0, 1-EXP(-0.23*(AU34-$CF34))) -> 0 | CM34: =IF(1-EXP(-0.23*(AV34-$CF34))<0, 0, 1-EXP(-0.23*(AV34-$CF34))) -> 0 | CN34: =IF(1-EXP(-0.23*(AW34-$CF34))<0, 0, 1-EXP(-0.23*(AW34-$CF34))) -> 0 | CO34: =IF(1-EXP(-0.23*(AX34-$CF34))<0, 0, 1-EXP(-0.23*(AX34-$CF34))) -> 0 | CP34: =IF(1-EXP(-0.23*(AY34-$CF34))<0, 0, 1-EXP(-0.23*(AY34-$CF34))) -> 0.10479254 | ... DK34: =IF(1-EXP(-0.23*(BT34-$CF34))<0, 0, 1-EXP(-0.23*(BT34-$CF34))) -> 0.99999998 | DM34: =CI34*$CD34 -> 0 | DN34: =CJ34*$CD34 -> 0 | DO34: =CK34*$CD34 -> 0 | DP34: =CL34*$CD34 -> 0 | DQ34: =CM34*$CD34 -> 0 | DR34: =CN34*$CD34 -> 0 | DS34: =CO34*$CD34 -> 0 | DT34: =CP34*$CD34 -> 0.12051142 | ... EO34: =DK34*$CD34 -> 1.15 | EQ34: =DM34+$CA34 -> 1.828725 | ER34: =DN34+$CA34 -> 1.828725 | ES34: =DO34+$CA34 -> 1.828725 | ET34: =DP34+$CA34 -> 1.828725 | EU34: =DQ34+$CA34 -> 1.828725 | EV34: =DR34+$CA34 -> 1.828725 | EW34: =DS34+$CA34 -> 1.828725 | EX34: =DT34+$CA34 -> 1.9492364 | ... FS34: =EO34+$CA34 -> 2.9787249 | FU34: =300*EQ34*AR34 -> 426.74204 | FV34: =300*ER34*AS34 -> 597.53437 | FW34: =300*ES34*AT34 -> 832.26189 | FX34: =300*ET34*AU34 -> 1152.3345 | FY34: =300*EU34*AV34 -> 1584.9359 | FZ34: =300*EV34*AW34 -> 2163.8269 | GA34: =300*EW34*AX34 -> 2929.8343 | GB34: =300*EX34*AY34 -> 4189.7717 | ... GW34: =300*FS34*BT34 -> 75510.634
A35: 31 | D35: C-4 | E35: 110 | F35: 0.0293 | G35: 1.5 | J35: 0.8 | K35: 66 | L35: =IF('Graph-Settings'!$I$6='Graph-Settings'!$C$46, K35, 'Graph-Settings'!$I$6) -> 66 | M35: =EXP(50*LN($J35)*(1/$L35-1/$K35)) -> 1 | N35: =$E35*(1-EXP(-$F35*N$31))^$G35 -> 5.2273777 | O35: =$E35*(1-EXP(-$F35*O$31))^$G35 -> 6.2280622 | P35: =$E35*(1-EXP(-$F35*P$31))^$G35 -> 7.4069663 | Q35: =$E35*(1-EXP(-$F35*Q$31))^$G35 -> 8.7911951 | R35: =$E35*(1-EXP(-$F35*R$31))^$G35 -> 10.410368 | S35: =$E35*(1-EXP(-$F35*S$31))^$G35 -> 12.29626 | T35: =$E35*(1-EXP(-$F35*T$31))^$G35 -> 14.482177 | U35: =$E35*(1-EXP(-$F35*U$31))^$G35 -> 17.001979 | ... AP35: =$E35*(1-EXP(-$F35*AP$31))^$G35 -> 79.407399 | AR35: =$M35*N35 -> 5.2273777 | AS35: =$M35*O35 -> 6.2280622 | AT35: =$M35*P35 -> 7.4069663 | AU35: =$M35*Q35 -> 8.7911951 | AV35: =$M35*R35 -> 10.410368 | AW35: =$M35*S35 -> 12.29626 | AX35: =$M35*T35 -> 14.482177 | AY35: =$M35*U35 -> 17.001979 | ... BT35: =$M35*AP35 -> 79.407399 | BW35: C-4 | CA35: =5*(1-EXP(-0.0164*L35))^2.24 -> 1.9794422 | CC35: 4 | CD35: 1.2 | CE35: =0.001*CC35^1.5*(460+25.9*$CC$1)^1.5 -> 1296.3699 | CF35: =CE35/(300*CA35) -> 2.1830559 | CI35: =IF(1-EXP(-0.23*(AR35-$CF35))<0, 0, 1-EXP(-0.23*(AR35-$CF35))) -> 0.50351103 | CJ35: =IF(1-EXP(-0.23*(AS35-$CF35))<0, 0, 1-EXP(-0.23*(AS35-$CF35))) -> 0.60558493 | CK35: =IF(1-EXP(-0.23*(AT35-$CF35))<0, 0, 1-EXP(-0.23*(AT35-$CF35))) -> 0.69925706 | CL35: =IF(1-EXP(-0.23*(AU35-$CF35))<0, 0, 1-EXP(-0.23*(AU35-$CF35))) -> 0.78126012 | CM35: =IF(1-EXP(-0.23*(AV35-$CF35))<0, 0, 1-EXP(-0.23*(AV35-$CF35))) -> 0.8492725 | CN35: =IF(1-EXP(-0.23*(AW35-$CF35))<0, 0, 1-EXP(-0.23*(AW35-$CF35))) -> 0.9023179 | CO35: =IF(1-EXP(-0.23*(AX35-$CF35))<0, 0, 1-EXP(-0.23*(AX35-$CF35))) -> 0.94091617 | CP35: =IF(1-EXP(-0.23*(AY35-$CF35))<0, 0, 1-EXP(-0.23*(AY35-$CF35))) -> 0.96690431 | ... DK35: =IF(1-EXP(-0.23*(BT35-$CF35))<0, 0, 1-EXP(-0.23*(BT35-$CF35))) -> 0.99999998 | DM35: =CI35*$CD35 -> 0.60421324 | DN35: =CJ35*$CD35 -> 0.72670192 | DO35: =CK35*$CD35 -> 0.83910847 | DP35: =CL35*$CD35 -> 0.93751214 | DQ35: =CM35*$CD35 -> 1.019127 | DR35: =CN35*$CD35 -> 1.0827815 | DS35: =CO35*$CD35 -> 1.1290994 | DT35: =CP35*$CD35 -> 1.1602852 | ... EO35: =DK35*$CD35 -> 1.2 | EQ35: =DM35+$CA35 -> 2.5836555 | ER35: =DN35+$CA35 -> 2.7061442 | ES35: =DO35+$CA35 -> 2.8185507 | ET35: =DP35+$CA35 -> 2.9169544 | EU35: =DQ35+$CA35 -> 2.9985692 | EV35: =DR35+$CA35 -> 3.0622237 | EW35: =DS35+$CA35 -> 3.1085416 | EX35: =DT35+$CA35 -> 3.1397274 | ... FS35: =EO35+$CA35 -> 3.1794422 | FU35: =300*EQ35*AR35 -> 4051.7229 | FV35: =300*ER35*AS35 -> 5056.2102 | FW35: =300*ES35*AT35 -> 6263.073 | FX35: =300*ET35*AU35 -> 7693.0545 | FY35: =300*EU35*AV35 -> 9364.8625 | FZ35: =300*EV35*AW35 -> 11296.17 | GA35: =300*EW35*AX35 -> 13505.535 | GB35: =300*EX35*AY35 -> 16014.474 | ... GW35: =300*FS35*BT35 -> 75741.371
A36: 32 | D36: C-5 | E36: 30 | F36: 0.0697 | G36: 4 | J36: 0.8 | K36: 56 | L36: =IF('Graph-Settings'!$I$6='Graph-Settings'!$C$46, K36, 'Graph-Settings'!$I$6) -> 56 | M36: =EXP(50*LN($J36)*(1/$L36-1/$K36)) -> 1 | N36: =$E36*(1-EXP(-$F36*N$31))^$G36 -> 0.19611808 | O36: =$E36*(1-EXP(-$F36*O$31))^$G36 -> 0.29830572 | P36: =$E36*(1-EXP(-$F36*P$31))^$G36 -> 0.44898284 | Q36: =$E36*(1-EXP(-$F36*Q$31))^$G36 -> 0.66789381 | R36: =$E36*(1-EXP(-$F36*R$31))^$G36 -> 0.98070583 | S36: =$E36*(1-EXP(-$F36*S$31))^$G36 -> 1.4194784 | T36: =$E36*(1-EXP(-$F36*T$31))^$G36 -> 2.0223105 | U36: =$E36*(1-EXP(-$F36*U$31))^$G36 -> 2.8316431 | ... AP36: =$E36*(1-EXP(-$F36*AP$31))^$G36 -> 27.610207 | AR36: =$M36*N36 -> 0.19611808 | AS36: =$M36*O36 -> 0.29830572 | AT36: =$M36*P36 -> 0.44898284 | AU36: =$M36*Q36 -> 0.66789381 | AV36: =$M36*R36 -> 0.98070583 | AW36: =$M36*S36 -> 1.4194784 | AX36: =$M36*T36 -> 2.0223105 | AY36: =$M36*U36 -> 2.8316431 | ... BT36: =$M36*AP36 -> 27.610207 | BW36: C-5 | CA36: =5*(1-EXP(-0.0149*L36))^2.48 -> 1.2181424 | CC36: 18 | CD36: 1.2 | CE36: =0.001*CC36^1.5*(460+25.9*$CC$1)^1.5 -> 12375.072 | CF36: =CE36/(300*CA36) -> 33.863233 | CI36: =IF(1-EXP(-0.23*(AR36-$CF36))<0, 0, 1-EXP(-0.23*(AR36-$CF36))) -> 0 | CJ36: =IF(1-EXP(-0.23*(AS36-$CF36))<0, 0, 1-EXP(-0.23*(AS36-$CF36))) -> 0 | CK36: =IF(1-EXP(-0.23*(AT36-$CF36))<0, 0, 1-EXP(-0.23*(AT36-$CF36))) -> 0 | CL36: =IF(1-EXP(-0.23*(AU36-$CF36))<0, 0, 1-EXP(-0.23*(AU36-$CF36))) -> 0 | CM36: =IF(1-EXP(-0.23*(AV36-$CF36))<0, 0, 1-EXP(-0.23*(AV36-$CF36))) -> 0 | CN36: =IF(1-EXP(-0.23*(AW36-$CF36))<0, 0, 1-EXP(-0.23*(AW36-$CF36))) -> 0 | CO36: =IF(1-EXP(-0.23*(AX36-$CF36))<0, 0, 1-EXP(-0.23*(AX36-$CF36))) -> 0 | CP36: =IF(1-EXP(-0.23*(AY36-$CF36))<0, 0, 1-EXP(-0.23*(AY36-$CF36))) -> 0 | ... DK36: =IF(1-EXP(-0.23*(BT36-$CF36))<0, 0, 1-EXP(-0.23*(BT36-$CF36))) -> 0 | DM36: =CI36*$CD36 -> 0 | DN36: =CJ36*$CD36 -> 0 | DO36: =CK36*$CD36 -> 0 | DP36: =CL36*$CD36 -> 0 | DQ36: =CM36*$CD36 -> 0 | DR36: =CN36*$CD36 -> 0 | DS36: =CO36*$CD36 -> 0 | DT36: =CP36*$CD36 -> 0 | ... EO36: =DK36*$CD36 -> 0 | EQ36: =DM36+$CA36 -> 1.2181424 | ER36: =DN36+$CA36 -> 1.2181424 | ES36: =DO36+$CA36 -> 1.2181424 | ET36: =DP36+$CA36 -> 1.2181424 | EU36: =DQ36+$CA36 -> 1.2181424 | EV36: =DR36+$CA36 -> 1.2181424 | EW36: =DS36+$CA36 -> 1.2181424 | EX36: =DT36+$CA36 -> 1.2181424 | ... FS36: =EO36+$CA36 -> 1.2181424 | FU36: =300*EQ36*AR36 -> 71.669923 | FV36: =300*ER36*AS36 -> 109.01365 | FW36: =300*ES36*AT36 -> 164.07751 | FX36: =300*ET36*AU36 -> 244.07693 | FY36: =300*EU36*AV36 -> 358.3918 | FZ36: =300*EV36*AW36 -> 518.73805 | GA36: =300*EW36*AX36 -> 739.03862 | GB36: =300*EX36*AY36 -> 1034.8034 | ... GW36: =300*FS36*BT36 -> 10089.949
A37: 33 | D37: C-6 | K37: 62 | L37: =IF('Graph-Settings'!$I$6='Graph-Settings'!$C$46, K37, 'Graph-Settings'!$I$6) -> 62 | AR37: =AR51+CI37*(AR52-AR51) -> 0.97265154 | AS37: =AS51+CJ37*(AS52-AS51) -> 1.3206604 | AT37: =AT51+CK37*(AT52-AT51) -> 1.7773349 | AU37: =AU51+CL37*(AU52-AU51) -> 2.3684916 | AV37: =AV51+CM37*(AV52-AV51) -> 3.1221235 | AW37: =AW51+CN37*(AW52-AW51) -> 4.0665811 | AX37: =AX51+CO37*(AX52-AX51) -> 5.2277568 | AY37: =AY51+CP37*(AY52-AY51) -> 10.871922 | ... BT37: =BT51+DK37*(BT52-BT51) -> 56.116963 | BW37: C-6 | CA37: =5*(1-EXP(-0.0149*L37))^2.48 -> 1.4260786 | CC37: =$CG$28 -> 6 | CD37: 1.8 | CE37: =0.001*CC37^1.5*(460+25.9*$CC$1)^1.5 -> 2381.5836 | CF37: =CE37/(300*CA37) -> 5.5667423 | CG37: =((1.5-0.00275*CC28)^4)/(460+(25.9*CC28))*1000 -> 0.77823696 | CI37: =IF(1-EXP(-0.23*(AR51-$CF37))<0, 0, 1-EXP(-0.23*(AR51-$CF37))) -> 0 | CJ37: =IF(1-EXP(-0.23*(AS51-$CF37))<0, 0, 1-EXP(-0.23*(AS51-$CF37))) -> 0 | CK37: =IF(1-EXP(-0.23*(AT51-$CF37))<0, 0, 1-EXP(-0.23*(AT51-$CF37))) -> 0 | CL37: =IF(1-EXP(-0.23*(AU51-$CF37))<0, 0, 1-EXP(-0.23*(AU51-$CF37))) -> 0 | CM37: =IF(1-EXP(-0.23*(AV51-$CF37))<0, 0, 1-EXP(-0.23*(AV51-$CF37))) -> 0 | CN37: =IF(1-EXP(-0.23*(AW51-$CF37))<0, 0, 1-EXP(-0.23*(AW51-$CF37))) -> 0 | CO37: =IF(1-EXP(-0.23*(AX51-$CF37))<0, 0, 1-EXP(-0.23*(AX51-$CF37))) -> 0 | CP37: =IF(1-EXP(-0.23*(AY51-$CF37))<0, 0, 1-EXP(-0.23*(AY51-$CF37))) -> 0.21608528 | ... DK37: =IF(1-EXP(-0.23*(BT51-$CF37))<0, 0, 1-EXP(-0.23*(BT51-$CF37))) -> 0.99540585 | DM37: =CI37*$CD37 -> 0 | DN37: =CJ37*$CD37 -> 0 | DO37: =CK37*$CD37 -> 0 | DP37: =CL37*$CD37 -> 0 | DQ37: =CM37*$CD37 -> 0 | DR37: =CN37*$CD37 -> 0 | DS37: =CO37*$CD37 -> 0 | DT37: =CP37*$CD37 -> 0.3889535 | ... EO37: =DK37*$CD37 -> 1.7917305 | EQ37: =DM37+$CA37 -> 1.4260786 | ER37: =DN37+$CA37 -> 1.4260786 | ES37: =DO37+$CA37 -> 1.4260786 | ET37: =DP37+$CA37 -> 1.4260786 | EU37: =DQ37+$CA37 -> 1.4260786 | EV37: =DR37+$CA37 -> 1.4260786 | EW37: =DS37+$CA37 -> 1.4260786 | EX37: =DT37+$CA37 -> 1.8150321 | ... FS37: =EO37+$CA37 -> 3.2178091 | FU37: =300*EQ37*AR37 -> 416.12327 | FV37: =300*ER37*AS37 -> 565.00968 | FW37: =300*ES37*AT37 -> 760.38579 | FX37: =300*ET37*AU37 -> 1013.2966 | FY37: =300*EU37*AV37 -> 1335.7181 | FZ37: =300*EV37*AW37 -> 1739.7793 | GA37: =300*EW37*AX37 -> 2236.5577 | GB37: =300*EX37*AY37 -> 5919.8665 | ... GW37: =300*FS37*BT37 -> 54172.103
A38: 34 | D38: C-7 | E38: 45 | F38: 0.0305 | G38: 2 | J38: 0.85 | K38: 106 | L38: =IF('Graph-Settings'!$I$6='Graph-Settings'!$C$46, K38, 'Graph-Settings'!$I$6) -> 106 | M38: =EXP(50*LN($J38)*(1/$L38-1/$K38)) -> 1 | N38: =$E38*(1-EXP(-$F38*N$31))^$G38 -> 0.83462264 | O38: =$E38*(1-EXP(-$F38*O$31))^$G38 -> 1.0534086 | P38: =$E38*(1-EXP(-$F38*P$31))^$G38 -> 1.3262372 | Q38: =$E38*(1-EXP(-$F38*Q$31))^$G38 -> 1.665051 | R38: =$E38*(1-EXP(-$F38*R$31))^$G38 -> 2.083842 | S38: =$E38*(1-EXP(-$F38*S$31))^$G38 -> 2.5987534 | T38: =$E38*(1-EXP(-$F38*T$31))^$G38 -> 3.2280674 | U38: =$E38*(1-EXP(-$F38*U$31))^$G38 -> 3.9920171 | ... AP38: =$E38*(1-EXP(-$F38*AP$31))^$G38 -> 30.06326 | AR38: =$M38*N38 -> 0.83462264 | AS38: =$M38*O38 -> 1.0534086 | AT38: =$M38*P38 -> 1.3262372 | AU38: =$M38*Q38 -> 1.665051 | AV38: =$M38*R38 -> 2.083842 | AW38: =$M38*S38 -> 2.5987534 | AX38: =$M38*T38 -> 3.2280674 | AY38: =$M38*U38 -> 3.9920171 | ... BT38: =$M38*AP38 -> 30.06326 | BW38: C-7 | BY38: =2*(1-EXP(-0.104*(BY28-70))) -> 1.7748195 | BZ38: =1.5*(1-EXP(-0.0201*L38)) -> 1.321851 | CA38: =IF(BY38>0, BZ38+BY38, BZ38) -> 3.0966704 | CC38: 10 | CD38: 0.5 | CE38: =0.001*CC38^1.5*(460+25.9*$CC$1)^1.5 -> 5124.3521 | CF38: =CE38/(300*CA38) -> 5.5159805 | CI38: =IF(1-EXP(-0.23*(AR38-$CF38))<0, 0, 1-EXP(-0.23*(AR38-$CF38))) -> 0 | CJ38: =IF(1-EXP(-0.23*(AS38-$CF38))<0, 0, 1-EXP(-0.23*(AS38-$CF38))) -> 0 | CK38: =IF(1-EXP(-0.23*(AT38-$CF38))<0, 0, 1-EXP(-0.23*(AT38-$CF38))) -> 0 | CL38: =IF(1-EXP(-0.23*(AU38-$CF38))<0, 0, 1-EXP(-0.23*(AU38-$CF38))) -> 0 | CM38: =IF(1-EXP(-0.23*(AV38-$CF38))<0, 0, 1-EXP(-0.23*(AV38-$CF38))) -> 0 | CN38: =IF(1-EXP(-0.23*(AW38-$CF38))<0, 0, 1-EXP(-0.23*(AW38-$CF38))) -> 0 | CO38: =IF(1-EXP(-0.23*(AX38-$CF38))<0, 0, 1-EXP(-0.23*(AX38-$CF38))) -> 0 | CP38: =IF(1-EXP(-0.23*(AY38-$CF38))<0, 0, 1-EXP(-0.23*(AY38-$CF38))) -> 0 | ... DK38: =IF(1-EXP(-0.23*(BT38-$CF38))<0, 0, 1-EXP(-0.23*(BT38-$CF38))) -> 0.99646794 | DM38: =CI38*$CD38 -> 0 | DN38: =CJ38*$CD38 -> 0 | DO38: =CK38*$CD38 -> 0 | DP38: =CL38*$CD38 -> 0 | DQ38: =CM38*$CD38 -> 0 | DR38: =CN38*$CD38 -> 0 | DS38: =CO38*$CD38 -> 0 | DT38: =CP38*$CD38 -> 0 | ... EO38: =DK38*$CD38 -> 0.49823397 | EQ38: =DM38+$CA38 -> 3.0966704 | ER38: =DN38+$CA38 -> 3.0966704 | ES38: =DO38+$CA38 -> 3.0966704 | ET38: =DP38+$CA38 -> 3.0966704 | EU38: =DQ38+$CA38 -> 3.0966704 | EV38: =DR38+$CA38 -> 3.0966704 | EW38: =DS38+$CA38 -> 3.0966704 | EX38: =DT38+$CA38 -> 3.0966704 | ... FS38: =EO38+$CA38 -> 3.5949044 | FU38: =300*EQ38*AR38 -> 775.36538 | FV38: =300*ER38*AS38 -> 978.61779 | FW38: =300*ES38*AT38 -> 1232.0759 | FX38: =300*ET38*AU38 -> 1546.8343 | FY38: =300*EU38*AV38 -> 1935.8915 | FZ38: =300*EV38*AW38 -> 2414.2449 | GA38: =300*EW38*AX38 -> 2998.8783 | GB38: =300*EX38*AY38 -> 3708.5884 | ... GW38: =300*FS38*BT38 -> 32422.363
A39: 35 | D39: D-1 | E39: 30 | F39: 0.0232 | G39: 1.6 | J39: 0.9 | K39: 32 | L39: =IF('Graph-Settings'!$I$6='Graph-Settings'!$C$46, K39, 'Graph-Settings'!$I$6) -> 32 | M39: =EXP(50*LN($J39)*(1/$L39-1/$K39)) -> 1 | N39: =$E39*(1-EXP(-$F39*N$31))^$G39 -> 0.81951542 | O39: =$E39*(1-EXP(-$F39*O$31))^$G39 -> 0.9908366 | P39: =$E39*(1-EXP(-$F39*P$31))^$G39 -> 1.1961318 | Q39: =$E39*(1-EXP(-$F39*Q$31))^$G39 -> 1.4414613 | R39: =$E39*(1-EXP(-$F39*R$31))^$G39 -> 1.733718 | S39: =$E39*(1-EXP(-$F39*S$31))^$G39 -> 2.08065 | T39: =$E39*(1-EXP(-$F39*T$31))^$G39 -> 2.490841 | U39: =$E39*(1-EXP(-$F39*U$31))^$G39 -> 2.9736336 | ... AP39: =$E39*(1-EXP(-$F39*AP$31))^$G39 -> 17.958379 | AR39: =$M39*N39 -> 0.81951542 | AS39: =$M39*O39 -> 0.9908366 | AT39: =$M39*P39 -> 1.1961318 | AU39: =$M39*Q39 -> 1.4414613 | AV39: =$M39*R39 -> 1.733718 | AW39: =$M39*S39 -> 2.08065 | AX39: =$M39*T39 -> 2.490841 | AY39: =$M39*U39 -> 2.9736336 | ... BT39: =$M39*AP39 -> 17.958379 | BW39: D-1 | CA39: =1.5*(1-EXP(-0.0183*L39)) -> 0.66484245 | DM39: =CI39*$CD39 -> 0 | DN39: =CJ39*$CD39 -> 0 | DO39: =CK39*$CD39 -> 0 | DP39: =CL39*$CD39 -> 0 | DQ39: =CM39*$CD39 -> 0 | DR39: =CN39*$CD39 -> 0 | DS39: =CO39*$CD39 -> 0 | DT39: =CP39*$CD39 -> 0 | ... EO39: =DK39*$CD39 -> 0 | EQ39: =DM39+$CA39 -> 0.66484245 | ER39: =DN39+$CA39 -> 0.66484245 | ES39: =DO39+$CA39 -> 0.66484245 | ET39: =DP39+$CA39 -> 0.66484245 | EU39: =DQ39+$CA39 -> 0.66484245 | EV39: =DR39+$CA39 -> 0.66484245 | EW39: =DS39+$CA39 -> 0.66484245 | EX39: =DT39+$CA39 -> 0.66484245 | ... FS39: =EO39+$CA39 -> 0.66484245 | FU39: =300*EQ39*AR39 -> 163.45459 | FV39: =300*ER39*AS39 -> 197.62507 | FW39: =300*ES39*AT39 -> 238.57177 | FX39: =300*ET39*AU39 -> 287.50339 | FY39: =300*EU39*AV39 -> 345.79481 | FZ39: =300*EV39*AW39 -> 414.99134 | GA39: =300*EW39*AX39 -> 496.80505 | GB39: =300*EX39*AY39 -> 593.09936 | ... GW39: =300*FS39*BT39 -> 3581.8477
